{"text_format":"1","workbook":"xlsx","n_sheets":7,"sheets":["はじめにお読みください ","採点なし","採点付","採点付(名簿) ","商品一覧 (公開模試)","商品パターン","発売日関数用"],"not_rendered":{"charts":0,"images":1,"macros":0,"external_links":13,"defined_names":115,"comments":5,"pivot_tables":0},"unopened":[],"bounds":{"document_bytes":16777216,"sheet_cells":100000,"rows_first":2000,"rows_last":500,"rows_between":2000,"halvings":0,"cell_chars":16384,"cell_head_chars":4096},"cells_cut":0,"cells_raw":0,"read":"whole","date_system":"1900"}

{"sheet":"はじめにお読みください ","index":0,"n_rows":46,"n_cols":3,"rows_kept":46,"cut":false,"hidden":false,"merged":[[41,0,41,2],[12,0,12,1],[13,0,13,1],[22,0,22,1],[23,0,23,1],[17,0,17,2],[18,0,18,2],[40,0,40,2]]}
["【会場試験開催規定】"]
["弊社は、全国統一公開模試会場試験及び基本情報技術者午前免除制度の修了試験において、次号の一つにでも該当する場合は、"]
["申込者及び受講生様に何ら告知することなく、会場試験の全部または一部の開催を中止できるものとします。"]
["この場合、申込者及び受講生様に生じた損害について、弊社は一切の責任を負いません。"]
[]
["１．火災、停電、感染症リスク等により、会場試験の提供ができなくなった場合"]
["２．地震、噴火、洪水、津波等の天災により会場試験の提供ができなくなった場合"]
["３．戦争、暴動、騒乱、労働争議等により会場試験の提供ができなくなった場合"]
["４．会場試験の運営に支障が生じると弊社が判断した場合"]
[]
["【書籍送料規定】"]
["対象商品：書籍"]
["ECサイトから申し込みの場合　お得！！",null,"申込書にて営業担当者にお申し込みの場合"]
[" ご注文の商品を発送する際には、１回のお申込みでかつ１ヵ所のお届け先につき、全国一律配送料5０0円（税抜）をお客様にご負担いただきます。\nなお、商品合計金額が3,000円（税込）以上の場合には、弊社にて配送料を負担させていただきます。（配送料には梱包料、手配料が含まれます）",null,"送付先一箇所につき10冊まで600円(税抜)、\n以降10冊ごとに600円（税抜）の送料(手数料込)がかかります。\n個別発送等、複数の場所へ商品を発送する場合は、\n『600円（税抜）×送付先数』の送料・手数料がかかります。"]
[]
["【書籍 PDF版 ご利用にあたって】"]
["対象商品：書籍"]
["ご利用にあたって"]
["・PDFファイルダウンロードに時間がかかる場合がございます。\n・ご購入いただいたPDFには,購入者のメールアドレスが埋め込まれます。\n・書籍（PDF版）（※収録されている画像およびデータを含む）の著作権は、株式会社アイテックならびにまたは株式会社アイテックが指定する者が\n　保有しています。購入者は、自らの利用のために利用することはできますが、事前の許可なく転載、複製、一部改変、頒布、譲渡、転送その他\n　これに類する行為を行ってはなりません。\n・書籍（PDF版）のお申込みにあたり、申込書への社印の押印をお願いいたします。\n　また、申込書のエクセルデータをメールでお送りいただいた後、社印押印された申込書をPDFデータにてお送りください。"]
[]
["【採点無し公開模試送料規定】"]
["対象商品：模試（採点なし）"]
["ECサイトから申し込みの場合　",null,"申込書にて営業担当者にお申し込みの場合"]
["この商品はECサイトからはお申込できません。申込書でお申し込みください。",null,"送料・手数料：送付先一箇所につき20冊まで600円（税抜）\n※20冊以下のお申込みでも、\n個別発送等、複数の場所へ商品を発送する場合は,\n『600円（税抜）×送付先数』の送料・手数料がかかります。"]
[]
["【キャンセルの取扱いについて】"]
["お客様のご都合により、お申込みをキャンセルされる場合は、下記の通りキャンセル料を申し受けます。"]
["お申込み前にご確認くださいますようお願いいたします。"]
["キャンセルのお申込みは担当営業までお電話くださいますようお願い申し上げます。"]
["TEL：０３－６８７８－８４５０　"]
[null,"キャンセル期限","キャンセル料"]
["セミナー","開催30日前まで\n（講座開始日から起算して31日目以前）","講座開始日から起算して30日目～15日目・・ 講座代金の30%\n講座開始日から起算して14日目～8日目・・ 講座代金の50%\n講座開始日から起算して 7日目～3日目・・ 講座代金の70%\n講座開始日前日および当日・・ 講座代金の全額\n*人数変更については、講座開催日から起算して14日目以前まで受付可能"]
["書籍","申込日の翌営業日12:00まで（注1)","発送後8日以内のキャンセルに関しては、キャンセル商品代金の30% （送付した教材はご返却願います）\nそれ以降はキャンセル不可"]
["書籍 PDF版","弊社までご確認ください","キャンセル不可\n"]
["WEB学習コース","申込日の翌営業日12:00まで（注1)","発送後8日以内のキャンセルに関しては、キャンセル商品代金の30% （送付した教材はご返却願います）\nそれ以降はキャンセル不可"]
["eラーニング","アカウント配信前日まで","アカウント配信後は　受講料の100%"]
["宿題メール","初回配信前日まで","初回配信後は　受講料の100%\n"]
["模試  自宅受験（採点付）","弊社までご確認ください","キャンセル不可\n"]
["模試  自宅受験（採点なし）","弊社までご確認ください","発送後8日以内のキャンセルに関しては、キャンセル商品代金の30% （送付した教材はご返却願います）\nそれ以降はキャンセル不可"]
["模試　会場受験","弊社までご確認ください","キャンセル不可\n"]
[" (注1) 申込日については、15:00までのお申込分を当日分といたします。15:00以降のお申込については翌営業日をお申込日として取り扱います。\n"]
["※キャンセル・返品につきましての送料は、お客様負担とさせていただきます。\n\n※お客様の取扱が原因で、梱包材を必要以上に破損したり、\n  商品又は付属品の紛失、損傷、汚損があった場合は、キャンセル、返品は お受けいたしかねます。"]
[]
["個人情報の取り扱いについて",null,"https://www.itec.co.jp/privacy/"]
["オンラインサービスご利用規約",null,"https://www.itec.co.jp/kiyaku/"]
["特定商取引に関する法律に基づく表記",null,"https://www.itec.co.jp/store/order/"]

{"sheet":"採点なし","index":1,"n_rows":135,"n_cols":47,"rows_kept":135,"cut":false,"hidden":false,"merged":[[134,25,134,27],[134,28,134,32],[137,2,137,22],[141,2,141,12],[142,2,142,12],[134,1,134,3],[134,4,134,7],[134,8,134,11],[134,12,134,15],[134,16,134,19],[134,20,134,22],[132,14,132,32],[133,1,133,3],[133,4,133,7],[133,8,133,11],[133,12,133,15],[133,16,133,19],[133,25,133,27],[133,28,133,32],[130,2,130,16],[130,21,130,22],[130,27,130,29],[130,30,130,32],[131,1,132,2],[131,4,131,8],[131,10,131,12],[131,14,131,32],[132,5,132,8],[132,10,132,12],[123,1,126,18],[123,19,123,22],[123,25,123,26],[123,27,123,29],[123,30,123,32],[124,19,124,22],[124,25,124,26],[124,27,124,29],[124,30,124,32],[125,19,125,22],[125,25,125,26],[125,27,125,29],[125,30,125,32],[128,1,128,9],[128,17,128,20],[128,21,128,22],[128,27,128,29],[128,30,128,32],[129,1,129,16],[129,17,130,20],[129,21,129,22],[129,27,129,29],[129,30,129,32],[120,25,120,26],[120,27,120,29],[120,30,120,32],[121,3,121,15],[121,16,121,18],[121,19,121,21],[121,22,121,24],[121,25,121,26],[121,30,121,32],[122,21,122,32],[116,3,116,18],[116,19,116,21],[116,25,116,26],[116,27,116,29],[116,30,116,32],[117,3,117,18],[117,19,117,21],[117,25,117,26],[117,27,117,29],[117,30,117,32],[121,27,121,29],[118,3,118,18],[118,19,118,21],[118,25,118,26],[118,27,118,29],[118,30,118,32],[119,3,119,18],[119,19,119,21],[119,25,119,26],[119,27,119,29],[119,30,119,32],[120,3,120,18],[120,19,120,21],[114,3,114,18],[114,19,114,21],[114,25,114,26],[114,27,114,29],[114,30,114,32],[115,3,115,18],[115,19,115,21],[115,25,115,26],[115,27,115,29],[115,30,115,32],[112,3,112,18],[112,19,112,21],[112,25,112,26],[112,27,112,29],[112,30,112,32],[113,3,113,18],[113,19,113,21],[113,25,113,26],[113,27,113,29],[113,30,113,32],[110,3,110,18],[110,19,110,21],[110,25,110,26],[110,27,110,29],[110,30,110,32],[111,3,111,18],[111,19,111,21],[111,25,111,26],[111,27,111,29],[111,30,111,32],[108,3,108,18],[108,19,108,21],[108,25,108,26],[108,27,108,29],[108,30,108,32],[109,3,109,18],[109,19,109,21],[109,25,109,26],[109,27,109,29],[109,30,109,32],[106,3,106,18],[106,19,106,21],[106,25,106,26],[106,27,106,29],[106,30,106,32],[107,3,107,18],[107,19,107,21],[107,25,107,26],[107,27,107,29],[107,30,107,32],[104,3,104,18],[104,19,104,21],[104,25,104,26],[104,27,104,29],[104,30,104,32],[105,3,105,18],[105,19,105,21],[105,25,105,26],[105,27,105,29],[105,30,105,32],[102,3,102,18],[102,19,102,21],[102,25,102,26],[102,27,102,29],[102,30,102,32],[103,3,103,18],[103,19,103,21],[103,25,103,26],[103,27,103,29],[103,30,103,32],[100,3,100,18],[100,19,100,21],[100,25,100,26],[100,27,100,29],[100,30,100,32],[101,3,101,18],[101,19,101,21],[101,25,101,26],[101,27,101,29],[101,30,101,32],[98,3,98,18],[98,19,98,21],[98,25,98,26],[98,27,98,29],[98,30,98,32],[99,3,99,18],[99,19,99,21],[99,25,99,26],[99,27,99,29],[99,30,99,32],[96,3,96,18],[96,19,96,21],[96,25,96,26],[96,27,96,29],[96,30,96,32],[97,3,97,18],[97,19,97,21],[97,25,97,26],[97,27,97,29],[97,30,97,32],[94,3,94,18],[94,19,94,21],[94,25,94,26],[94,27,94,29],[94,30,94,32],[95,3,95,18],[95,19,95,21],[95,25,95,26],[95,27,95,29],[95,30,95,32],[92,3,92,18],[92,19,92,21],[92,25,92,26],[92,27,92,29],[92,30,92,32],[93,3,93,18],[93,19,93,21],[93,25,93,26],[93,27,93,29],[93,30,93,32],[90,3,90,18],[90,19,90,21],[90,25,90,26],[90,27,90,29],[90,30,90,32],[91,3,91,18],[91,19,91,21],[91,25,91,26],[91,27,91,29],[91,30,91,32],[88,3,88,18],[88,19,88,21],[88,25,88,26],[88,27,88,29],[88,30,88,32],[89,3,89,18],[89,19,89,21],[89,25,89,26],[89,27,89,29],[89,30,89,32],[86,3,86,18],[86,19,86,21],[86,25,86,26],[86,27,86,29],[86,30,86,32],[87,3,87,18],[87,19,87,21],[87,25,87,26],[87,27,87,29],[87,30,87,32],[84,3,84,18],[84,19,84,21],[84,25,84,26],[84,27,84,29],[84,30,84,32],[85,3,85,18],[85,19,85,21],[85,25,85,26],[85,27,85,29],[85,30,85,32],[82,3,82,18],[82,19,82,21],[82,25,82,26],[82,27,82,29],[82,30,82,32],[83,3,83,18],[83,19,83,21],[83,25,83,26],[83,27,83,29],[83,30,83,32],[80,3,80,18],[80,19,80,21],[80,25,80,26],[80,27,80,29],[80,30,80,32],[81,3,81,18],[81,19,81,21],[81,25,81,26],[81,27,81,29],[81,30,81,32],[78,3,78,18],[78,19,78,21],[78,25,78,26],[78,27,78,29],[78,30,78,32],[79,3,79,18],[79,19,79,21],[79,25,79,26],[79,27,79,29],[79,30,79,32],[76,3,76,18],[76,19,76,21],[76,25,76,26],[76,27,76,29],[76,30,76,32],[77,3,77,18],[77,19,77,21],[77,25,77,26],[77,27,77,29],[77,30,77,32],[74,3,74,18],[74,19,74,21],[74,25,74,26],[74,27,74,29],[74,30,74,32],[75,3,75,18],[75,19,75,21],[75,25,75,26],[75,27,75,29],[75,30,75,32],[72,3,72,18],[72,19,72,21],[72,25,72,26],[72,27,72,29],[72,30,72,32],[73,3,73,18],[73,19,73,21],[73,25,73,26],[73,27,73,29],[73,30,73,32],[70,3,70,18],[70,19,70,21],[70,25,70,26],[70,27,70,29],[70,30,70,32],[71,3,71,18],[71,19,71,21],[71,25,71,26],[71,27,71,29],[71,30,71,32],[68,3,68,18],[68,19,68,21],[68,25,68,26],[68,27,68,29],[68,30,68,32],[69,3,69,18],[69,19,69,21],[69,25,69,26],[69,27,69,29],[69,30,69,32],[66,3,66,18],[66,19,66,21],[66,25,66,26],[66,27,66,29],[66,30,66,32],[67,3,67,18],[67,19,67,21],[67,25,67,26],[67,27,67,29],[67,30,67,32],[64,3,64,18],[64,19,64,21],[64,25,64,26],[64,27,64,29],[64,30,64,32],[65,3,65,18],[65,19,65,21],[65,25,65,26],[65,27,65,29],[65,30,65,32],[62,3,62,18],[62,19,62,21],[62,25,62,26],[62,27,62,29],[62,30,62,32],[63,3,63,18],[63,19,63,21],[63,25,63,26],[63,27,63,29],[63,30,63,32],[60,3,60,18],[60,19,60,21],[60,25,60,26],[60,27,60,29],[60,30,60,32],[61,3,61,18],[61,19,61,21],[61,25,61,26],[61,27,61,29],[61,30,61,32],[58,33,59,33],[59,3,59,15],[59,16,59,18],[59,19,59,21],[59,25,59,26],[59,27,59,29],[59,30,59,32],[54,1,54,2],[54,3,54,7],[54,8,54,12],[54,13,54,17],[55,1,55,2],[55,3,55,7],[55,8,55,12],[55,13,55,17],[50,14,50,16],[50,17,50,18],[52,1,52,7],[52,8,52,17],[53,1,53,2],[53,3,53,7],[53,8,53,12],[48,1,49,2],[48,3,48,8],[48,10,48,12],[49,3,49,8],[49,10,49,12],[50,1,50,2],[50,4,50,6],[50,9,50,11],[45,3,45,8],[45,10,45,12],[46,3,46,8],[46,10,46,12],[47,3,47,8],[47,10,47,12],[42,3,42,8],[42,10,42,12],[43,3,43,8],[43,10,43,12],[44,3,44,8],[44,10,44,12],[39,3,39,8],[39,10,39,12],[40,3,40,8],[40,10,40,12],[41,3,41,8],[41,10,41,12],[36,3,36,8],[36,10,36,12],[37,3,37,8],[37,10,37,12],[38,3,38,8],[38,10,38,12],[34,1,34,2],[34,3,34,8],[34,10,34,12],[35,3,35,8],[35,10,35,12],[30,3,30,8],[30,10,30,12],[31,3,31,8],[31,10,31,12],[32,3,32,8],[32,10,32,12],[29,1,29,23],[27,3,27,8],[27,9,27,14],[27,15,27,16],[27,17,27,19],[27,20,27,21],[27,23,27,24],[33,3,33,8],[33,10,33,12],[26,20,26,22],[26,23,26,24],[26,25,26,26],[26,27,26,32],[27,25,27,26],[27,27,27,32],[28,4,28,6],[28,7,28,22],[28,23,28,32],[21,25,21,26],[21,27,21,32],[22,25,22,26],[22,27,22,32],[23,4,23,6],[23,7,23,22],[23,23,23,32],[25,1,28,1],[25,3,25,14],[25,15,25,16],[25,17,25,19],[25,20,25,22],[22,3,22,8],[22,9,22,14],[22,15,22,16],[22,17,22,19],[22,20,22,21],[22,23,22,24],[25,23,25,24],[25,25,25,26],[25,27,25,32],[26,3,26,14],[26,15,26,16],[26,17,26,19],[17,25,17,26],[17,27,17,32],[18,4,18,6],[18,7,18,22],[18,23,18,32],[20,1,23,1],[20,3,20,14],[20,15,20,16],[20,17,20,19],[20,20,20,22],[17,3,17,8],[17,9,17,14],[17,15,17,16],[17,17,17,19],[17,20,17,21],[17,23,17,24],[20,23,20,24],[20,25,20,26],[20,27,20,32],[21,3,21,14],[21,15,21,16],[21,17,21,19],[21,20,21,22],[21,23,21,24],[15,25,15,26],[15,27,15,32],[16,3,16,14],[16,15,16,16],[16,17,16,19],[16,20,16,22],[16,23,16,24],[16,25,16,26],[16,27,16,32],[12,23,12,24],[15,1,18,1],[15,3,15,14],[15,15,15,16],[15,17,15,19],[15,20,15,22],[12,3,12,8],[12,9,12,14],[12,15,12,16],[12,17,12,19],[12,20,12,21],[15,23,15,24],[4,19,5,20],[4,21,5,26],[5,1,5,2],[7,4,7,26],[10,1,13,1],[10,3,10,14],[10,15,10,16],[10,17,10,19],[10,20,10,22],[10,23,10,24],[10,25,10,26],[13,4,13,6],[13,7,13,22],[13,23,13,32],[10,27,10,32],[11,3,11,14],[11,15,11,16],[11,17,11,19],[11,20,11,22],[11,23,11,24],[11,25,11,26],[11,27,11,32],[12,25,12,26],[12,27,12,32]]}
[10]
[10]
[]
[]
[null,null,null,null,null,null,null,null,null,null,null,null,null,null,null,null,null,null,null,"申込日"]
[null,"2023年春",null,"申込書(採点なし)"]
[null,"「はじめにお読み下さい」の内容を承諾の上、以下の通り購入申込みを行います。"]
[null,null,null,null," "]
[null,"１．各担当者情報設定"]
[null,"ご担当者のご記入をお願いいたします。赤色は必須項目です"]
[null,"ご担当者","フリガナ",null,null,null,null,null,null,null,null,null,null,null,null,"フリガナ",null,null,null,null,null,null,null,null,null,"TEL",null,null,null,null,null,null,null,null,null,"無し","0","選択してください↓","9","教材と同じ",{"$f":"$J$31","v":"1"},"無し","8","無し","8","選択してください↓","9"]
[null,null,"会社名",null,null,null,null,null,null,null,null,null,null,null,null,"氏 名",null,null,null,null,null,null,null,null,null,"FAX",null,null,null,null,null,null,null,null,null,"有り","1","個人","0","個人","0","個人","0","担当者","1","担当者","1"]
[null,null,"所 属",null,null,null,null,null,null,null,null,null,null,null,null,"役 職",null,null,null,null,null,null,null,null,null,"e-Mail",null,null,null,null,null,null,null,null,null,null,null,"担当者","1","担当者","1","担当者","1","請求先","2","請求先","2"]
[null,null,"住 所","〒",null,null,null,null,null,null,null,null,null,null,null,null,null,null,null,null,null,null,null,null,null,null,null,null,null,null,null,null,null,null,null,null,null,"請求先","2","請求先","2","請求先","2","企業担当者","3","企業担当者","3"]
[null,"ご担当者と請求先が異なる場合はご記入をお願いいたします。",null,null,null,null,null,null,null,null,null,null,null,null,null,null,null,null,null,null,null,null,null,null,null,null,null,null,null,null,null,null,null,null,null,null,null,"企業担当者","3","企業担当者","3","企業担当者","3","企業担当者2","4","企業担当者2","4"]
[null,"請求先","フリガナ",null,null,null,null,null,null,null,null,null,null,null,null,"フリガナ",null,null,null,null,null,null,null,null,null,"TEL",null,null,null,null,null,null,null,null,null,null,null,"企業担当者2","4","企業担当者2","4","企業担当者2","4"]
[null,null,"会社名",null,null,null,null,null,null,null,null,null,null,null,null,"氏 名",null,null,null,null,null,null,null,null,null,"FAX"]
[null,null,"所 属",null,null,null,null,null,null,null,null,null,null,null,null,"役 職",null,null,null,null,null,null,null,null,null,"e-Mail"]
[null,null,"住 所","〒"]
[null,"発送先・成績管理者で「企業担当者」を指定する場合はご記入をお願いいたします。"]
[null,"企業担当者","フリガナ",null,null,null,null,null,null,null,null,null,null,null,null,"フリガナ",null,null,null,null,null,null,null,null,null,"TEL"]
[null,null,"会社名",null,null,null,null,null,null,null,null,null,null,null,null,"氏 名",null,null,null,null,null,null,null,null,null,"FAX"]
[null,null,"所 属",null,null,null,null,null,null,null,null,null,null,null,null,"役 職",null,null,null,null,null,null,null,null,null,"e-Mail"]
[null,null,"住 所","〒"]
[]
[null,"企業担当者2","フリガナ",null,null,null,null,null,null,null,null,null,null,null,null,"フリガナ",null,null,null,null,null,null,null,null,null,"TEL"]
[null,null,"会社名",null,null,null,null,null,null,null,null,null,null,null,null,"氏 名",null,null,null,null,null,null,null,null,null,"FAX"]
[null,null,"所 属",null,null,null,null,null,null,null,null,null,null,null,null,"役 職",null,null,null,null,null,null,null,null,null,"e-Mail"]
[null,null,"住 所","〒"]
[null,"２．お届け先指定・成績管理者設定・修了書送付先・修了条件設定　赤色は必須項目です"]
[null,"①教材お届け先",null,"個別・一括",null,null,null,null,null,{"$f":"VLOOKUP($K$31,$AL$11:$AM$16,2,FALSE)","v":"1"},"担当者",null,null,{"$f":"IF(J31=\"3\",IF(OR($D$22=\"\",$R$22=\"\",$H$24=\"\",$AB$21=\"\"),\"企業担当者情報を入力してください\",\"\"),IF(J31=\"2\",IF(OR($D$17=\"\",$R$17=\"\",$H$19=\"\",$AB$16=\"\"),\"請求先情報を入力してください\",\"\"),IF(J31=\"4\",IF(OR($D$27=\"\",$R$27=\"\",$H$29=\"\",$AB$26=\"\"),\"企業担当者2情報を入力してください\",\"\"),IF(J31=0,\"教材発送先を選択してください\",\"\"))))","v":""}]
[null,null,null,"着日指定（初回出荷時）"]
[null,null,null,"同梱品",null,null,null,null,null,{"$f":"VLOOKUP($K$33,$AJ$11:$AK$12,2,FALSE)","v":"0"},"無し"]
[null,null,null,"個別梱包",null,null,null,null,null,{"$f":"VLOOKUP($K$34,$AJ$11:$AK$12,2,FALSE)","v":"0"},"無し"]
[null,"②評価採点票\n　送付先",null,"個人評価採点票\n(公開模試は解答解説も含む)",null,null,null,null,null,{"$f":"IF($K$35=\"教材と同じ\",$J$31,VLOOKUP($K$35,$AN$11:$AO$16,2,FALSE))","v":"1"},"教材と同じ",null,null,{"$f":"IF(J35=\"3\",IF(OR($D$22=\"\",$R$22=\"\",$H$24=\"\",$AB$21=\"\"),\"企業担当者情報を入力してください\",\"\"),IF(J35=\"2\",IF(OR($D$17=\"\",$R$17=\"\",$H$19=\"\",$AB$16=\"\"),\"請求先情報を入力してください\",\"\"),IF(J35=\"4\",IF(OR($D$27=\"\",$R$27=\"\",$H$29=\"\",$AB$26=\"\"),\"企業担当者2情報を入力してください\",\"\"),\"\")))","v":""}]
[null,null,null,"個人評価採点票（控）",null,null,null,null,null,{"$f":"VLOOKUP($K$36,$AP$11:$AQ$16,2,FALSE)","v":"8"},"無し",null,null,"",null,null,null,null,null,{"$f":"IF(AND(J35=\"0\",J36=\"0\"),\"個人評価採点票が個人の場合、(控）を個人にはできません。\",\"\")","v":""}]
[null,"③修了証送付先",null,"修了証送付先",null,null,null,null,null,{"$f":"IF($K$37=\"教材と同じ\",$J$31,VLOOKUP($K$37,$AN$11:$AO$16,2,FALSE))","v":"1"},"教材と同じ",null,null,""]
[null,null,null,"スーパーグレース",null,null,null,null,null,{"$f":"VLOOKUP($K$38,$AR$11:$AS$15,2,FALSE)","v":"8"},"無し",null,null,""]
[null,null,null,"後送教材",null,null,null,null,null,{"$f":"IF($K$39=\"教材と同じ\",$J$31,VLOOKUP($K$39,$AN$11:$AO$16,2,FALSE))","v":"1"},"教材と同じ",null,null,""]
[null,null,null,"総合摸試問題",null,null,null,null,null,{"$f":"IF($K$40=\"教材と同じ\",$J$31,VLOOKUP($K$40,$AN$11:$AO$16,2,FALSE))","v":"1"},"教材と同じ",null,null,""]
[null,null,null,"総合摸試評価採点票＋解答解説",null,null,null,null,null,{"$f":"IF($K$41=\"教材と同じ\",$J$31,VLOOKUP($K$41,$AN$11:$AO$16,2,FALSE))","v":"1"},"教材と同じ",null,null,""]
[null,null,null,"総合摸試評価採点票（控）",null,null,null,null,null,{"$f":"VLOOKUP($K$42,$AP$11:$AQ$16,2,FALSE)","v":"8"},"無し",null,null,"",null,null,null,null,null,{"$f":"IF(AND(K42<>\"無し\",J41=J42),\"総合摸試評価採点票（控）は総合摸試評価採点票と別の項目を選択してください\",\"\")","v":""}]
[null,null,null,"公開模試受験票",null,null,null,null,null,{"$f":"IF($K$43=\"教材と同じ\",$J$31,VLOOKUP($K$43,$AN$11:$AO$16,2,FALSE))","v":"1"},"教材と同じ",null,null,""]
[null,null,null,"公開摸試問題",null,null,null,null,null,{"$f":"IF($K$44=\"教材と同じ\",$J$31,VLOOKUP($K$44,$AN$11:$AO$16,2,FALSE))","v":"1"},"教材と同じ",null,null,""]
[null,null,null,"公開摸試評価採点票＋解答解説",null,null,null,null,null,{"$f":"IF($K$45=\"教材と同じ\",$J$31,VLOOKUP($K$45,$AN$11:$AO$16,2,FALSE))","v":"1"},"教材と同じ",null,null,""]
[null,null,null,"公開摸試評価採点票（控）",null,null,null,null,null,{"$f":"VLOOKUP($K$46,$AP$11:$AQ$16,2,FALSE)","v":"8"},"無し",null,null,"",null,null,null,null,null,{"$f":"IF(AND(K46<>\"無し\",J45=J46),\"公開模試評価採点票（控）は公開模試評価採点票と別の項目を選択してください\",\"\")","v":""}]
[null,null,null,null,null,null,null,null,null,null,null,null,null,""]
[null,null,null,null,null,null,null,null,null,null,null,null,null,""]
[null,"④成績管理者設定",null,"成績管理者(通教は成績一覧表）",null,null,null,null,null,{"$f":"VLOOKUP($K$49,$AR$11:$AS$15,2,FALSE)","v":"8"},"無し",null,null,""]
[null,null,null,"成績管理者２",null,null,null,null,null,{"$f":"VLOOKUP($K$50,$AR$11:$AS$15,2,FALSE)","v":"8"},"無し",null,null,"",null,null,null,null,null,{"$f":"IF(AND(J50<>\"8\",J49=J50),\"成績管理者２は成績管理者と別の項目を選択してください\",\"\")","v":""}]
[null,"⑤修了条件",null,{"$f":"IF(E51=\"標準\",\"0\",\"1\")","v":"0"},"標準",null,null,"対象",{"$f":"IF(J51=\"模擬試験を除く\",\"0\",IF(J51=\"全て\",\"1\",\"\"))","v":"1"},"全て",null,null,"条件",{"$f":"IF(O51=\"最低点\",\"0\",IF(O51=\"最低％\",\"2\",IF(O51=\"平均％\",\"3\",\"\")))","v":"0"},"最低点",null,null,1,null,"以上",null,{"$f":"IF(AND(D51=\"1\",OR(I51=\"\",N51=\"\",R51=\"\")),\"対象、条件、数値をすべて入力してください\",\"\")","v":""}]
[]
[]
[]
[]
[]
[]
[]
[null,"３．お申込商品、数量　　　"]
[null,"No.","商品コード\n（半角）","商品名（コース・教材）",null,null,null,null,null,null,null,null,null,null,null,null,null,null,null,"標準価格\n（税抜）",null,null,{"$f":"IF(SUM(W61:W121)<>0,\"割引(税抜)\",\"－\")","v":"割引(税抜)"},null,null,"お申込み\n数量",null,"税抜価格",null,null,"備考"]
[{"$f":"IF(D61<>\"\",D61,\"\")","v":"２０２３春　応用情報技術者　全国統一公開模試　（採点なし）"},1,501104,"２０２３春　応用情報技術者　全国統一公開模試　（採点なし）",null,null,null,null,null,null,null,null,null,null,null,null,null,null,null,3700,null,null,{"$f":"T61*0.9","v":3330},null,null,null,null,{"$f":"IFERROR(IF(W61>0,W61*Z61,IF(Z61>0,T61*Z61,\"\")),\"\")","v":0},null,null,{"$f":"IFERROR(IF(W61>0,1-(W61/T61),\"\"),\"\")","v":9.9999999999999978E-2},null,null,null,{"$f":"IF($J$31=\"0\",IF(Z61>AH61,\"名簿の数量が\"&Z61-AH61&\"不足しています。\",IF(Z61<AH61,\"申込書の数量が\"&AH61-Z61&\"不足しています\",\"\")),\"\")","v":""}]
["２０２３春　情報処理安全確保支援士　全国統一公開模試　（採点なし）",2,501106,"２０２３春　情報処理安全確保支援士　全国統一公開模試　（採点なし）",null,null,null,null,null,null,null,null,null,null,null,null,null,null,null,4500,null,null,{"$f":"T62*0.9","v":4050},null,null,null,null,{"$f":"IFERROR(IF(W62>0,W62*Z62,IF(Z62>0,T62*Z62,\"\")),\"\")","v":0},null,null,{"$f":"IFERROR(IF(W62>0,1-(W62/T62),\"\"),\"\")","v":9.9999999999999978E-2},null,null,null,{"$f":"IF($J$31=\"0\",IF(Z62>AH62,\"名簿の数量が\"&Z62-AH62&\"不足しています。\",IF(Z62<AH62,\"申込書の数量が\"&AH62-Z62&\"不足しています\",\"\")),\"\")","v":""}]
[{"$f":"IF(D63<>\"\",D63,\"\")","v":"２０２３　ネットワークスペシャリスト　全国統一公開模試　（採点なし）"},3,501108,"２０２３　ネットワークスペシャリスト　全国統一公開模試　（採点なし）",null,null,null,null,null,null,null,null,null,null,null,null,null,null,null,4500,null,null,4050,null,null,null,null,{"$f":"IFERROR(IF(W63>0,W63*Z63,IF(Z63>0,T63*Z63,\"\")),\"\")","v":0},null,null,9.9999999999999978E-2,null,null,null,""]
[{"$f":"IF(D64<>\"\",D64,\"\")","v":"２０２３　ＩＴストラテジスト　全国統一公開模試　（採点なし）"},4,501110,"２０２３　ＩＴストラテジスト　全国統一公開模試　（採点なし）",null,null,null,null,null,null,null,null,null,null,null,null,null,null,null,4500,null,null,4050,null,null,null,null,{"$f":"IFERROR(IF(W64>0,W64*Z64,IF(Z64>0,T64*Z64,\"\")),\"\")","v":0},null,null,9.9999999999999978E-2,null,null,null,""]
["２０２３　システムアーキテクト　全国統一公開模試　（採点なし）",5,501112,"２０２３　システムアーキテクト　全国統一公開模試　（採点なし）",null,null,null,null,null,null,null,null,null,null,null,null,null,null,null,4500,null,null,4050,null,null,null,null,0,null,null,9.9999999999999978E-2,null,null,null,""]
["２０２３　ＩＴサービスマネージャ　全国統一公開模試　（採点なし）",6,501114,"２０２３　ＩＴサービスマネージャ　全国統一公開模試　（採点なし）",null,null,null,null,null,null,null,null,null,null,null,null,null,null,null,4500,null,null,4050,null,null,null,null,0,null,null,9.9999999999999978E-2,null,null,null,""]
["",7,null,null,null,null,null,null,null,null,null,null,null,null,null,null,null,null,null,null,null,null,null,null,null,null,null,"",null,null,"",null,null,null,""]
["",8,null,null,null,null,null,null,null,null,null,null,null,null,null,null,null,null,null,null,null,null,null,null,null,null,null,"",null,null,"",null,null,null,""]
["",9,null,"",null,null,null,null,null,null,null,null,null,null,null,null,null,null,null,"",null,null,null,null,null,null,null,"",null,null,"",null,null,null,""]
["",10,null,"",null,null,null,null,null,null,null,null,null,null,null,null,null,null,null,"",null,null,null,null,null,null,null,"",null,null,"",null,null,null,""]
["",11,null,"",null,null,null,null,null,null,null,null,null,null,null,null,null,null,null,"",null,null,null,null,null,null,null,"",null,null,"",null,null,null,""]
["",12,null,"",null,null,null,null,null,null,null,null,null,null,null,null,null,null,null,"",null,null,null,null,null,null,null,"",null,null,"",null,null,null,""]
["",13,null,"",null,null,null,null,null,null,null,null,null,null,null,null,null,null,null,"",null,null,null,null,null,null,null,"",null,null,"",null,null,null,""]
["",14,null,"",null,null,null,null,null,null,null,null,null,null,null,null,null,null,null,"",null,null,null,null,null,null,null,"",null,null,"",null,null,null,""]
["",15,null,"",null,null,null,null,null,null,null,null,null,null,null,null,null,null,null,"",null,null,null,null,null,null,null,"",null,null,"",null,null,null,""]
["",16,null,"",null,null,null,null,null,null,null,null,null,null,null,null,null,null,null,"",null,null,null,null,null,null,null,"",null,null,"",null,null,null,""]
["",17,null,"",null,null,null,null,null,null,null,null,null,null,null,null,null,null,null,"",null,null,null,null,null,null,null,"",null,null,"",null,null,null,""]
["",18,null,"",null,null,null,null,null,null,null,null,null,null,null,null,null,null,null,"",null,null,null,null,null,null,null,"",null,null,"",null,null,null,""]
["",19,null,"",null,null,null,null,null,null,null,null,null,null,null,null,null,null,null,"",null,null,null,null,null,null,null,"",null,null,"",null,null,null,""]
["",20,null,"",null,null,null,null,null,null,null,null,null,null,null,null,null,null,null,"",null,null,null,null,null,null,null,"",null,null,"",null,null,null,""]
["",21,null,"",null,null,null,null,null,null,null,null,null,null,null,null,null,null,null,"",null,null,null,null,null,null,null,"",null,null,"",null,null,null,""]
["",22,null,"",null,null,null,null,null,null,null,null,null,null,null,null,null,null,null,"",null,null,null,null,null,null,null,"",null,null,"",null,null,null,""]
["",23,null,"",null,null,null,null,null,null,null,null,null,null,null,null,null,null,null,"",null,null,null,null,null,null,null,"",null,null,"",null,null,null,""]
["",24,null,"",null,null,null,null,null,null,null,null,null,null,null,null,null,null,null,"",null,null,null,null,null,null,null,"",null,null,"",null,null,null,""]
["",25,null,"",null,null,null,null,null,null,null,null,null,null,null,null,null,null,null,"",null,null,null,null,null,null,null,"",null,null,"",null,null,null,""]
["",26,null,"",null,null,null,null,null,null,null,null,null,null,null,null,null,null,null,"",null,null,null,null,null,null,null,"",null,null,"",null,null,null,""]
["",27,null,"",null,null,null,null,null,null,null,null,null,null,null,null,null,null,null,"",null,null,null,null,null,null,null,"",null,null,"",null,null,null,""]
["",28,null,"",null,null,null,null,null,null,null,null,null,null,null,null,null,null,null,"",null,null,null,null,null,null,null,"",null,null,"",null,null,null,""]
["",29,null,"",null,null,null,null,null,null,null,null,null,null,null,null,null,null,null,"",null,null,null,null,null,null,null,"",null,null,"",null,null,null,""]
["",30,null,"",null,null,null,null,null,null,null,null,null,null,null,null,null,null,null,"",null,null,null,null,null,null,null,"",null,null,"",null,null,null,""]
["",31,null,"",null,null,null,null,null,null,null,null,null,null,null,null,null,null,null,"",null,null,null,null,null,null,null,"",null,null,"",null,null,null,""]
["",32,null,"",null,null,null,null,null,null,null,null,null,null,null,null,null,null,null,"",null,null,null,null,null,null,null,"",null,null,"",null,null,null,""]
["",33,null,"",null,null,null,null,null,null,null,null,null,null,null,null,null,null,null,"",null,null,null,null,null,null,null,"",null,null,"",null,null,null,""]
["",34,null,"",null,null,null,null,null,null,null,null,null,null,null,null,null,null,null,"",null,null,null,null,null,null,null,"",null,null,"",null,null,null,""]
["",35,null,"",null,null,null,null,null,null,null,null,null,null,null,null,null,null,null,"",null,null,null,null,null,null,null,"",null,null,"",null,null,null,""]
["",36,null,"",null,null,null,null,null,null,null,null,null,null,null,null,null,null,null,"",null,null,null,null,null,null,null,"",null,null,"",null,null,null,""]
["",37,null,"",null,null,null,null,null,null,null,null,null,null,null,null,null,null,null,"",null,null,null,null,null,null,null,"",null,null,"",null,null,null,""]
["",38,null,"",null,null,null,null,null,null,null,null,null,null,null,null,null,null,null,"",null,null,null,null,null,null,null,"",null,null,"",null,null,null,""]
["",39,null,"",null,null,null,null,null,null,null,null,null,null,null,null,null,null,null,"",null,null,null,null,null,null,null,"",null,null,"",null,null,null,""]
["",40,null,"",null,null,null,null,null,null,null,null,null,null,null,null,null,null,null,"",null,null,null,null,null,null,null,"",null,null,"",null,null,null,""]
["",41,null,"",null,null,null,null,null,null,null,null,null,null,null,null,null,null,null,"",null,null,null,null,null,null,null,"",null,null,"",null,null,null,""]
["",42,null,"",null,null,null,null,null,null,null,null,null,null,null,null,null,null,null,"",null,null,null,null,null,null,null,"",null,null,"",null,null,null,""]
["",43,null,"",null,null,null,null,null,null,null,null,null,null,null,null,null,null,null,"",null,null,null,null,null,null,null,"",null,null,"",null,null,null,""]
["",44,null,"",null,null,null,null,null,null,null,null,null,null,null,null,null,null,null,"",null,null,null,null,null,null,null,"",null,null,"",null,null,null,""]
["",45,null,"",null,null,null,null,null,null,null,null,null,null,null,null,null,null,null,"",null,null,null,null,null,null,null,"",null,null,"",null,null,null,""]
["",46,null,"",null,null,null,null,null,null,null,null,null,null,null,null,null,null,null,"",null,null,null,null,null,null,null,"",null,null,"",null,null,null,""]
["",47,null,"",null,null,null,null,null,null,null,null,null,null,null,null,null,null,null,"",null,null,null,null,null,null,null,"",null,null,"",null,null,null,""]
["",48,null,"",null,null,null,null,null,null,null,null,null,null,null,null,null,null,null,"",null,null,null,null,null,null,null,"",null,null,"",null,null,null,""]
["",49,null,"",null,null,null,null,null,null,null,null,null,null,null,null,null,null,null,"",null,null,null,null,null,null,null,"",null,null,"",null,null,null,""]
["",50,null,"",null,null,null,null,null,null,null,null,null,null,null,null,null,null,null,"",null,null,null,null,null,null,null,"",null,null,"",null,null,null,""]
["",51,null,"",null,null,null,null,null,null,null,null,null,null,null,null,null,null,null,"",null,null,null,null,null,null,null,"",null,null,"",null,null,null,""]
["",52,null,"",null,null,null,null,null,null,null,null,null,null,null,null,null,null,null,"",null,null,null,null,null,null,null,"",null,null,"",null,null,null,""]
["",53,null,"",null,null,null,null,null,null,null,null,null,null,null,null,null,null,null,"",null,null,null,null,null,null,null,"",null,null,"",null,null,null,""]
["",54,null,"",null,null,null,null,null,null,null,null,null,null,null,null,null,null,null,"",null,null,null,null,null,null,null,"",null,null,"",null,null,null,""]
["",55,null,"",null,null,null,null,null,null,null,null,null,null,null,null,null,null,null,"",null,null,null,null,null,null,null,"",null,null,"",null,null,null,""]
["",56,null,"",null,null,null,null,null,null,null,null,null,null,null,null,null,null,null,"",null,null,null,null,null,null,null,"",null,null,"",null,null,null,""]
["",57,null,"",null,null,null,null,null,null,null,null,null,null,null,null,null,null,null,"",null,null,null,null,null,null,null,"",null,null,"",null,null,null,""]
["",58,null,"",null,null,null,null,null,null,null,null,null,null,null,null,null,null,null,"",null,null,null,null,null,null,null,"",null,null,"",null,null,null,""]
["",9,null,"",null,null,null,null,null,null,null,null,null,null,null,null,null,null,null,"",null,null,null,null,null,null,null,"",null,null,"",null,null,null,""]
["",10,null,"",null,null,null,null,null,null,null,null,null,null,null,null,null,null,null,"",null,null,null,null,null,null,null,"",null,null,""]
["送料（手数料込）",null,"000005","送料（手数料込）",null,null,null,null,null,null,null,null,null,null,null,null,null,null,null,600,null,null,null,null,null,"0",null,{"$f":"IF(W121>0,W121*Z121,IF(Z121>0,T121*Z121,\"\"))","v":0},null,null,{"$f":"IF(W121>0,1-(W121/T121),\"\")","v":""}]
["",null,null,null,null,null,null,null,null,null,null,null,null,null,null,null,null,null,null,null,null,null,null,null,null,null,null,{"$f":"IF(W122>0,W122*Z122,IF(Z122>0,#REF!*Z122,\"\"))","v":""},null,null,{"$f":"IF(W122>0,1-(W122/#REF!),\"\")","v":""}]
["",null,"【注意点】"]
[null,"「はじめにお読み下さい」の内容をご確認いただき承諾の上、購入申込みをお願いいたします。\n\t\t\t\t\t\n【採点無し公開模試送料規定】\t\t\t\t\t\t\t\t\t\t\n対象商品：模試（採点なし）\t\t\t\t\t\t\t\t\t\t\t\t\t\t\t\t\t\t\t\t\n①申込書にて営業担当者にお申し込みの場合\t\t\t\t\t\t\t\t\t\n\"送料・手数料：送付先一箇所につき20冊まで600円（税抜）\n※20冊以下のお申込みでも、異なる複数の場所へ商品を発送する場合は　\n『600円（税抜）×送付先数』の送料・手数料がかかります。",null,null,null,null,null,null,null,null,null,null,null,null,null,null,null,null,null,"税抜合計価格",null,null,null,null,null,{"$f":"SUM(Z61:AA120)","v":0},null,{"$f":"SUM(AB61:AB123)","v":0}]
[null,null,null,null,null,null,null,null,null,null,null,null,null,null,null,null,null,null,null,"消費税",null,null,null,null,null,null,null,{"$f":"ROUNDDOWN(INT(AB124*0.1),0)","v":0}]
[null,null,null,null,null,null,null,null,null,null,null,null,null,null,null,null,null,null,null,"税込合計価格",null,null,null,null,null,null,null,{"$f":"AB124+AB125","v":0}]
[]
[null,"アイテック記入欄"]
[null,"請求書への印字指示・・・必ず文の最初に＠を入れて下さい。",null,null,null,null,null,null,null,null,null,null,null,null,null,null,null,"合算：受注番号",null,null,null,"営業１",null,null,"営業２"]
[]
[null,"備考",null,null,null,null,null,null,null,null,null,null,null,null,null,null,null,null,null,null,null,"徳"]
[null,"請求",null,"形態","単体",null,null,null,null,"日付"]
[null,null,null,"方法",{"$f":"IF(F133=\"初回出荷後全請求\",\"2\",IF(F133=\"一括請求\",\"3\",IF(F133=\"分割請求\",\"4\",IF(F133=\"請求待ち\",\"5\",IF(F133=\"出荷都度請求\",\"0\",IF(F133=\"完納時請求\",\"1\",\"\"))))))","v":"3"},"一括請求",null,null,null,"日付"]
[null,"得意先コード",null,null,"得意先担当者コード",null,null,null,"請求先コード",null,null,null,"請求先担当者コード",null,null,null,"企業①コード",null,null,null,"企業担当者①コード",null,null,null,null,"企業②コード",null,null,"企業担当者②コード"]
[null,null,null,null,null,null,null,null,1289,null,null,null,2]

{"sheet":"採点付","index":2,"n_rows":135,"n_cols":47,"rows_kept":135,"cut":false,"hidden":false,"merged":[[107,25,107,26],[108,25,108,26],[114,25,114,26],[115,25,115,26],[116,25,116,26],[134,20,134,22],[133,25,133,27],[134,25,134,27],[133,28,133,32],[134,28,134,32],[130,30,130,32],[121,27,121,29],[121,30,121,32],[121,19,121,21],[121,22,121,24],[121,25,121,26],[128,27,128,29],[128,30,128,32],[123,25,123,26],[123,27,123,29],[123,30,123,32],[124,25,124,26],[124,27,124,29],[109,19,109,21],[131,10,131,12],[131,14,131,32],[132,5,132,8],[132,10,132,12],[132,14,132,32],[129,1,129,16],[129,17,130,20],[129,27,129,29],[129,30,129,32],[130,2,130,16],[130,27,130,29],[129,21,129,22],[130,21,130,22],[131,4,131,8],[128,1,128,9],[128,17,128,20],[128,21,128,22],[120,27,120,29],[120,30,120,32],[122,21,122,32],[34,1,34,2],[29,1,29,23],[134,1,134,3],[134,4,134,7],[134,8,134,11],[134,12,134,15],[134,16,134,19],[133,1,133,3],[133,4,133,7],[133,8,133,11],[133,12,133,15],[133,16,133,19],[121,3,121,15],[121,16,121,18],[116,19,116,21],[131,1,132,2],[120,19,120,21],[120,25,120,26],[118,3,118,18],[119,3,119,18],[120,3,120,18],[119,19,119,21],[119,27,119,29],[124,30,124,32],[125,25,125,26],[125,27,125,29],[125,30,125,32],[119,30,119,32],[118,19,118,21],[118,27,118,29],[118,30,118,32],[118,25,118,26],[119,25,119,26],[124,19,124,22],[123,19,123,22],[125,19,125,22],[122,1,122,18],[123,1,126,18],[117,3,117,18],[116,27,116,29],[116,30,116,32],[115,19,115,21],[115,27,115,29],[115,30,115,32],[117,19,117,21],[117,27,117,29],[117,30,117,32],[115,3,115,18],[117,25,117,26],[116,3,116,18],[106,30,106,32],[61,25,61,26],[62,25,62,26],[106,27,106,29],[114,19,114,21],[114,27,114,29],[106,19,106,21],[107,19,107,21],[107,27,107,29],[107,30,107,32],[64,30,64,32],[105,19,105,21],[105,27,105,29],[105,30,105,32],[64,19,64,21],[64,27,64,29],[114,30,114,32],[108,19,108,21],[108,27,108,29],[108,30,108,32],[63,25,63,26],[64,25,64,26],[105,25,105,26],[106,25,106,26],[62,30,62,32],[63,19,63,21],[63,27,63,29],[63,30,63,32],[62,19,62,21],[62,27,62,29],[61,19,61,21],[61,27,61,29],[61,30,61,32],[75,25,75,26],[75,27,75,29],[75,30,75,32],[76,19,76,21],[76,25,76,26],[76,27,76,29],[76,30,76,32],[77,19,77,21],[77,25,77,26],[77,27,77,29],[77,30,77,32],[75,19,75,21],[60,27,60,29],[58,33,59,33],[59,19,59,21],[59,27,59,29],[59,30,59,32],[59,3,59,15],[59,16,59,18],[60,30,60,32],[59,25,59,26],[60,25,60,26],[60,3,60,18],[60,19,60,21],[50,9,50,11],[50,14,50,16],[50,17,50,18],[54,13,54,17],[55,13,55,17],[53,1,53,2],[54,1,54,2],[55,1,55,2],[53,3,53,7],[54,3,54,7],[55,3,55,7],[52,1,52,7],[52,8,52,17],[53,8,53,12],[54,8,54,12],[55,8,55,12],[50,1,50,2],[50,4,50,6],[47,3,47,8],[47,10,47,12],[48,1,49,2],[48,3,48,8],[48,10,48,12],[49,3,49,8],[49,10,49,12],[44,3,44,8],[44,10,44,12],[45,3,45,8],[45,10,45,12],[46,3,46,8],[46,10,46,12],[41,3,41,8],[41,10,41,12],[42,3,42,8],[42,10,42,12],[43,3,43,8],[43,10,43,12],[38,3,38,8],[38,10,38,12],[39,3,39,8],[39,10,39,12],[40,3,40,8],[40,10,40,12],[34,10,34,12],[35,3,35,8],[35,10,35,12],[36,3,36,8],[36,10,36,12],[37,3,37,8],[37,10,37,12],[30,3,30,8],[30,10,30,12],[31,3,31,8],[31,10,31,12],[32,3,32,8],[32,10,32,12],[33,3,33,8],[33,10,33,12],[34,3,34,8],[26,20,26,22],[26,23,26,24],[26,25,26,26],[26,27,26,32],[27,25,27,26],[27,27,27,32],[28,4,28,6],[28,7,28,22],[28,23,28,32],[27,3,27,8],[27,9,27,14],[27,15,27,16],[27,17,27,19],[27,20,27,21],[27,23,27,24],[21,25,21,26],[21,27,21,32],[22,25,22,26],[22,27,22,32],[23,4,23,6],[23,7,23,22],[23,23,23,32],[25,1,28,1],[25,3,25,14],[25,15,25,16],[25,17,25,19],[25,20,25,22],[22,3,22,8],[22,9,22,14],[22,15,22,16],[22,17,22,19],[22,20,22,21],[22,23,22,24],[25,23,25,24],[25,25,25,26],[25,27,25,32],[26,3,26,14],[26,15,26,16],[26,17,26,19],[17,25,17,26],[17,27,17,32],[18,4,18,6],[18,7,18,22],[18,23,18,32],[20,1,23,1],[20,3,20,14],[20,15,20,16],[20,17,20,19],[20,20,20,22],[17,3,17,8],[17,9,17,14],[17,15,17,16],[17,17,17,19],[17,20,17,21],[17,23,17,24],[20,23,20,24],[20,25,20,26],[20,27,20,32],[21,3,21,14],[21,15,21,16],[21,17,21,19],[21,20,21,22],[21,23,21,24],[15,25,15,26],[15,27,15,32],[16,3,16,14],[16,15,16,16],[16,17,16,19],[16,20,16,22],[16,23,16,24],[16,25,16,26],[16,27,16,32],[12,23,12,24],[15,1,18,1],[15,3,15,14],[15,15,15,16],[15,17,15,19],[15,20,15,22],[12,3,12,8],[12,9,12,14],[12,15,12,16],[12,17,12,19],[12,20,12,21],[15,23,15,24],[4,19,5,20],[4,21,5,26],[7,4,7,26],[10,1,13,1],[10,3,10,14],[10,15,10,16],[10,17,10,19],[10,20,10,22],[10,23,10,24],[10,25,10,26],[13,4,13,6],[13,7,13,22],[13,23,13,32],[5,1,5,2],[10,27,10,32],[11,3,11,14],[11,15,11,16],[11,17,11,19],[11,20,11,22],[11,23,11,24],[11,25,11,26],[11,27,11,32],[12,25,12,26],[12,27,12,32],[61,3,61,18],[62,3,62,18],[63,3,63,18],[64,3,64,18],[105,3,105,18],[106,3,106,18],[107,3,107,18],[108,3,108,18],[114,3,114,18],[75,3,75,18],[76,3,76,18],[77,3,77,18],[78,3,78,18],[101,3,101,18],[103,3,103,18],[65,3,65,18],[67,3,67,18],[69,3,69,18],[71,3,71,18],[73,3,73,18],[109,3,109,18],[111,3,111,18],[113,3,113,18],[82,3,82,18],[78,25,78,26],[78,27,78,29],[78,30,78,32],[79,3,79,18],[79,19,79,21],[79,25,79,26],[79,27,79,29],[79,30,79,32],[100,3,100,18],[100,19,100,21],[100,25,100,26],[100,27,100,29],[100,30,100,32],[78,19,78,21],[80,3,80,18],[80,19,80,21],[80,25,80,26],[80,27,80,29],[80,30,80,32],[81,3,81,18],[81,19,81,21],[81,25,81,26],[81,27,81,29],[81,30,81,32],[101,19,101,21],[101,25,101,26],[101,27,101,29],[101,30,101,32],[102,3,102,18],[102,19,102,21],[102,25,102,26],[102,27,102,29],[102,30,102,32],[103,19,103,21],[103,25,103,26],[103,27,103,29],[103,30,103,32],[104,3,104,18],[104,19,104,21],[104,25,104,26],[104,27,104,29],[104,30,104,32],[65,19,65,21],[65,25,65,26],[65,27,65,29],[65,30,65,32],[66,3,66,18],[66,19,66,21],[66,25,66,26],[66,27,66,29],[66,30,66,32],[67,19,67,21],[67,25,67,26],[67,27,67,29],[67,30,67,32],[68,3,68,18],[68,19,68,21],[68,25,68,26],[68,27,68,29],[68,30,68,32],[69,19,69,21],[69,25,69,26],[69,27,69,29],[69,30,69,32],[70,3,70,18],[70,19,70,21],[70,25,70,26],[70,27,70,29],[70,30,70,32],[71,19,71,21],[71,25,71,26],[71,27,71,29],[71,30,71,32],[72,3,72,18],[72,19,72,21],[72,25,72,26],[72,27,72,29],[72,30,72,32],[73,19,73,21],[73,25,73,26],[73,27,73,29],[73,30,73,32],[74,3,74,18],[74,19,74,21],[74,25,74,26],[74,27,74,29],[74,30,74,32],[109,25,109,26],[109,27,109,29],[109,30,109,32],[110,3,110,18],[110,19,110,21],[110,25,110,26],[110,27,110,29],[110,30,110,32],[82,19,82,21],[82,25,82,26],[82,27,82,29],[82,30,82,32],[83,3,83,18],[83,19,83,21],[83,25,83,26],[83,27,83,29],[83,30,83,32],[84,3,84,18],[84,19,84,21],[84,25,84,26],[84,27,84,29],[84,30,84,32],[85,3,85,18],[85,19,85,21],[85,25,85,26],[85,27,85,29],[85,30,85,32],[86,3,86,18],[86,19,86,21],[86,25,86,26],[86,27,86,29],[86,30,86,32],[87,3,87,18],[87,19,87,21],[87,25,87,26],[87,27,87,29],[87,30,87,32],[88,3,88,18],[88,19,88,21],[88,25,88,26],[88,27,88,29],[88,30,88,32],[89,3,89,18],[89,19,89,21],[89,25,89,26],[89,27,89,29],[89,30,89,32],[90,3,90,18],[90,19,90,21],[90,25,90,26],[90,27,90,29],[90,30,90,32],[91,3,91,18],[91,19,91,21],[91,25,91,26],[91,27,91,29],[91,30,91,32],[92,3,92,18],[92,19,92,21],[92,25,92,26],[92,27,92,29],[92,30,92,32],[93,3,93,18],[93,19,93,21],[93,25,93,26],[93,27,93,29],[93,30,93,32],[94,3,94,18],[94,19,94,21],[94,25,94,26],[94,27,94,29],[94,30,94,32],[95,3,95,18],[95,19,95,21],[95,25,95,26],[95,27,95,29],[95,30,95,32],[96,3,96,18],[96,19,96,21],[96,25,96,26],[96,27,96,29],[96,30,96,32],[97,3,97,18],[97,19,97,21],[97,25,97,26],[97,27,97,29],[97,30,97,32],[136,2,136,25],[98,3,98,18],[98,19,98,21],[98,25,98,26],[98,27,98,29],[98,30,98,32],[99,3,99,18],[99,19,99,21],[99,25,99,26],[99,27,99,29],[99,30,99,32],[113,19,113,21],[113,25,113,26],[113,27,113,29],[113,30,113,32],[111,19,111,21],[111,25,111,26],[111,27,111,29],[111,30,111,32],[112,3,112,18],[112,19,112,21],[112,25,112,26],[112,27,112,29],[112,30,112,32]]}
[10]
[]
[]
[]
[null,null,null,null,null,null,null,null,null,null,null,null,null,null,null,null,null,null,null,"申込日"]
[null,"2023年春",null,"申込書(採点付き)"]
[null,"「はじめにお読み下さい」の内容を承諾の上、以下の通り購入申込みを行います。"]
[null,null,null,null," "]
[null,"１．各担当者情報設定"]
[null,"ご担当者のご記入をお願いいたします。赤色は必須項目です"]
[null,"ご担当者","フリガナ",null,null,null,null,null,null,null,null,null,null,null,null,"フリガナ",null,null,null,null,null,null,null,null,null,"TEL",null,null,null,null,null,null,null,null,null,"無し","0","選択してください↓","9","教材と同じ",{"$f":"$J$31","v":"9"},"無し","8","無し","8","選択してください↓","9"]
[null,null,"会社名",null,null,null,null,null,null,null,null,null,null,null,null,"氏 名",null,null,null,null,null,null,null,null,null,"FAX",null,null,null,null,null,null,null,null,null,"有り","1","個人","0","個人","0","個人","0","担当者","1","担当者","1"]
[null,null,"所 属",null,null,null,null,null,null,null,null,null,null,null,null,"役 職",null,null,null,null,null,null,null,null,null,"e-Mail",null,null,null,null,null,null,null,null,null,null,null,"担当者","1","担当者","1","担当者","1","請求先","2","請求先","2"]
[null,null,"住 所","〒",null,null,null,null,null,null,null,null,null,null,null,null,null,null,null,null,null,null,null,null,null,null,null,null,null,null,null,null,null,null,null,null,null,"請求先","2","請求先","2","請求先","2","企業担当者","3","企業担当者","3"]
[null,"ご担当者と請求先が異なる場合はご記入をお願いいたします。",null,null,null,null,null,null,null,null,null,null,null,null,null,null,null,null,null,null,null,null,null,null,null,null,null,null,null,null,null,null,null,null,null,null,null,"企業担当者","3","企業担当者","3","企業担当者","3","企業担当者2","4","企業担当者2","4"]
[null,"請求先","フリガナ",null,null,null,null,null,null,null,null,null,null,null,null,"フリガナ",null,null,null,null,null,null,null,null,null,"TEL",null,null,null,null,null,null,null,null,null,null,null,"企業担当者2","4","企業担当者2","4","企業担当者2","4"]
[null,null,"会社名",null,null,null,null,null,null,null,null,null,null,null,null,"氏 名",null,null,null,null,null,null,null,null,null,"FAX"]
[null,null,"所 属",null,null,null,null,null,null,null,null,null,null,null,null,"役 職",null,null,null,null,null,null,null,null,null,"e-Mail"]
[null,null,"住 所","〒"]
[null,"発送先・成績管理者で「企業担当者」を指定する場合はご記入をお願いいたします。"]
[null,"企業担当者","フリガナ",null,null,null,null,null,null,null,null,null,null,null,null,"フリガナ",null,null,null,null,null,null,null,null,null,"TEL"]
[null,null,"会社名",null,null,null,null,null,null,null,null,null,null,null,null,"氏 名",null,null,null,null,null,null,null,null,null,"FAX"]
[null,null,"所 属",null,null,null,null,null,null,null,null,null,null,null,null,"役 職",null,null,null,null,null,null,null,null,null,"e-Mail"]
[null,null,"住 所","〒"]
[]
[null,"企業担当者2","フリガナ",null,null,null,null,null,null,null,null,null,null,null,null,"フリガナ",null,null,null,null,null,null,null,null,null,"TEL"]
[null,null,"会社名",null,null,null,null,null,null,null,null,null,null,null,null,"氏 名",null,null,null,null,null,null,null,null,null,"FAX"]
[null,null,"所 属",null,null,null,null,null,null,null,null,null,null,null,null,"役 職",null,null,null,null,null,null,null,null,null,"e-Mail"]
[null,null,"住 所","〒"]
[null,"２．お届け先指定・成績管理者設定・修了書送付先・修了条件設定　赤色は必須項目です"]
[null,"①教材お届け先",null,"個別・一括",null,null,null,null,null,{"$f":"VLOOKUP($K$31,$AL$11:$AM$16,2,FALSE)","v":"9"},"選択してください↓",null,null,{"$f":"IF(J31=\"3\",IF(OR($D$22=\"\",$R$22=\"\",$H$24=\"\",$AB$21=\"\"),\"企業担当者情報を入力してください\",\"\"),IF(J31=\"2\",IF(OR($D$17=\"\",$R$17=\"\",$H$19=\"\",$AB$16=\"\"),\"請求先情報を入力してください\",\"\"),IF(J31=\"4\",IF(OR($D$27=\"\",$R$27=\"\",$H$29=\"\",$AB$26=\"\"),\"企業担当者2情報を入力してください\",\"\"),IF(J31=0,\"教材発送先を選択してください\",\"\"))))","v":""},null,null,null,null,null,null,null,null,null,null,null,{"$f":"IF((COUNTIF(K35:K46,\"個人\")+COUNTIF(K31,\"個人\"))=0,IF((COUNTIF('採点付(名簿) '!N14:N513,\"1\")+COUNTIF('採点付(名簿) '!N14:N513,\"2\"))>0,\"名簿が個人宛になっていますが、申込書に個人宛の発送先がありません\",\"\"),\"\")","v":""}]
[null,null,null,"着日指定（初回出荷時）"]
[null,null,null,"同梱品",null,null,null,null,null,{"$f":"VLOOKUP($K$33,$AJ$11:$AK$12,2,FALSE)","v":"0"},"無し"]
[null,null,null,"個別梱包",null,null,null,null,null,{"$f":"VLOOKUP($K$34,$AJ$11:$AK$12,2,FALSE)","v":"0"},"無し"]
[null,"②評価採点票\n　送付先",null,"個人評価採点票\n(公開模試は解答解説も含む)",null,null,null,null,null,{"$f":"IF($K$35=\"教材と同じ\",$J$31,VLOOKUP($K$35,$AN$11:$AO$16,2,FALSE))","v":"9"},"教材と同じ",null,null,{"$f":"IF(J35=\"3\",IF(OR($D$22=\"\",$R$22=\"\",$H$24=\"\",$AB$21=\"\"),\"企業担当者情報を入力してください\",\"\"),IF(J35=\"2\",IF(OR($D$17=\"\",$R$17=\"\",$H$19=\"\",$AB$16=\"\"),\"請求先情報を入力してください\",\"\"),IF(J35=\"4\",IF(OR($D$27=\"\",$R$27=\"\",$H$29=\"\",$AB$26=\"\"),\"企業担当者2情報を入力してください\",\"\"),\"\")))","v":""}]
[null,null,null,"個人評価採点票（控）",null,null,null,null,null,{"$f":"VLOOKUP($K$36,$AP$11:$AQ$16,2,FALSE)","v":"8"},"無し",null,null,"",null,null,null,null,null,{"$f":"IF(AND(J35=\"0\",J36=\"0\"),\"個人評価採点票が個人の場合、(控）を個人にはできません。\",\"\")","v":""}]
[null,"③修了証送付先",null,"修了証送付先",null,null,null,null,null,{"$f":"IF($K$37=\"教材と同じ\",$J$31,VLOOKUP($K$37,$AN$11:$AO$16,2,FALSE))","v":"9"},"教材と同じ",null,null,""]
[null,null,null,"スーパーグレース",null,null,null,null,null,{"$f":"VLOOKUP($K$38,$AR$11:$AS$15,2,FALSE)","v":"8"},"無し",null,null,""]
[null,null,null,"後送教材",null,null,null,null,null,{"$f":"IF($K$39=\"教材と同じ\",$J$31,VLOOKUP($K$39,$AN$11:$AO$16,2,FALSE))","v":"9"},"教材と同じ",null,null,""]
[null,null,null,"総合摸試問題",null,null,null,null,null,{"$f":"IF($K$40=\"教材と同じ\",$J$31,VLOOKUP($K$40,$AN$11:$AO$16,2,FALSE))","v":"9"},"教材と同じ",null,null,""]
[null,null,null,"総合摸試評価採点票＋解答解説",null,null,null,null,null,{"$f":"IF($K$41=\"教材と同じ\",$J$31,VLOOKUP($K$41,$AN$11:$AO$16,2,FALSE))","v":"9"},"教材と同じ",null,null,""]
[null,null,null,"総合摸試評価採点票（控）",null,null,null,null,null,{"$f":"VLOOKUP($K$42,$AP$11:$AQ$16,2,FALSE)","v":"8"},"無し",null,null,"",null,null,null,null,null,{"$f":"IF(AND(K42<>\"無し\",J41=J42),\"総合摸試評価採点票（控）は総合摸試評価採点票と別の項目を選択してください\",\"\")","v":""}]
[null,null,null,"公開模試受験票",null,null,null,null,null,{"$f":"IF($K$43=\"教材と同じ\",$J$31,VLOOKUP($K$43,$AN$11:$AO$16,2,FALSE))","v":"9"},"教材と同じ",null,null,""]
[null,null,null,"公開摸試問題",null,null,null,null,null,{"$f":"IF($K$44=\"教材と同じ\",$J$31,VLOOKUP($K$44,$AN$11:$AO$16,2,FALSE))","v":"9"},"教材と同じ",null,null,""]
[null,null,null,"公開摸試評価採点票＋解答解説",null,null,null,null,null,{"$f":"IF($K$45=\"教材と同じ\",$J$31,VLOOKUP($K$45,$AN$11:$AO$16,2,FALSE))","v":"9"},"教材と同じ",null,null,""]
[null,null,null,"公開摸試評価採点票（控）",null,null,null,null,null,{"$f":"VLOOKUP($K$46,$AP$11:$AQ$16,2,FALSE)","v":"8"},"無し",null,null,"",null,null,null,null,null,{"$f":"IF(AND(K46<>\"無し\",J45=J46),\"公開模試評価採点票（控）は公開模試評価採点票と別の項目を選択してください\",\"\")","v":""}]
[null,null,null,null,null,null,null,null,null,null,null,null,null,""]
[null,null,null,null,null,null,null,null,null,null,null,null,null,""]
[null,"④成績管理者設定",null,"成績管理者(通教は成績一覧表）",null,null,null,null,null,{"$f":"VLOOKUP($K$49,$AR$11:$AS$15,2,FALSE)","v":"8"},"無し",null,null,""]
[null,null,null,"成績管理者２",null,null,null,null,null,{"$f":"VLOOKUP($K$50,$AR$11:$AS$15,2,FALSE)","v":"8"},"無し",null,null,"",null,null,null,null,null,{"$f":"IF(AND(J50<>\"8\",J49=J50),\"成績管理者２は成績管理者と別の項目を選択してください\",\"\")","v":""}]
[null,"⑤修了条件",null,{"$f":"IF(E51=\"標準\",\"0\",\"1\")","v":"0"},"標準",null,null,"対象",{"$f":"IF(J51=\"模擬試験を除く\",\"0\",IF(J51=\"全て\",\"1\",\"\"))","v":"1"},"全て",null,null,"条件",{"$f":"IF(O51=\"最低点\",\"0\",IF(O51=\"最低％\",\"2\",IF(O51=\"平均％\",\"3\",\"\")))","v":"0"},"最低点",null,null,1,null,"以上",null,{"$f":"IF(AND(D51=\"1\",OR(I51=\"\",N51=\"\",R51=\"\")),\"対象、条件、数値をすべて入力してください\",\"\")","v":""}]
[]
[]
[]
[]
[]
[]
[]
[null,"３．お申込商品、数量　　　模試受験地の指定は別シート『名簿』にご入力ください。",null,null,null,null,null,null,null,null,null,null,null,null,null,null,null,null,null,null,null,null,null,null,null,null,null,null,null,null,null,null,null,"名簿\n数量"]
[null,"No.","商品コード\n（半角）","商品名（コース・教材）",null,null,null,null,null,null,null,null,null,null,null,null,null,null,null,"標準価格\n（税抜）",null,null,{"$f":"IF(SUM(W61:W121)<>0,\"割引(税抜)\",\"－\")","v":"割引(税抜)"},null,null,"お申込み\n数量",null,"税抜価格",null,null,"備考"]
[{"$f":"IF(D61<>\"\",D61,\"\")","v":"２０２３上期　基本情報技術者　全国統一模擬試験（オンライン）"},1,501097,"２０２３上期　基本情報技術者　全国統一模擬試験（オンライン）",null,null,null,null,null,null,null,null,null,null,null,null,null,null,null,4000,null,null,3600,null,null,null,null,{"$f":"IFERROR(IF(W61>0,W61*Z61,IF(Z61>0,T61*Z61,\"\")),\"\")","v":0},null,null,{"$f":"IFERROR(IF(W61>0,1-(W61/T61),\"\"),\"\")","v":9.9999999999999978E-2},null,null,{"$f":"COUNTIF('採点付(名簿) '!$F$14:$F$513,C61)","v":0},{"$f":"IF(Z61>AH61,\"名簿の数量が\"&Z61-AH61&\"不足しています。\",IF(Z61<AH61,\"申込書の数量が\"&AH61-Z61&\"不足しています\",\"\"))","v":""}]
["２０２３　情報セキュリティマネジメント　全国統一模擬試験（オンライン）",2,501094,"２０２３　情報セキュリティマネジメント　全国統一模擬試験（オンライン）",null,null,null,null,null,null,null,null,null,null,null,null,null,null,null,4000,null,null,3600,null,null,null,null,{"$f":"IFERROR(IF(W62>0,W62*Z62,IF(Z62>0,T62*Z62,\"\")),\"\")","v":0},null,null,{"$f":"IFERROR(IF(W62>0,1-(W62/T62),\"\"),\"\")","v":9.9999999999999978E-2},null,null,{"$f":"COUNTIF('採点付(名簿) '!$F$14:$F$513,C62)","v":0},{"$f":"IF(Z62>AH62,\"名簿の数量が\"&Z62-AH62&\"不足しています。\",IF(Z62<AH62,\"申込書の数量が\"&AH62-Z62&\"不足しています\",\"\"))","v":""}]
[{"$f":"IF(D63<>\"\",D63,\"\")","v":"２０２３春　応用情報技術者　全国統一公開模試　（採点付）"},3,501103,"２０２３春　応用情報技術者　全国統一公開模試　（採点付）",null,null,null,null,null,null,null,null,null,null,null,null,null,null,null,6400,null,null,5760,null,null,null,null,{"$f":"IFERROR(IF(W63>0,W63*Z63,IF(Z63>0,T63*Z63,\"\")),\"\")","v":0},null,null,9.9999999999999978E-2,null,null,{"$f":"COUNTIF('採点付(名簿) '!$F$14:$F$513,C63)","v":0},{"$f":"IF(Z63>AH63,\"名簿の数量が\"&Z63-AH63&\"不足しています。\",IF(Z63<AH63,\"申込書の数量が\"&AH63-Z63&\"不足しています\",\"\"))","v":""}]
[{"$f":"IF(D64<>\"\",D64,\"\")","v":"２０２３春　情報処理安全確保支援士　全国統一公開模試　（採点付）"},4,501105,"２０２３春　情報処理安全確保支援士　全国統一公開模試　（採点付）",null,null,null,null,null,null,null,null,null,null,null,null,null,null,null,8000,null,null,7200,null,null,null,null,{"$f":"IFERROR(IF(W64>0,W64*Z64,IF(Z64>0,T64*Z64,\"\")),\"\")","v":0},null,null,9.9999999999999978E-2,null,null,{"$f":"COUNTIF('採点付(名簿) '!$F$14:$F$513,C64)","v":0},{"$f":"IF(Z64>AH64,\"名簿の数量が\"&Z64-AH64&\"不足しています。\",IF(Z64<AH64,\"申込書の数量が\"&AH64-Z64&\"不足しています\",\"\"))","v":""}]
["２０２３　ネットワークスペシャリスト　全国統一公開模試　（採点付）",5,501107,"２０２３　ネットワークスペシャリスト　全国統一公開模試　（採点付）",null,null,null,null,null,null,null,null,null,null,null,null,null,null,null,8000,null,null,7200,null,null,null,null,0,null,null,9.9999999999999978E-2,null,null,{"$f":"COUNTIF('採点付(名簿) '!$F$14:$F$513,C65)","v":0},""]
["２０２３　ＩＴストラテジスト　全国統一公開模試　（採点付）",6,501109,"２０２３　ＩＴストラテジスト　全国統一公開模試　（採点付）",null,null,null,null,null,null,null,null,null,null,null,null,null,null,null,10000,null,null,9000,null,null,null,null,0,null,null,9.9999999999999978E-2,null,null,{"$f":"COUNTIF('採点付(名簿) '!$F$14:$F$513,C66)","v":0},""]
["２０２３　システムアーキテクト　全国統一公開模試　（採点付）",7,501111,"２０２３　システムアーキテクト　全国統一公開模試　（採点付）",null,null,null,null,null,null,null,null,null,null,null,null,null,null,null,10000,null,null,9000,null,null,null,null,0,null,null,9.9999999999999978E-2,null,null,{"$f":"COUNTIF('採点付(名簿) '!$F$14:$F$513,C67)","v":0},""]
["２０２３　ＩＴサービスマネージャ　全国統一公開模試　（採点付）",8,501113,"２０２３　ＩＴサービスマネージャ　全国統一公開模試　（採点付）",null,null,null,null,null,null,null,null,null,null,null,null,null,null,null,10000,null,null,9000,null,null,null,null,0,null,null,9.9999999999999978E-2,null,null,{"$f":"COUNTIF('採点付(名簿) '!$F$14:$F$513,C68)","v":0},""]
["",9,null,{"$f":"IFERROR(VLOOKUP(C69,'商品一覧 (公開模試)'!$A:$P,2,FALSE),\"\")","v":""},null,null,null,null,null,null,null,null,null,null,null,null,null,null,null,{"$f":"IFERROR(VLOOKUP(C69,'商品一覧 (公開模試)'!$A:$P,4,FALSE),\"\")","v":""},null,null,null,null,null,null,null,"",null,null,"",null,null,{"$f":"COUNTIF('採点付(名簿) '!$F$14:$F$513,C69)","v":0},""]
["",10,null,{"$f":"IFERROR(VLOOKUP(C70,'商品一覧 (公開模試)'!$A:$P,2,FALSE),\"\")","v":""},null,null,null,null,null,null,null,null,null,null,null,null,null,null,null,{"$f":"IFERROR(VLOOKUP(C70,'商品一覧 (公開模試)'!$A:$P,4,FALSE),\"\")","v":""},null,null,null,null,null,null,null,"",null,null,"",null,null,{"$f":"COUNTIF('採点付(名簿) '!$F$14:$F$513,C70)","v":0},""]
["",11,null,{"$f":"IFERROR(VLOOKUP(C71,'商品一覧 (公開模試)'!$A:$P,2,FALSE),\"\")","v":""},null,null,null,null,null,null,null,null,null,null,null,null,null,null,null,{"$f":"IFERROR(VLOOKUP(C71,'商品一覧 (公開模試)'!$A:$P,4,FALSE),\"\")","v":""},null,null,null,null,null,null,null,"",null,null,"",null,null,{"$f":"COUNTIF('採点付(名簿) '!$F$14:$F$513,C71)","v":0},""]
["",12,null,{"$f":"IFERROR(VLOOKUP(C72,'商品一覧 (公開模試)'!$A:$P,2,FALSE),\"\")","v":""},null,null,null,null,null,null,null,null,null,null,null,null,null,null,null,{"$f":"IFERROR(VLOOKUP(C72,'商品一覧 (公開模試)'!$A:$P,4,FALSE),\"\")","v":""},null,null,null,null,null,null,null,"",null,null,"",null,null,{"$f":"COUNTIF('採点付(名簿) '!$F$14:$F$513,C72)","v":0},""]
["",13,null,{"$f":"IFERROR(VLOOKUP(C73,'商品一覧 (公開模試)'!$A:$P,2,FALSE),\"\")","v":""},null,null,null,null,null,null,null,null,null,null,null,null,null,null,null,{"$f":"IFERROR(VLOOKUP(C73,'商品一覧 (公開模試)'!$A:$P,4,FALSE),\"\")","v":""},null,null,null,null,null,null,null,"",null,null,"",null,null,{"$f":"COUNTIF('採点付(名簿) '!$F$14:$F$513,C73)","v":0},""]
["",14,null,{"$f":"IFERROR(VLOOKUP(C74,'商品一覧 (公開模試)'!$A:$P,2,FALSE),\"\")","v":""},null,null,null,null,null,null,null,null,null,null,null,null,null,null,null,{"$f":"IFERROR(VLOOKUP(C74,'商品一覧 (公開模試)'!$A:$P,4,FALSE),\"\")","v":""},null,null,null,null,null,null,null,"",null,null,"",null,null,{"$f":"COUNTIF('採点付(名簿) '!$F$14:$F$513,C74)","v":0},""]
["",15,null,{"$f":"IFERROR(VLOOKUP(C75,'商品一覧 (公開模試)'!$A:$P,2,FALSE),\"\")","v":""},null,null,null,null,null,null,null,null,null,null,null,null,null,null,null,{"$f":"IFERROR(VLOOKUP(C75,'商品一覧 (公開模試)'!$A:$P,4,FALSE),\"\")","v":""},null,null,null,null,null,null,null,"",null,null,"",null,null,{"$f":"COUNTIF('採点付(名簿) '!$F$14:$F$513,C75)","v":0},""]
[{"$f":"IF(D76<>\"\",D76,\"\")","v":""},16,null,{"$f":"IFERROR(VLOOKUP(C76,'商品一覧 (公開模試)'!$A:$P,2,FALSE),\"\")","v":""},null,null,null,null,null,null,null,null,null,null,null,null,null,null,null,{"$f":"IFERROR(VLOOKUP(C76,'商品一覧 (公開模試)'!$A:$P,4,FALSE),\"\")","v":""},null,null,null,null,null,null,null,{"$f":"IFERROR(IF(W76>0,W76*Z76,IF(Z76>0,T76*Z76,\"\")),\"\")","v":""},null,null,{"$f":"IFERROR(IF(W76>0,1-(W76/T76),\"\"),\"\")","v":""},null,null,{"$f":"COUNTIF('採点付(名簿) '!$F$14:$F$513,C76)","v":0},{"$f":"IF(Z76>AH76,\"名簿の数量が\"&Z76-AH76&\"不足しています。\",IF(Z76<AH76,\"申込書の数量が\"&AH76-Z76&\"不足しています\",\"\"))","v":""}]
["",17,null,{"$f":"IFERROR(VLOOKUP(C77,'商品一覧 (公開模試)'!$A:$P,2,FALSE),\"\")","v":""},null,null,null,null,null,null,null,null,null,null,null,null,null,null,null,{"$f":"IFERROR(VLOOKUP(C77,'商品一覧 (公開模試)'!$A:$P,4,FALSE),\"\")","v":""},null,null,null,null,null,null,null,"",null,null,"",null,null,{"$f":"COUNTIF('採点付(名簿) '!$F$14:$F$513,C77)","v":0},""]
["",18,null,{"$f":"IFERROR(VLOOKUP(C78,'商品一覧 (公開模試)'!$A:$P,2,FALSE),\"\")","v":""},null,null,null,null,null,null,null,null,null,null,null,null,null,null,null,{"$f":"IFERROR(VLOOKUP(C78,'商品一覧 (公開模試)'!$A:$P,4,FALSE),\"\")","v":""},null,null,null,null,null,null,null,"",null,null,"",null,null,{"$f":"COUNTIF('採点付(名簿) '!$F$14:$F$513,C78)","v":0},""]
["",19,null,{"$f":"IFERROR(VLOOKUP(C79,'商品一覧 (公開模試)'!$A:$P,2,FALSE),\"\")","v":""},null,null,null,null,null,null,null,null,null,null,null,null,null,null,null,{"$f":"IFERROR(VLOOKUP(C79,'商品一覧 (公開模試)'!$A:$P,4,FALSE),\"\")","v":""},null,null,null,null,null,null,null,"",null,null,"",null,null,{"$f":"COUNTIF('採点付(名簿) '!$F$14:$F$513,C79)","v":0},""]
["",20,null,{"$f":"IFERROR(VLOOKUP(C80,'商品一覧 (公開模試)'!$A:$P,2,FALSE),\"\")","v":""},null,null,null,null,null,null,null,null,null,null,null,null,null,null,null,{"$f":"IFERROR(VLOOKUP(C80,'商品一覧 (公開模試)'!$A:$P,4,FALSE),\"\")","v":""},null,null,null,null,null,null,null,"",null,null,"",null,null,{"$f":"COUNTIF('採点付(名簿) '!$F$14:$F$513,C80)","v":0},""]
[{"$f":"IF(D81<>\"\",D81,\"\")","v":""},21,null,{"$f":"IFERROR(VLOOKUP(C81,'商品一覧 (公開模試)'!$A:$P,2,FALSE),\"\")","v":""},null,null,null,null,null,null,null,null,null,null,null,null,null,null,null,{"$f":"IFERROR(VLOOKUP(C81,'商品一覧 (公開模試)'!$A:$P,4,FALSE),\"\")","v":""},null,null,null,null,null,null,null,{"$f":"IFERROR(IF(W81>0,W81*Z81,IF(Z81>0,T81*Z81,\"\")),\"\")","v":""},null,null,{"$f":"IFERROR(IF(W81>0,1-(W81/T81),\"\"),\"\")","v":""},null,null,{"$f":"COUNTIF('採点付(名簿) '!$F$14:$F$513,C81)","v":0},{"$f":"IF(Z81>AH81,\"名簿の数量が\"&Z81-AH81&\"不足しています。\",IF(Z81<AH81,\"申込書の数量が\"&AH81-Z81&\"不足しています\",\"\"))","v":""}]
["",22,null,{"$f":"IFERROR(VLOOKUP(C82,'商品一覧 (公開模試)'!$A:$P,2,FALSE),\"\")","v":""},null,null,null,null,null,null,null,null,null,null,null,null,null,null,null,{"$f":"IFERROR(VLOOKUP(C82,'商品一覧 (公開模試)'!$A:$P,4,FALSE),\"\")","v":""},null,null,null,null,null,null,null,"",null,null,"",null,null,{"$f":"COUNTIF('採点付(名簿) '!$F$14:$F$513,C82)","v":0},""]
["",23,null,{"$f":"IFERROR(VLOOKUP(C83,'商品一覧 (公開模試)'!$A:$P,2,FALSE),\"\")","v":""},null,null,null,null,null,null,null,null,null,null,null,null,null,null,null,{"$f":"IFERROR(VLOOKUP(C83,'商品一覧 (公開模試)'!$A:$P,4,FALSE),\"\")","v":""},null,null,null,null,null,null,null,"",null,null,"",null,null,{"$f":"COUNTIF('採点付(名簿) '!$F$14:$F$513,C83)","v":0},""]
["",24,null,{"$f":"IFERROR(VLOOKUP(C84,'商品一覧 (公開模試)'!$A:$P,2,FALSE),\"\")","v":""},null,null,null,null,null,null,null,null,null,null,null,null,null,null,null,{"$f":"IFERROR(VLOOKUP(C84,'商品一覧 (公開模試)'!$A:$P,4,FALSE),\"\")","v":""},null,null,null,null,null,null,null,"",null,null,"",null,null,{"$f":"COUNTIF('採点付(名簿) '!$F$14:$F$513,C84)","v":0},""]
["",25,null,{"$f":"IFERROR(VLOOKUP(C85,'商品一覧 (公開模試)'!$A:$P,2,FALSE),\"\")","v":""},null,null,null,null,null,null,null,null,null,null,null,null,null,null,null,{"$f":"IFERROR(VLOOKUP(C85,'商品一覧 (公開模試)'!$A:$P,4,FALSE),\"\")","v":""},null,null,null,null,null,null,null,"",null,null,"",null,null,{"$f":"COUNTIF('採点付(名簿) '!$F$14:$F$513,C85)","v":0},""]
["",26,null,{"$f":"IFERROR(VLOOKUP(C86,'商品一覧 (公開模試)'!$A:$P,2,FALSE),\"\")","v":""},null,null,null,null,null,null,null,null,null,null,null,null,null,null,null,{"$f":"IFERROR(VLOOKUP(C86,'商品一覧 (公開模試)'!$A:$P,4,FALSE),\"\")","v":""},null,null,null,null,null,null,null,"",null,null,"",null,null,{"$f":"COUNTIF('採点付(名簿) '!$F$14:$F$513,C86)","v":0},""]
["",27,null,{"$f":"IFERROR(VLOOKUP(C87,'商品一覧 (公開模試)'!$A:$P,2,FALSE),\"\")","v":""},null,null,null,null,null,null,null,null,null,null,null,null,null,null,null,{"$f":"IFERROR(VLOOKUP(C87,'商品一覧 (公開模試)'!$A:$P,4,FALSE),\"\")","v":""},null,null,null,null,null,null,null,"",null,null,"",null,null,{"$f":"COUNTIF('採点付(名簿) '!$F$14:$F$513,C87)","v":0},""]
["",28,null,{"$f":"IFERROR(VLOOKUP(C88,'商品一覧 (公開模試)'!$A:$P,2,FALSE),\"\")","v":""},null,null,null,null,null,null,null,null,null,null,null,null,null,null,null,{"$f":"IFERROR(VLOOKUP(C88,'商品一覧 (公開模試)'!$A:$P,4,FALSE),\"\")","v":""},null,null,null,null,null,null,null,"",null,null,"",null,null,{"$f":"COUNTIF('採点付(名簿) '!$F$14:$F$513,C88)","v":0},""]
["",29,null,{"$f":"IFERROR(VLOOKUP(C89,'商品一覧 (公開模試)'!$A:$P,2,FALSE),\"\")","v":""},null,null,null,null,null,null,null,null,null,null,null,null,null,null,null,{"$f":"IFERROR(VLOOKUP(C89,'商品一覧 (公開模試)'!$A:$P,4,FALSE),\"\")","v":""},null,null,null,null,null,null,null,"",null,null,"",null,null,{"$f":"COUNTIF('採点付(名簿) '!$F$14:$F$513,C89)","v":0},""]
["",30,null,{"$f":"IFERROR(VLOOKUP(C90,'商品一覧 (公開模試)'!$A:$P,2,FALSE),\"\")","v":""},null,null,null,null,null,null,null,null,null,null,null,null,null,null,null,{"$f":"IFERROR(VLOOKUP(C90,'商品一覧 (公開模試)'!$A:$P,4,FALSE),\"\")","v":""},null,null,null,null,null,null,null,"",null,null,"",null,null,{"$f":"COUNTIF('採点付(名簿) '!$F$14:$F$513,C90)","v":0},""]
["",31,null,{"$f":"IFERROR(VLOOKUP(C91,'商品一覧 (公開模試)'!$A:$P,2,FALSE),\"\")","v":""},null,null,null,null,null,null,null,null,null,null,null,null,null,null,null,{"$f":"IFERROR(VLOOKUP(C91,'商品一覧 (公開模試)'!$A:$P,4,FALSE),\"\")","v":""},null,null,null,null,null,null,null,"",null,null,"",null,null,{"$f":"COUNTIF('採点付(名簿) '!$F$14:$F$513,C91)","v":0},""]
["",32,null,{"$f":"IFERROR(VLOOKUP(C92,'商品一覧 (公開模試)'!$A:$P,2,FALSE),\"\")","v":""},null,null,null,null,null,null,null,null,null,null,null,null,null,null,null,{"$f":"IFERROR(VLOOKUP(C92,'商品一覧 (公開模試)'!$A:$P,4,FALSE),\"\")","v":""},null,null,null,null,null,null,null,"",null,null,"",null,null,{"$f":"COUNTIF('採点付(名簿) '!$F$14:$F$513,C92)","v":0},""]
["",33,null,{"$f":"IFERROR(VLOOKUP(C93,'商品一覧 (公開模試)'!$A:$P,2,FALSE),\"\")","v":""},null,null,null,null,null,null,null,null,null,null,null,null,null,null,null,{"$f":"IFERROR(VLOOKUP(C93,'商品一覧 (公開模試)'!$A:$P,4,FALSE),\"\")","v":""},null,null,null,null,null,null,null,"",null,null,"",null,null,{"$f":"COUNTIF('採点付(名簿) '!$F$14:$F$513,C93)","v":0},""]
["",34,null,{"$f":"IFERROR(VLOOKUP(C94,'商品一覧 (公開模試)'!$A:$P,2,FALSE),\"\")","v":""},null,null,null,null,null,null,null,null,null,null,null,null,null,null,null,{"$f":"IFERROR(VLOOKUP(C94,'商品一覧 (公開模試)'!$A:$P,4,FALSE),\"\")","v":""},null,null,null,null,null,null,null,"",null,null,"",null,null,{"$f":"COUNTIF('採点付(名簿) '!$F$14:$F$513,C94)","v":0},""]
["",35,null,{"$f":"IFERROR(VLOOKUP(C95,'商品一覧 (公開模試)'!$A:$P,2,FALSE),\"\")","v":""},null,null,null,null,null,null,null,null,null,null,null,null,null,null,null,{"$f":"IFERROR(VLOOKUP(C95,'商品一覧 (公開模試)'!$A:$P,4,FALSE),\"\")","v":""},null,null,null,null,null,null,null,"",null,null,"",null,null,{"$f":"COUNTIF('採点付(名簿) '!$F$14:$F$513,C95)","v":0},""]
["",36,null,{"$f":"IFERROR(VLOOKUP(C96,'商品一覧 (公開模試)'!$A:$P,2,FALSE),\"\")","v":""},null,null,null,null,null,null,null,null,null,null,null,null,null,null,null,{"$f":"IFERROR(VLOOKUP(C96,'商品一覧 (公開模試)'!$A:$P,4,FALSE),\"\")","v":""},null,null,null,null,null,null,null,"",null,null,"",null,null,{"$f":"COUNTIF('採点付(名簿) '!$F$14:$F$513,C96)","v":0},""]
["",37,null,{"$f":"IFERROR(VLOOKUP(C97,'商品一覧 (公開模試)'!$A:$P,2,FALSE),\"\")","v":""},null,null,null,null,null,null,null,null,null,null,null,null,null,null,null,{"$f":"IFERROR(VLOOKUP(C97,'商品一覧 (公開模試)'!$A:$P,4,FALSE),\"\")","v":""},null,null,null,null,null,null,null,"",null,null,"",null,null,{"$f":"COUNTIF('採点付(名簿) '!$F$14:$F$513,C97)","v":0},""]
["",38,null,{"$f":"IFERROR(VLOOKUP(C98,'商品一覧 (公開模試)'!$A:$P,2,FALSE),\"\")","v":""},null,null,null,null,null,null,null,null,null,null,null,null,null,null,null,{"$f":"IFERROR(VLOOKUP(C98,'商品一覧 (公開模試)'!$A:$P,4,FALSE),\"\")","v":""},null,null,null,null,null,null,null,"",null,null,"",null,null,{"$f":"COUNTIF('採点付(名簿) '!$F$14:$F$513,C98)","v":0},""]
["",39,null,{"$f":"IFERROR(VLOOKUP(C99,'商品一覧 (公開模試)'!$A:$P,2,FALSE),\"\")","v":""},null,null,null,null,null,null,null,null,null,null,null,null,null,null,null,{"$f":"IFERROR(VLOOKUP(C99,'商品一覧 (公開模試)'!$A:$P,4,FALSE),\"\")","v":""},null,null,null,null,null,null,null,"",null,null,"",null,null,{"$f":"COUNTIF('採点付(名簿) '!$F$14:$F$513,C99)","v":0},""]
["",40,null,{"$f":"IFERROR(VLOOKUP(C100,'商品一覧 (公開模試)'!$A:$P,2,FALSE),\"\")","v":""},null,null,null,null,null,null,null,null,null,null,null,null,null,null,null,{"$f":"IFERROR(VLOOKUP(C100,'商品一覧 (公開模試)'!$A:$P,4,FALSE),\"\")","v":""},null,null,null,null,null,null,null,"",null,null,"",null,null,{"$f":"COUNTIF('採点付(名簿) '!$F$14:$F$513,C100)","v":0},""]
["",41,null,{"$f":"IFERROR(VLOOKUP(C101,'商品一覧 (公開模試)'!$A:$P,2,FALSE),\"\")","v":""},null,null,null,null,null,null,null,null,null,null,null,null,null,null,null,{"$f":"IFERROR(VLOOKUP(C101,'商品一覧 (公開模試)'!$A:$P,4,FALSE),\"\")","v":""},null,null,null,null,null,null,null,"",null,null,"",null,null,{"$f":"COUNTIF('採点付(名簿) '!$F$14:$F$513,C101)","v":0},""]
["",42,null,{"$f":"IFERROR(VLOOKUP(C102,'商品一覧 (公開模試)'!$A:$P,2,FALSE),\"\")","v":""},null,null,null,null,null,null,null,null,null,null,null,null,null,null,null,{"$f":"IFERROR(VLOOKUP(C102,'商品一覧 (公開模試)'!$A:$P,4,FALSE),\"\")","v":""},null,null,null,null,null,null,null,"",null,null,"",null,null,{"$f":"COUNTIF('採点付(名簿) '!$F$14:$F$513,C102)","v":0},""]
["",43,null,{"$f":"IFERROR(VLOOKUP(C103,'商品一覧 (公開模試)'!$A:$P,2,FALSE),\"\")","v":""},null,null,null,null,null,null,null,null,null,null,null,null,null,null,null,{"$f":"IFERROR(VLOOKUP(C103,'商品一覧 (公開模試)'!$A:$P,4,FALSE),\"\")","v":""},null,null,null,null,null,null,null,"",null,null,"",null,null,{"$f":"COUNTIF('採点付(名簿) '!$F$14:$F$513,C103)","v":0},""]
["",44,null,{"$f":"IFERROR(VLOOKUP(C104,'商品一覧 (公開模試)'!$A:$P,2,FALSE),\"\")","v":""},null,null,null,null,null,null,null,null,null,null,null,null,null,null,null,{"$f":"IFERROR(VLOOKUP(C104,'商品一覧 (公開模試)'!$A:$P,4,FALSE),\"\")","v":""},null,null,null,null,null,null,null,"",null,null,"",null,null,{"$f":"COUNTIF('採点付(名簿) '!$F$14:$F$513,C104)","v":0},""]
["",45,null,{"$f":"IFERROR(VLOOKUP(C105,'商品一覧 (公開模試)'!$A:$P,2,FALSE),\"\")","v":""},null,null,null,null,null,null,null,null,null,null,null,null,null,null,null,{"$f":"IFERROR(VLOOKUP(C105,'商品一覧 (公開模試)'!$A:$P,4,FALSE),\"\")","v":""},null,null,null,null,null,null,null,"",null,null,"",null,null,{"$f":"COUNTIF('採点付(名簿) '!$F$14:$F$513,C105)","v":0},""]
["",46,null,{"$f":"IFERROR(VLOOKUP(C106,'商品一覧 (公開模試)'!$A:$P,2,FALSE),\"\")","v":""},null,null,null,null,null,null,null,null,null,null,null,null,null,null,null,{"$f":"IFERROR(VLOOKUP(C106,'商品一覧 (公開模試)'!$A:$P,4,FALSE),\"\")","v":""},null,null,null,null,null,null,null,"",null,null,"",null,null,{"$f":"COUNTIF('採点付(名簿) '!$F$14:$F$513,C106)","v":0},""]
["",47,null,{"$f":"IFERROR(VLOOKUP(C107,'商品一覧 (公開模試)'!$A:$P,2,FALSE),\"\")","v":""},null,null,null,null,null,null,null,null,null,null,null,null,null,null,null,{"$f":"IFERROR(VLOOKUP(C107,'商品一覧 (公開模試)'!$A:$P,4,FALSE),\"\")","v":""},null,null,null,null,null,null,null,"",null,null,"",null,null,{"$f":"COUNTIF('採点付(名簿) '!$F$14:$F$513,C107)","v":0},""]
["",48,null,{"$f":"IFERROR(VLOOKUP(C108,'商品一覧 (公開模試)'!$A:$P,2,FALSE),\"\")","v":""},null,null,null,null,null,null,null,null,null,null,null,null,null,null,null,{"$f":"IFERROR(VLOOKUP(C108,'商品一覧 (公開模試)'!$A:$P,4,FALSE),\"\")","v":""},null,null,null,null,null,null,null,"",null,null,"",null,null,{"$f":"COUNTIF('採点付(名簿) '!$F$14:$F$513,C108)","v":0},""]
["",49,null,{"$f":"IFERROR(VLOOKUP(C109,'商品一覧 (公開模試)'!$A:$P,2,FALSE),\"\")","v":""},null,null,null,null,null,null,null,null,null,null,null,null,null,null,null,{"$f":"IFERROR(VLOOKUP(C109,'商品一覧 (公開模試)'!$A:$P,4,FALSE),\"\")","v":""},null,null,null,null,null,null,null,"",null,null,"",null,null,{"$f":"COUNTIF('採点付(名簿) '!$F$14:$F$513,C109)","v":0},""]
[{"$f":"IF(D110<>\"\",D110,\"\")","v":""},50,null,{"$f":"IFERROR(VLOOKUP(C110,'商品一覧 (公開模試)'!$A:$P,2,FALSE),\"\")","v":""},null,null,null,null,null,null,null,null,null,null,null,null,null,null,null,{"$f":"IFERROR(VLOOKUP(C110,'商品一覧 (公開模試)'!$A:$P,4,FALSE),\"\")","v":""},null,null,null,null,null,null,null,{"$f":"IFERROR(IF(W110>0,W110*Z110,IF(Z110>0,T110*Z110,\"\")),\"\")","v":""},null,null,{"$f":"IFERROR(IF(W110>0,1-(W110/T110),\"\"),\"\")","v":""},null,null,{"$f":"COUNTIF('採点付(名簿) '!$F$14:$F$513,C110)","v":0},{"$f":"IF(Z110>AH110,\"名簿の数量が\"&Z110-AH110&\"不足しています。\",IF(Z110<AH110,\"申込書の数量が\"&AH110-Z110&\"不足しています\",\"\"))","v":""}]
["",51,null,{"$f":"IFERROR(VLOOKUP(C111,'商品一覧 (公開模試)'!$A:$P,2,FALSE),\"\")","v":""},null,null,null,null,null,null,null,null,null,null,null,null,null,null,null,{"$f":"IFERROR(VLOOKUP(C111,'商品一覧 (公開模試)'!$A:$P,4,FALSE),\"\")","v":""},null,null,null,null,null,null,null,"",null,null,"",null,null,{"$f":"COUNTIF('採点付(名簿) '!$F$14:$F$513,C111)","v":0},""]
["",52,null,{"$f":"IFERROR(VLOOKUP(C112,'商品一覧 (公開模試)'!$A:$P,2,FALSE),\"\")","v":""},null,null,null,null,null,null,null,null,null,null,null,null,null,null,null,{"$f":"IFERROR(VLOOKUP(C112,'商品一覧 (公開模試)'!$A:$P,4,FALSE),\"\")","v":""},null,null,null,null,null,null,null,"",null,null,"",null,null,{"$f":"COUNTIF('採点付(名簿) '!$F$14:$F$513,C112)","v":0},""]
["",53,null,{"$f":"IFERROR(VLOOKUP(C113,'商品一覧 (公開模試)'!$A:$P,2,FALSE),\"\")","v":""},null,null,null,null,null,null,null,null,null,null,null,null,null,null,null,{"$f":"IFERROR(VLOOKUP(C113,'商品一覧 (公開模試)'!$A:$P,4,FALSE),\"\")","v":""},null,null,null,null,null,null,null,"",null,null,"",null,null,{"$f":"COUNTIF('採点付(名簿) '!$F$14:$F$513,C113)","v":0},""]
["",54,null,{"$f":"IFERROR(VLOOKUP(C114,'商品一覧 (公開模試)'!$A:$P,2,FALSE),\"\")","v":""},null,null,null,null,null,null,null,null,null,null,null,null,null,null,null,{"$f":"IFERROR(VLOOKUP(C114,'商品一覧 (公開模試)'!$A:$P,4,FALSE),\"\")","v":""},null,null,null,null,null,null,null,"",null,null,"",null,null,{"$f":"COUNTIF('採点付(名簿) '!$F$14:$F$513,C114)","v":0},""]
["",55,null,{"$f":"IFERROR(VLOOKUP(C115,'商品一覧 (公開模試)'!$A:$P,2,FALSE),\"\")","v":""},null,null,null,null,null,null,null,null,null,null,null,null,null,null,null,{"$f":"IFERROR(VLOOKUP(C115,'商品一覧 (公開模試)'!$A:$P,4,FALSE),\"\")","v":""},null,null,null,null,null,null,null,"",null,null,"",null,null,{"$f":"COUNTIF('採点付(名簿) '!$F$14:$F$513,C115)","v":0},""]
["",56,null,{"$f":"IFERROR(VLOOKUP(C116,'商品一覧 (公開模試)'!$A:$P,2,FALSE),\"\")","v":""},null,null,null,null,null,null,null,null,null,null,null,null,null,null,null,{"$f":"IFERROR(VLOOKUP(C116,'商品一覧 (公開模試)'!$A:$P,4,FALSE),\"\")","v":""},null,null,null,null,null,null,null,"",null,null,"",null,null,{"$f":"COUNTIF('採点付(名簿) '!$F$14:$F$513,C116)","v":0},""]
["",57,null,{"$f":"IFERROR(VLOOKUP(C117,'商品一覧 (公開模試)'!$A:$P,2,FALSE),\"\")","v":""},null,null,null,null,null,null,null,null,null,null,null,null,null,null,null,{"$f":"IFERROR(VLOOKUP(C117,'商品一覧 (公開模試)'!$A:$P,4,FALSE),\"\")","v":""},null,null,null,null,null,null,null,{"$f":"IFERROR(IF(W117>0,W117*Z117,IF(Z117>0,T117*Z117,\"\")),\"\")","v":""},null,null,{"$f":"IFERROR(IF(W117>0,1-(W117/T117),\"\"),\"\")","v":""},null,null,{"$f":"COUNTIF('採点付(名簿) '!$F$14:$F$513,C117)","v":0},""]
["",58,null,{"$f":"IFERROR(VLOOKUP(C118,'商品一覧 (公開模試)'!$A:$P,2,FALSE),\"\")","v":""},null,null,null,null,null,null,null,null,null,null,null,null,null,null,null,{"$f":"IFERROR(VLOOKUP(C118,'商品一覧 (公開模試)'!$A:$P,4,FALSE),\"\")","v":""},null,null,null,null,null,null,null,"",null,null,"",null,null,{"$f":"COUNTIF('採点付(名簿) '!$F$14:$F$513,C118)","v":0},""]
["",9,null,{"$f":"IFERROR(VLOOKUP(C119,'商品一覧 (公開模試)'!$A:$P,2,FALSE),\"\")","v":""},null,null,null,null,null,null,null,null,null,null,null,null,null,null,null,{"$f":"IFERROR(VLOOKUP(C119,'商品一覧 (公開模試)'!$A:$P,4,FALSE),\"\")","v":""},null,null,null,null,null,null,null,"",null,null,"",null,null,{"$f":"COUNTIF('採点付(名簿) '!$F$14:$F$513,C119)","v":0},""]
["",10,null,{"$f":"IFERROR(VLOOKUP(C120,'商品一覧 (公開模試)'!$A:$P,2,FALSE),\"\")","v":""},null,null,null,null,null,null,null,null,null,null,null,null,null,null,null,{"$f":"IFERROR(VLOOKUP(C120,'商品一覧 (公開模試)'!$A:$P,4,FALSE),\"\")","v":""},null,null,null,null,null,null,null,"",null,null,"",null,null,{"$f":"COUNTIF('採点付(名簿) '!$F$14:$F$513,C120)","v":0},""]
["送料（手数料込）",null,"000005","送料（手数料込）",null,null,null,null,null,null,null,null,null,null,null,null,null,null,null,600,null,null,null,null,null,null,null,{"$f":"IF(W121>0,W121*Z121,IF(Z121>0,T121*Z121,\"\"))","v":""},null,null,{"$f":"IF(W121>0,1-(W121/T121),\"\")","v":""}]
["",null,null,null,null,null,null,null,null,null,null,null,null,null,null,null,null,null,null,null,null,null,null,null,null,null,null,{"$f":"IF(W122>0,W122*Z122,IF(Z122>0,#REF!*Z122,\"\"))","v":""},null,null,{"$f":"IF(W122>0,1-(W122/#REF!),\"\")","v":""},null,null,{"$f":"COUNTIF('採点付(名簿) '!$F$14:$F$513,C122)","v":0},{"$f":"IF(Z122>AH122,\"名簿の数量が\"&Z122-AH122&\"不足しています。\",IF(Z122<AH122,\"申込書の数量が\"&AH122-Z122&\"不足しています\",\"\"))","v":""}]
["","【注意点】",null,null,null,null,null,null,null,null,null,null,null,null,null,null,null,null,null,null,null,{"$f":"IF(W123>0,W123*Z123,IF(Z123>0,T123*Z123,\"\"))","v":""},null,null,null,null,null,null,null,null,null,null,null,{"$f":"COUNTIF('採点付(名簿) '!$F$14:$F$513,B123)","v":0},""]
[null,"「はじめにお読み下さい」の内容をご確認いただき承諾の上、購入申込みをお願いいたします。\n\n【会場試験開催規定】\n弊社は、全国統一公開模試会場試験及び基本情報技術者午前免除制度の修了試験において、次号の一つにでも該当する場合は、\n申込者及び受講生様に何ら告知することなく、会場試験の全部または一部の開催を中止できるものとします。\nこの場合、申込者及び受講生様に生じた損害について、弊社は一切の責任を負いません。\n\n１．火災、停電、感染症リスク等により、会場試験の提供ができなくなった場合\n２．地震、噴火、洪水、津波等の天災により会場試験の提供ができなくなった場合\n３．戦争、暴動、騒乱、労働争議等により会場試験の提供ができなくなった場合\n４．会場試験の運営に支障が生じると弊社が判断した場合\n\n【オンライン模試ご利用にあたって】\n PCで受験いただくWEB完結型の模擬試験です（スマホ・タブレットは対象外）",null,null,null,null,null,null,null,null,null,null,null,null,null,null,null,null,null,"税抜合計価格",null,null,null,null,null,{"$f":"SUM(Z61:AA123)","v":0},null,{"$f":"SUM(AB61:AB123)","v":0}]
[null,null,null,null,null,null,null,null,null,null,null,null,null,null,null,null,null,null,null,"消費税",null,null,null,null,null,null,null,{"$f":"ROUNDDOWN(INT(AB124*0.1),0)","v":0}]
[null,null,null,null,null,null,null,null,null,null,null,null,null,null,null,null,null,null,null,"税込合計価格",null,null,null,null,null,null,null,{"$f":"AB124+AB125","v":0}]
[]
[null,"アイテック記入欄"]
[null,"請求書への印字指示・・・必ず文の最初に＠を入れて下さい。",null,null,null,null,null,null,null,null,null,null,null,null,null,null,null,"合算：受注番号",null,null,null,"営業１",null,null,"営業２"]
[]
[null,"備考",null,null,null,null,null,null,null,null,null,null,null,null,null,null,null,null,null,null,null,"徳"]
[null,"請求",null,"形態","単体",null,null,null,null,"日付"]
[null,null,null,"方法",{"$f":"IF(F133=\"初回出荷後全請求\",\"2\",IF(F133=\"一括請求\",\"3\",IF(F133=\"分割請求\",\"4\",IF(F133=\"請求待ち\",\"5\",IF(F133=\"出荷都度請求\",\"0\",IF(F133=\"完納時請求\",\"1\",\"\"))))))","v":"3"},"一括請求",null,null,null,"日付"]
[null,"得意先コード",null,null,"得意先担当者コード",null,null,null,"請求先コード",null,null,null,"請求先担当者コード",null,null,null,"企業①コード",null,null,null,"企業担当者①コード",null,null,null,null,"企業②コード",null,null,"企業担当者②コード"]
[null,null,null,null,null,null,null,null,1289,null,null,null,2]

{"sheet":"採点付(名簿) ","index":3,"n_rows":513,"n_cols":23,"rows_kept":513,"cut":false,"hidden":false,"merged":[[5,20,9,20],[5,21,9,21],[5,22,9,22],[9,14,9,19],[5,13,5,19],[6,14,6,19],[5,12,6,12],[5,1,9,1],[5,2,9,2],[5,3,10,3],[5,4,9,4],[5,5,9,5],[5,11,6,11],[5,6,5,10]]}
[20,null,null,null,{"$f":"IF(採点付!K31=\"個人\",\"必須項目をご記入ください\",\"必要事項をご記入ください\")","v":"必要事項をご記入ください"},null,null,null,null,null,null,null,null,{"$f":"IF(採点付!K31=\"個人\",\"　\",\"↓ご担当者様一括送付のため、『送付先選択』および、『教材送付先』のご記入は不要です\")","v":"↓ご担当者様一括送付のため、『送付先選択』および、『教材送付先』のご記入は不要です"}]
[1,2,3,4,5,6,"1900-01-07","1900-01-08","1900-01-09","1900-01-10",11,12,13,14,15,16,17,18,19,20,21,22,23]
[null,{"$f":"採点付!K31","v":"選択してください↓"},null,""]
[null,null,null,null,null,null,"の項目は必須項目です"]
[null,null,null,null," 「はじめにお読み下さい」シート内の「個人情報のお取扱いについて」を募集時に周知いただくと共に、ご承諾を得てお申込みをお願いいたします。"]
[null,"氏名","フリガナ","No.","商品名（コース・教材）","コード(半角）","受講者情報登録　",null,null,null,null,"模試受験地の指定\n※23春は自宅・会社のみ\n※FE/SG（オンライン）は9：オンラインを選択してください","言語選択\n※基本情報技術者コース選択者のみ","個別発送の宛先",null,null,null,null,null,null,"社員番号","備考1","備考2"]
[null,null,null,null,null,null,"姓","名","セイ","メイ","メールアドレス",null,null,"送付先選択","教 材 送 付 先"]
[null,null,null,null,null,null,null,null,null,null,null,"1：自宅・会社","02：C言語","1：自宅","自宅〒","自宅住所１","自宅住所２","連絡先電話番号","×","×"]
[null,null,null,null,null,null,null,null,null,null,null,"2：東京会場","03：CASLⅡ","2：勤務先","勤務先〒","勤務先住所１","勤務先住所２","勤務先電話","会社名","部署名"]
[null,null,null,null,null,null,null,null,null,null,null,"3：大阪会場","04：JAVA"]
[null,null,null,null,null,null,null,null,null,null,"６０文字以内","４：名古屋会場","05：表計算","１文字","７文字","３０文字以内","２５文字以内","２０文字以内","２０文字以内","３０文字以内",null,"お客様","お客様"]
[null,null,null,null,null,"（半角）","（全角）","（全角）","（全角カナ）","（全角カナ）","（半角）","9：オンライン（FE/SG）","06：Python","（半角）","(半角－なし)","（すべて全角）","（すべて全角）","(半角－付き)","（全角）","（全角）","（半角）","使用欄","使用欄"]
[null,"日本　太郎","ニホン　タロウ","例","２０１８　ＩＴパスポート　スタンダードコース",405610,"日本","太郎","ニホン","タロウ","tarou@itec.co.jp","2",null,"1","1230023","住所１　都道府県名～番地","ビル、マンション名など","03-1234-1234","株式会社アイテック","…部…課","123456"]
[null,{"$f":"G14&\"　\"&H14","v":"　"},{"$f":"I14&\"　\"&J14","v":"　"},1,null,{"$f":"IF(E14<>\"\",VLOOKUP(E14,採点付!A:C,3,0),\"\")","v":""}]
[null,"　","　",2,null,{"$f":"IF(E15<>\"\",VLOOKUP(E15,採点付!A:C,3,0),\"\")","v":""}]
[null,"　","　",3,null,{"$f":"IF(E16<>\"\",VLOOKUP(E16,採点付!A:C,3,0),\"\")","v":""}]
[null,"　","　",4,null,{"$f":"IF(E17<>\"\",VLOOKUP(E17,採点付!A:C,3,0),\"\")","v":""}]
[null,"　","　",5,null,{"$f":"IF(E18<>\"\",VLOOKUP(E18,採点付!A:C,3,0),\"\")","v":""}]
[null,"　","　",6,null,{"$f":"IF(E19<>\"\",VLOOKUP(E19,採点付!A:C,3,0),\"\")","v":""}]
[null,"　","　",7,null,{"$f":"IF(E20<>\"\",VLOOKUP(E20,採点付!A:C,3,0),\"\")","v":""}]
[null,"　","　",8,null,{"$f":"IF(E21<>\"\",VLOOKUP(E21,採点付!A:C,3,0),\"\")","v":""}]
[null,"　","　",9,null,{"$f":"IF(E22<>\"\",VLOOKUP(E22,採点付!A:C,3,0),\"\")","v":""}]
[null,"　","　",10,null,{"$f":"IF(E23<>\"\",VLOOKUP(E23,採点付!A:C,3,0),\"\")","v":""}]
[null,"　","　",11,null,{"$f":"IF(E24<>\"\",VLOOKUP(E24,採点付!A:C,3,0),\"\")","v":""}]
[null,"　","　",12,null,{"$f":"IF(E25<>\"\",VLOOKUP(E25,採点付!A:C,3,0),\"\")","v":""}]
[null,"　","　",13,null,{"$f":"IF(E26<>\"\",VLOOKUP(E26,採点付!A:C,3,0),\"\")","v":""}]
[null,"　","　",14,null,{"$f":"IF(E27<>\"\",VLOOKUP(E27,採点付!A:C,3,0),\"\")","v":""}]
[null,"　","　",15,null,{"$f":"IF(E28<>\"\",VLOOKUP(E28,採点付!A:C,3,0),\"\")","v":""}]
[null,"　","　",16,null,{"$f":"IF(E29<>\"\",VLOOKUP(E29,採点付!A:C,3,0),\"\")","v":""}]
[null,"　","　",17,null,{"$f":"IF(E30<>\"\",VLOOKUP(E30,採点付!A:C,3,0),\"\")","v":""}]
[null,"　","　",18,null,{"$f":"IF(E31<>\"\",VLOOKUP(E31,採点付!A:C,3,0),\"\")","v":""}]
[null,"　","　",19,null,{"$f":"IF(E32<>\"\",VLOOKUP(E32,採点付!A:C,3,0),\"\")","v":""}]
[null,"　","　",20,null,{"$f":"IF(E33<>\"\",VLOOKUP(E33,採点付!A:C,3,0),\"\")","v":""}]
[null,"　","　",21,null,{"$f":"IF(E34<>\"\",VLOOKUP(E34,採点付!A:C,3,0),\"\")","v":""}]
[null,"　","　",22,null,{"$f":"IF(E35<>\"\",VLOOKUP(E35,採点付!A:C,3,0),\"\")","v":""}]
[null,"　","　",23,null,{"$f":"IF(E36<>\"\",VLOOKUP(E36,採点付!A:C,3,0),\"\")","v":""}]
[null,"　","　",24,null,{"$f":"IF(E37<>\"\",VLOOKUP(E37,採点付!A:C,3,0),\"\")","v":""}]
[null,"　","　",25,null,{"$f":"IF(E38<>\"\",VLOOKUP(E38,採点付!A:C,3,0),\"\")","v":""}]
[null,"　","　",26,null,{"$f":"IF(E39<>\"\",VLOOKUP(E39,採点付!A:C,3,0),\"\")","v":""}]
[null,"　","　",27,null,{"$f":"IF(E40<>\"\",VLOOKUP(E40,採点付!A:C,3,0),\"\")","v":""}]
[null,"　","　",28,null,{"$f":"IF(E41<>\"\",VLOOKUP(E41,採点付!A:C,3,0),\"\")","v":""}]
[null,"　","　",29,null,{"$f":"IF(E42<>\"\",VLOOKUP(E42,採点付!A:C,3,0),\"\")","v":""}]
[null,"　","　",30,null,{"$f":"IF(E43<>\"\",VLOOKUP(E43,採点付!A:C,3,0),\"\")","v":""}]
[null,"　","　",31,null,{"$f":"IF(E44<>\"\",VLOOKUP(E44,採点付!A:C,3,0),\"\")","v":""}]
[null,"　","　",32,null,{"$f":"IF(E45<>\"\",VLOOKUP(E45,採点付!A:C,3,0),\"\")","v":""}]
[null,"　","　",33,null,{"$f":"IF(E46<>\"\",VLOOKUP(E46,採点付!A:C,3,0),\"\")","v":""}]
[null,"　","　",34,null,{"$f":"IF(E47<>\"\",VLOOKUP(E47,採点付!A:C,3,0),\"\")","v":""}]
[null,"　","　",35,null,{"$f":"IF(E48<>\"\",VLOOKUP(E48,採点付!A:C,3,0),\"\")","v":""}]
[null,"　","　",36,null,{"$f":"IF(E49<>\"\",VLOOKUP(E49,採点付!A:C,3,0),\"\")","v":""}]
[null,"　","　",37,null,{"$f":"IF(E50<>\"\",VLOOKUP(E50,採点付!A:C,3,0),\"\")","v":""}]
[null,"　","　",38,null,{"$f":"IF(E51<>\"\",VLOOKUP(E51,採点付!A:C,3,0),\"\")","v":""}]
[null,"　","　",39,null,{"$f":"IF(E52<>\"\",VLOOKUP(E52,採点付!A:C,3,0),\"\")","v":""}]
[null,"　","　",40,null,{"$f":"IF(E53<>\"\",VLOOKUP(E53,採点付!A:C,3,0),\"\")","v":""}]
[null,"　","　",41,null,{"$f":"IF(E54<>\"\",VLOOKUP(E54,採点付!A:C,3,0),\"\")","v":""}]
[null,"　","　",42,null,{"$f":"IF(E55<>\"\",VLOOKUP(E55,採点付!A:C,3,0),\"\")","v":""}]
[null,"　","　",43,null,{"$f":"IF(E56<>\"\",VLOOKUP(E56,採点付!A:C,3,0),\"\")","v":""}]
[null,"　","　",44,null,{"$f":"IF(E57<>\"\",VLOOKUP(E57,採点付!A:C,3,0),\"\")","v":""}]
[null,"　","　",45,null,{"$f":"IF(E58<>\"\",VLOOKUP(E58,採点付!A:C,3,0),\"\")","v":""}]
[null,"　","　",46,null,{"$f":"IF(E59<>\"\",VLOOKUP(E59,採点付!A:C,3,0),\"\")","v":""}]
[null,"　","　",47,null,{"$f":"IF(E60<>\"\",VLOOKUP(E60,採点付!A:C,3,0),\"\")","v":""}]
[null,"　","　",48,null,{"$f":"IF(E61<>\"\",VLOOKUP(E61,採点付!A:C,3,0),\"\")","v":""}]
[null,"　","　",49,null,{"$f":"IF(E62<>\"\",VLOOKUP(E62,採点付!A:C,3,0),\"\")","v":""}]
[null,"　","　",50,null,{"$f":"IF(E63<>\"\",VLOOKUP(E63,採点付!A:C,3,0),\"\")","v":""}]
[null,"　","　",51,null,{"$f":"IF(E64<>\"\",VLOOKUP(E64,採点付!A:C,3,0),\"\")","v":""}]
[null,"　","　",52,null,{"$f":"IF(E65<>\"\",VLOOKUP(E65,採点付!A:C,3,0),\"\")","v":""}]
[null,"　","　",53,null,{"$f":"IF(E66<>\"\",VLOOKUP(E66,採点付!A:C,3,0),\"\")","v":""}]
[null,"　","　",54,null,{"$f":"IF(E67<>\"\",VLOOKUP(E67,採点付!A:C,3,0),\"\")","v":""}]
[null,"　","　",55,null,{"$f":"IF(E68<>\"\",VLOOKUP(E68,採点付!A:C,3,0),\"\")","v":""}]
[null,"　","　",56,null,{"$f":"IF(E69<>\"\",VLOOKUP(E69,採点付!A:C,3,0),\"\")","v":""}]
[null,"　","　",57,null,{"$f":"IF(E70<>\"\",VLOOKUP(E70,採点付!A:C,3,0),\"\")","v":""}]
[null,"　","　",58,null,{"$f":"IF(E71<>\"\",VLOOKUP(E71,採点付!A:C,3,0),\"\")","v":""}]
[null,"　","　",59,null,{"$f":"IF(E72<>\"\",VLOOKUP(E72,採点付!A:C,3,0),\"\")","v":""}]
[null,"　","　",60,null,{"$f":"IF(E73<>\"\",VLOOKUP(E73,採点付!A:C,3,0),\"\")","v":""}]
[null,"　","　",61,null,{"$f":"IF(E74<>\"\",VLOOKUP(E74,採点付!A:C,3,0),\"\")","v":""}]
[null,"　","　",62,null,{"$f":"IF(E75<>\"\",VLOOKUP(E75,採点付!A:C,3,0),\"\")","v":""}]
[null,"　","　",63,null,{"$f":"IF(E76<>\"\",VLOOKUP(E76,採点付!A:C,3,0),\"\")","v":""}]
[null,"　","　",64,null,{"$f":"IF(E77<>\"\",VLOOKUP(E77,採点付!A:C,3,0),\"\")","v":""}]
[null,{"$f":"G78&\"　\"&H78","v":"　"},{"$f":"I78&\"　\"&J78","v":"　"},65,null,{"$f":"IF(E78<>\"\",VLOOKUP(E78,採点付!A:C,3,0),\"\")","v":""}]
[null,"　","　",66,null,{"$f":"IF(E79<>\"\",VLOOKUP(E79,採点付!A:C,3,0),\"\")","v":""}]
[null,"　","　",67,null,{"$f":"IF(E80<>\"\",VLOOKUP(E80,採点付!A:C,3,0),\"\")","v":""}]
[null,"　","　",68,null,{"$f":"IF(E81<>\"\",VLOOKUP(E81,採点付!A:C,3,0),\"\")","v":""}]
[null,"　","　",69,null,{"$f":"IF(E82<>\"\",VLOOKUP(E82,採点付!A:C,3,0),\"\")","v":""}]
[null,"　","　",70,null,{"$f":"IF(E83<>\"\",VLOOKUP(E83,採点付!A:C,3,0),\"\")","v":""}]
[null,"　","　",71,null,{"$f":"IF(E84<>\"\",VLOOKUP(E84,採点付!A:C,3,0),\"\")","v":""}]
[null,"　","　",72,null,{"$f":"IF(E85<>\"\",VLOOKUP(E85,採点付!A:C,3,0),\"\")","v":""}]
[null,"　","　",73,null,{"$f":"IF(E86<>\"\",VLOOKUP(E86,採点付!A:C,3,0),\"\")","v":""}]
[null,"　","　",74,null,{"$f":"IF(E87<>\"\",VLOOKUP(E87,採点付!A:C,3,0),\"\")","v":""}]
[null,"　","　",75,null,{"$f":"IF(E88<>\"\",VLOOKUP(E88,採点付!A:C,3,0),\"\")","v":""}]
[null,"　","　",76,null,{"$f":"IF(E89<>\"\",VLOOKUP(E89,採点付!A:C,3,0),\"\")","v":""}]
[null,"　","　",77,null,{"$f":"IF(E90<>\"\",VLOOKUP(E90,採点付!A:C,3,0),\"\")","v":""}]
[null,"　","　",78,null,{"$f":"IF(E91<>\"\",VLOOKUP(E91,採点付!A:C,3,0),\"\")","v":""}]
[null,"　","　",79,null,{"$f":"IF(E92<>\"\",VLOOKUP(E92,採点付!A:C,3,0),\"\")","v":""}]
[null,"　","　",80,null,{"$f":"IF(E93<>\"\",VLOOKUP(E93,採点付!A:C,3,0),\"\")","v":""}]
[null,"　","　",81,null,{"$f":"IF(E94<>\"\",VLOOKUP(E94,採点付!A:C,3,0),\"\")","v":""}]
[null,"　","　",82,null,{"$f":"IF(E95<>\"\",VLOOKUP(E95,採点付!A:C,3,0),\"\")","v":""}]
[null,"　","　",83,null,{"$f":"IF(E96<>\"\",VLOOKUP(E96,採点付!A:C,3,0),\"\")","v":""}]
[null,"　","　",84,null,{"$f":"IF(E97<>\"\",VLOOKUP(E97,採点付!A:C,3,0),\"\")","v":""}]
[null,"　","　",85,null,{"$f":"IF(E98<>\"\",VLOOKUP(E98,採点付!A:C,3,0),\"\")","v":""}]
[null,"　","　",86,null,{"$f":"IF(E99<>\"\",VLOOKUP(E99,採点付!A:C,3,0),\"\")","v":""}]
[null,"　","　",87,null,{"$f":"IF(E100<>\"\",VLOOKUP(E100,採点付!A:C,3,0),\"\")","v":""}]
[null,"　","　",88,null,{"$f":"IF(E101<>\"\",VLOOKUP(E101,採点付!A:C,3,0),\"\")","v":""}]
[null,"　","　",89,null,{"$f":"IF(E102<>\"\",VLOOKUP(E102,採点付!A:C,3,0),\"\")","v":""}]
[null,"　","　",90,null,{"$f":"IF(E103<>\"\",VLOOKUP(E103,採点付!A:C,3,0),\"\")","v":""}]
[null,"　","　",91,null,{"$f":"IF(E104<>\"\",VLOOKUP(E104,採点付!A:C,3,0),\"\")","v":""}]
[null,"　","　",92,null,{"$f":"IF(E105<>\"\",VLOOKUP(E105,採点付!A:C,3,0),\"\")","v":""}]
[null,"　","　",93,null,{"$f":"IF(E106<>\"\",VLOOKUP(E106,採点付!A:C,3,0),\"\")","v":""}]
[null,"　","　",94,null,{"$f":"IF(E107<>\"\",VLOOKUP(E107,採点付!A:C,3,0),\"\")","v":""}]
[null,"　","　",95,null,{"$f":"IF(E108<>\"\",VLOOKUP(E108,採点付!A:C,3,0),\"\")","v":""}]
[null,"　","　",96,null,{"$f":"IF(E109<>\"\",VLOOKUP(E109,採点付!A:C,3,0),\"\")","v":""}]
[null,"　","　",97,null,{"$f":"IF(E110<>\"\",VLOOKUP(E110,採点付!A:C,3,0),\"\")","v":""}]
[null,"　","　",98,null,{"$f":"IF(E111<>\"\",VLOOKUP(E111,採点付!A:C,3,0),\"\")","v":""}]
[null,"　","　",99,null,{"$f":"IF(E112<>\"\",VLOOKUP(E112,採点付!A:C,3,0),\"\")","v":""}]
[null,"　","　",100,null,{"$f":"IF(E113<>\"\",VLOOKUP(E113,採点付!A:C,3,0),\"\")","v":""}]
[null,"　","　",101,null,{"$f":"IF(E114<>\"\",VLOOKUP(E114,採点付!A:C,3,0),\"\")","v":""}]
[null,"　","　",102,null,{"$f":"IF(E115<>\"\",VLOOKUP(E115,採点付!A:C,3,0),\"\")","v":""}]
[null,"　","　",103,null,{"$f":"IF(E116<>\"\",VLOOKUP(E116,採点付!A:C,3,0),\"\")","v":""}]
[null,"　","　",104,null,{"$f":"IF(E117<>\"\",VLOOKUP(E117,採点付!A:C,3,0),\"\")","v":""}]
[null,"　","　",105,null,{"$f":"IF(E118<>\"\",VLOOKUP(E118,採点付!A:C,3,0),\"\")","v":""}]
[null,"　","　",106,null,{"$f":"IF(E119<>\"\",VLOOKUP(E119,採点付!A:C,3,0),\"\")","v":""}]
[null,"　","　",107,null,{"$f":"IF(E120<>\"\",VLOOKUP(E120,採点付!A:C,3,0),\"\")","v":""}]
[null,"　","　",108,null,{"$f":"IF(E121<>\"\",VLOOKUP(E121,採点付!A:C,3,0),\"\")","v":""}]
[null,"　","　",109,null,{"$f":"IF(E122<>\"\",VLOOKUP(E122,採点付!A:C,3,0),\"\")","v":""}]
[null,"　","　",110,null,{"$f":"IF(E123<>\"\",VLOOKUP(E123,採点付!A:C,3,0),\"\")","v":""}]
[null,"　","　",111,null,{"$f":"IF(E124<>\"\",VLOOKUP(E124,採点付!A:C,3,0),\"\")","v":""}]
[null,"　","　",112,null,{"$f":"IF(E125<>\"\",VLOOKUP(E125,採点付!A:C,3,0),\"\")","v":""}]
[null,"　","　",113,null,{"$f":"IF(E126<>\"\",VLOOKUP(E126,採点付!A:C,3,0),\"\")","v":""}]
[null,"　","　",114,null,{"$f":"IF(E127<>\"\",VLOOKUP(E127,採点付!A:C,3,0),\"\")","v":""}]
[null,"　","　",115,null,{"$f":"IF(E128<>\"\",VLOOKUP(E128,採点付!A:C,3,0),\"\")","v":""}]
[null,"　","　",116,null,{"$f":"IF(E129<>\"\",VLOOKUP(E129,採点付!A:C,3,0),\"\")","v":""}]
[null,"　","　",117,null,{"$f":"IF(E130<>\"\",VLOOKUP(E130,採点付!A:C,3,0),\"\")","v":""}]
[null,"　","　",118,null,{"$f":"IF(E131<>\"\",VLOOKUP(E131,採点付!A:C,3,0),\"\")","v":""}]
[null,"　","　",119,null,{"$f":"IF(E132<>\"\",VLOOKUP(E132,採点付!A:C,3,0),\"\")","v":""}]
[null,"　","　",120,null,{"$f":"IF(E133<>\"\",VLOOKUP(E133,採点付!A:C,3,0),\"\")","v":""}]
[null,"　","　",121,null,{"$f":"IF(E134<>\"\",VLOOKUP(E134,採点付!A:C,3,0),\"\")","v":""}]
[null,"　","　",122,null,{"$f":"IF(E135<>\"\",VLOOKUP(E135,採点付!A:C,3,0),\"\")","v":""}]
[null,"　","　",123,null,{"$f":"IF(E136<>\"\",VLOOKUP(E136,採点付!A:C,3,0),\"\")","v":""}]
[null,"　","　",124,null,{"$f":"IF(E137<>\"\",VLOOKUP(E137,採点付!A:C,3,0),\"\")","v":""}]
[null,"　","　",125,null,{"$f":"IF(E138<>\"\",VLOOKUP(E138,採点付!A:C,3,0),\"\")","v":""}]
[null,"　","　",126,null,{"$f":"IF(E139<>\"\",VLOOKUP(E139,採点付!A:C,3,0),\"\")","v":""}]
[null,"　","　",127,null,{"$f":"IF(E140<>\"\",VLOOKUP(E140,採点付!A:C,3,0),\"\")","v":""}]
[null,"　","　",128,null,{"$f":"IF(E141<>\"\",VLOOKUP(E141,採点付!A:C,3,0),\"\")","v":""}]
[null,{"$f":"G142&\"　\"&H142","v":"　"},{"$f":"I142&\"　\"&J142","v":"　"},129,null,{"$f":"IF(E142<>\"\",VLOOKUP(E142,採点付!A:C,3,0),\"\")","v":""}]
[null,"　","　",130,null,{"$f":"IF(E143<>\"\",VLOOKUP(E143,採点付!A:C,3,0),\"\")","v":""}]
[null,"　","　",131,null,{"$f":"IF(E144<>\"\",VLOOKUP(E144,採点付!A:C,3,0),\"\")","v":""}]
[null,"　","　",132,null,{"$f":"IF(E145<>\"\",VLOOKUP(E145,採点付!A:C,3,0),\"\")","v":""}]
[null,"　","　",133,null,{"$f":"IF(E146<>\"\",VLOOKUP(E146,採点付!A:C,3,0),\"\")","v":""}]
[null,"　","　",134,null,{"$f":"IF(E147<>\"\",VLOOKUP(E147,採点付!A:C,3,0),\"\")","v":""}]
[null,"　","　",135,null,{"$f":"IF(E148<>\"\",VLOOKUP(E148,採点付!A:C,3,0),\"\")","v":""}]
[null,"　","　",136,null,{"$f":"IF(E149<>\"\",VLOOKUP(E149,採点付!A:C,3,0),\"\")","v":""}]
[null,"　","　",137,null,{"$f":"IF(E150<>\"\",VLOOKUP(E150,採点付!A:C,3,0),\"\")","v":""}]
[null,"　","　",138,null,{"$f":"IF(E151<>\"\",VLOOKUP(E151,採点付!A:C,3,0),\"\")","v":""}]
[null,"　","　",139,null,{"$f":"IF(E152<>\"\",VLOOKUP(E152,採点付!A:C,3,0),\"\")","v":""}]
[null,"　","　",140,null,{"$f":"IF(E153<>\"\",VLOOKUP(E153,採点付!A:C,3,0),\"\")","v":""}]
[null,"　","　",141,null,{"$f":"IF(E154<>\"\",VLOOKUP(E154,採点付!A:C,3,0),\"\")","v":""}]
[null,"　","　",142,null,{"$f":"IF(E155<>\"\",VLOOKUP(E155,採点付!A:C,3,0),\"\")","v":""}]
[null,"　","　",143,null,{"$f":"IF(E156<>\"\",VLOOKUP(E156,採点付!A:C,3,0),\"\")","v":""}]
[null,"　","　",144,null,{"$f":"IF(E157<>\"\",VLOOKUP(E157,採点付!A:C,3,0),\"\")","v":""}]
[null,"　","　",145,null,{"$f":"IF(E158<>\"\",VLOOKUP(E158,採点付!A:C,3,0),\"\")","v":""}]
[null,"　","　",146,null,{"$f":"IF(E159<>\"\",VLOOKUP(E159,採点付!A:C,3,0),\"\")","v":""}]
[null,"　","　",147,null,{"$f":"IF(E160<>\"\",VLOOKUP(E160,採点付!A:C,3,0),\"\")","v":""}]
[null,"　","　",148,null,{"$f":"IF(E161<>\"\",VLOOKUP(E161,採点付!A:C,3,0),\"\")","v":""}]
[null,"　","　",149,null,{"$f":"IF(E162<>\"\",VLOOKUP(E162,採点付!A:C,3,0),\"\")","v":""}]
[null,"　","　",150,null,{"$f":"IF(E163<>\"\",VLOOKUP(E163,採点付!A:C,3,0),\"\")","v":""}]
[null,"　","　",151,null,{"$f":"IF(E164<>\"\",VLOOKUP(E164,採点付!A:C,3,0),\"\")","v":""}]
[null,"　","　",152,null,{"$f":"IF(E165<>\"\",VLOOKUP(E165,採点付!A:C,3,0),\"\")","v":""}]
[null,"　","　",153,null,{"$f":"IF(E166<>\"\",VLOOKUP(E166,採点付!A:C,3,0),\"\")","v":""}]
[null,"　","　",154,null,{"$f":"IF(E167<>\"\",VLOOKUP(E167,採点付!A:C,3,0),\"\")","v":""}]
[null,"　","　",155,null,{"$f":"IF(E168<>\"\",VLOOKUP(E168,採点付!A:C,3,0),\"\")","v":""}]
[null,"　","　",156,null,{"$f":"IF(E169<>\"\",VLOOKUP(E169,採点付!A:C,3,0),\"\")","v":""}]
[null,"　","　",157,null,{"$f":"IF(E170<>\"\",VLOOKUP(E170,採点付!A:C,3,0),\"\")","v":""}]
[null,"　","　",158,null,{"$f":"IF(E171<>\"\",VLOOKUP(E171,採点付!A:C,3,0),\"\")","v":""}]
[null,"　","　",159,null,{"$f":"IF(E172<>\"\",VLOOKUP(E172,採点付!A:C,3,0),\"\")","v":""}]
[null,"　","　",160,null,{"$f":"IF(E173<>\"\",VLOOKUP(E173,採点付!A:C,3,0),\"\")","v":""}]
[null,"　","　",161,null,{"$f":"IF(E174<>\"\",VLOOKUP(E174,採点付!A:C,3,0),\"\")","v":""}]
[null,"　","　",162,null,{"$f":"IF(E175<>\"\",VLOOKUP(E175,採点付!A:C,3,0),\"\")","v":""}]
[null,"　","　",163,null,{"$f":"IF(E176<>\"\",VLOOKUP(E176,採点付!A:C,3,0),\"\")","v":""}]
[null,"　","　",164,null,{"$f":"IF(E177<>\"\",VLOOKUP(E177,採点付!A:C,3,0),\"\")","v":""}]
[null,"　","　",165,null,{"$f":"IF(E178<>\"\",VLOOKUP(E178,採点付!A:C,3,0),\"\")","v":""}]
[null,"　","　",166,null,{"$f":"IF(E179<>\"\",VLOOKUP(E179,採点付!A:C,3,0),\"\")","v":""}]
[null,"　","　",167,null,{"$f":"IF(E180<>\"\",VLOOKUP(E180,採点付!A:C,3,0),\"\")","v":""}]
[null,"　","　",168,null,{"$f":"IF(E181<>\"\",VLOOKUP(E181,採点付!A:C,3,0),\"\")","v":""}]
[null,"　","　",169,null,{"$f":"IF(E182<>\"\",VLOOKUP(E182,採点付!A:C,3,0),\"\")","v":""}]
[null,"　","　",170,null,{"$f":"IF(E183<>\"\",VLOOKUP(E183,採点付!A:C,3,0),\"\")","v":""}]
[null,"　","　",171,null,{"$f":"IF(E184<>\"\",VLOOKUP(E184,採点付!A:C,3,0),\"\")","v":""}]
[null,"　","　",172,null,{"$f":"IF(E185<>\"\",VLOOKUP(E185,採点付!A:C,3,0),\"\")","v":""}]
[null,"　","　",173,null,{"$f":"IF(E186<>\"\",VLOOKUP(E186,採点付!A:C,3,0),\"\")","v":""}]
[null,"　","　",174,null,{"$f":"IF(E187<>\"\",VLOOKUP(E187,採点付!A:C,3,0),\"\")","v":""}]
[null,"　","　",175,null,{"$f":"IF(E188<>\"\",VLOOKUP(E188,採点付!A:C,3,0),\"\")","v":""}]
[null,"　","　",176,null,{"$f":"IF(E189<>\"\",VLOOKUP(E189,採点付!A:C,3,0),\"\")","v":""}]
[null,"　","　",177,null,{"$f":"IF(E190<>\"\",VLOOKUP(E190,採点付!A:C,3,0),\"\")","v":""}]
[null,"　","　",178,null,{"$f":"IF(E191<>\"\",VLOOKUP(E191,採点付!A:C,3,0),\"\")","v":""}]
[null,"　","　",179,null,{"$f":"IF(E192<>\"\",VLOOKUP(E192,採点付!A:C,3,0),\"\")","v":""}]
[null,"　","　",180,null,{"$f":"IF(E193<>\"\",VLOOKUP(E193,採点付!A:C,3,0),\"\")","v":""}]
[null,"　","　",181,null,{"$f":"IF(E194<>\"\",VLOOKUP(E194,採点付!A:C,3,0),\"\")","v":""}]
[null,"　","　",182,null,{"$f":"IF(E195<>\"\",VLOOKUP(E195,採点付!A:C,3,0),\"\")","v":""}]
[null,"　","　",183,null,{"$f":"IF(E196<>\"\",VLOOKUP(E196,採点付!A:C,3,0),\"\")","v":""}]
[null,"　","　",184,null,{"$f":"IF(E197<>\"\",VLOOKUP(E197,採点付!A:C,3,0),\"\")","v":""}]
[null,"　","　",185,null,{"$f":"IF(E198<>\"\",VLOOKUP(E198,採点付!A:C,3,0),\"\")","v":""}]
[null,"　","　",186,null,{"$f":"IF(E199<>\"\",VLOOKUP(E199,採点付!A:C,3,0),\"\")","v":""}]
[null,"　","　",187,null,{"$f":"IF(E200<>\"\",VLOOKUP(E200,採点付!A:C,3,0),\"\")","v":""}]
[null,"　","　",188,null,{"$f":"IF(E201<>\"\",VLOOKUP(E201,採点付!A:C,3,0),\"\")","v":""}]
[null,"　","　",189,null,{"$f":"IF(E202<>\"\",VLOOKUP(E202,採点付!A:C,3,0),\"\")","v":""}]
[null,"　","　",190,null,{"$f":"IF(E203<>\"\",VLOOKUP(E203,採点付!A:C,3,0),\"\")","v":""}]
[null,"　","　",191,null,{"$f":"IF(E204<>\"\",VLOOKUP(E204,採点付!A:C,3,0),\"\")","v":""}]
[null,"　","　",192,null,{"$f":"IF(E205<>\"\",VLOOKUP(E205,採点付!A:C,3,0),\"\")","v":""}]
[null,{"$f":"G206&\"　\"&H206","v":"　"},{"$f":"I206&\"　\"&J206","v":"　"},193,null,{"$f":"IF(E206<>\"\",VLOOKUP(E206,採点付!A:C,3,0),\"\")","v":""}]
[null,"　","　",194,null,{"$f":"IF(E207<>\"\",VLOOKUP(E207,採点付!A:C,3,0),\"\")","v":""}]
[null,"　","　",195,null,{"$f":"IF(E208<>\"\",VLOOKUP(E208,採点付!A:C,3,0),\"\")","v":""}]
[null,"　","　",196,null,{"$f":"IF(E209<>\"\",VLOOKUP(E209,採点付!A:C,3,0),\"\")","v":""}]
[null,"　","　",197,null,{"$f":"IF(E210<>\"\",VLOOKUP(E210,採点付!A:C,3,0),\"\")","v":""}]
[null,"　","　",198,null,{"$f":"IF(E211<>\"\",VLOOKUP(E211,採点付!A:C,3,0),\"\")","v":""}]
[null,"　","　",199,null,{"$f":"IF(E212<>\"\",VLOOKUP(E212,採点付!A:C,3,0),\"\")","v":""}]
[null,"　","　",200,null,{"$f":"IF(E213<>\"\",VLOOKUP(E213,採点付!A:C,3,0),\"\")","v":""}]
[null,"　","　",201,null,{"$f":"IF(E214<>\"\",VLOOKUP(E214,採点付!A:C,3,0),\"\")","v":""}]
[null,"　","　",202,null,{"$f":"IF(E215<>\"\",VLOOKUP(E215,採点付!A:C,3,0),\"\")","v":""}]
[null,"　","　",203,null,{"$f":"IF(E216<>\"\",VLOOKUP(E216,採点付!A:C,3,0),\"\")","v":""}]
[null,"　","　",204,null,{"$f":"IF(E217<>\"\",VLOOKUP(E217,採点付!A:C,3,0),\"\")","v":""}]
[null,"　","　",205,null,{"$f":"IF(E218<>\"\",VLOOKUP(E218,採点付!A:C,3,0),\"\")","v":""}]
[null,"　","　",206,null,{"$f":"IF(E219<>\"\",VLOOKUP(E219,採点付!A:C,3,0),\"\")","v":""}]
[null,"　","　",207,null,{"$f":"IF(E220<>\"\",VLOOKUP(E220,採点付!A:C,3,0),\"\")","v":""}]
[null,"　","　",208,null,{"$f":"IF(E221<>\"\",VLOOKUP(E221,採点付!A:C,3,0),\"\")","v":""}]
[null,"　","　",209,null,{"$f":"IF(E222<>\"\",VLOOKUP(E222,採点付!A:C,3,0),\"\")","v":""}]
[null,"　","　",210,null,{"$f":"IF(E223<>\"\",VLOOKUP(E223,採点付!A:C,3,0),\"\")","v":""}]
[null,"　","　",211,null,{"$f":"IF(E224<>\"\",VLOOKUP(E224,採点付!A:C,3,0),\"\")","v":""}]
[null,"　","　",212,null,{"$f":"IF(E225<>\"\",VLOOKUP(E225,採点付!A:C,3,0),\"\")","v":""}]
[null,"　","　",213,null,{"$f":"IF(E226<>\"\",VLOOKUP(E226,採点付!A:C,3,0),\"\")","v":""}]
[null,"　","　",214,null,{"$f":"IF(E227<>\"\",VLOOKUP(E227,採点付!A:C,3,0),\"\")","v":""}]
[null,"　","　",215,null,{"$f":"IF(E228<>\"\",VLOOKUP(E228,採点付!A:C,3,0),\"\")","v":""}]
[null,"　","　",216,null,{"$f":"IF(E229<>\"\",VLOOKUP(E229,採点付!A:C,3,0),\"\")","v":""}]
[null,"　","　",217,null,{"$f":"IF(E230<>\"\",VLOOKUP(E230,採点付!A:C,3,0),\"\")","v":""}]
[null,"　","　",218,null,{"$f":"IF(E231<>\"\",VLOOKUP(E231,採点付!A:C,3,0),\"\")","v":""}]
[null,"　","　",219,null,{"$f":"IF(E232<>\"\",VLOOKUP(E232,採点付!A:C,3,0),\"\")","v":""}]
[null,"　","　",220,null,{"$f":"IF(E233<>\"\",VLOOKUP(E233,採点付!A:C,3,0),\"\")","v":""}]
[null,"　","　",221,null,{"$f":"IF(E234<>\"\",VLOOKUP(E234,採点付!A:C,3,0),\"\")","v":""}]
[null,"　","　",222,null,{"$f":"IF(E235<>\"\",VLOOKUP(E235,採点付!A:C,3,0),\"\")","v":""}]
[null,"　","　",223,null,{"$f":"IF(E236<>\"\",VLOOKUP(E236,採点付!A:C,3,0),\"\")","v":""}]
[null,"　","　",224,null,{"$f":"IF(E237<>\"\",VLOOKUP(E237,採点付!A:C,3,0),\"\")","v":""}]
[null,"　","　",225,null,{"$f":"IF(E238<>\"\",VLOOKUP(E238,採点付!A:C,3,0),\"\")","v":""}]
[null,"　","　",226,null,{"$f":"IF(E239<>\"\",VLOOKUP(E239,採点付!A:C,3,0),\"\")","v":""}]
[null,"　","　",227,null,{"$f":"IF(E240<>\"\",VLOOKUP(E240,採点付!A:C,3,0),\"\")","v":""}]
[null,"　","　",228,null,{"$f":"IF(E241<>\"\",VLOOKUP(E241,採点付!A:C,3,0),\"\")","v":""}]
[null,"　","　",229,null,{"$f":"IF(E242<>\"\",VLOOKUP(E242,採点付!A:C,3,0),\"\")","v":""}]
[null,"　","　",230,null,{"$f":"IF(E243<>\"\",VLOOKUP(E243,採点付!A:C,3,0),\"\")","v":""}]
[null,"　","　",231,null,{"$f":"IF(E244<>\"\",VLOOKUP(E244,採点付!A:C,3,0),\"\")","v":""}]
[null,"　","　",232,null,{"$f":"IF(E245<>\"\",VLOOKUP(E245,採点付!A:C,3,0),\"\")","v":""}]
[null,"　","　",233,null,{"$f":"IF(E246<>\"\",VLOOKUP(E246,採点付!A:C,3,0),\"\")","v":""}]
[null,"　","　",234,null,{"$f":"IF(E247<>\"\",VLOOKUP(E247,採点付!A:C,3,0),\"\")","v":""}]
[null,"　","　",235,null,{"$f":"IF(E248<>\"\",VLOOKUP(E248,採点付!A:C,3,0),\"\")","v":""}]
[null,"　","　",236,null,{"$f":"IF(E249<>\"\",VLOOKUP(E249,採点付!A:C,3,0),\"\")","v":""}]
[null,"　","　",237,null,{"$f":"IF(E250<>\"\",VLOOKUP(E250,採点付!A:C,3,0),\"\")","v":""}]
[null,"　","　",238,null,{"$f":"IF(E251<>\"\",VLOOKUP(E251,採点付!A:C,3,0),\"\")","v":""}]
[null,"　","　",239,null,{"$f":"IF(E252<>\"\",VLOOKUP(E252,採点付!A:C,3,0),\"\")","v":""}]
[null,"　","　",240,null,{"$f":"IF(E253<>\"\",VLOOKUP(E253,採点付!A:C,3,0),\"\")","v":""}]
[null,"　","　",241,null,{"$f":"IF(E254<>\"\",VLOOKUP(E254,採点付!A:C,3,0),\"\")","v":""}]
[null,"　","　",242,null,{"$f":"IF(E255<>\"\",VLOOKUP(E255,採点付!A:C,3,0),\"\")","v":""}]
[null,"　","　",243,null,{"$f":"IF(E256<>\"\",VLOOKUP(E256,採点付!A:C,3,0),\"\")","v":""}]
[null,"　","　",244,null,{"$f":"IF(E257<>\"\",VLOOKUP(E257,採点付!A:C,3,0),\"\")","v":""}]
[null,"　","　",245,null,{"$f":"IF(E258<>\"\",VLOOKUP(E258,採点付!A:C,3,0),\"\")","v":""}]
[null,"　","　",246,null,{"$f":"IF(E259<>\"\",VLOOKUP(E259,採点付!A:C,3,0),\"\")","v":""}]
[null,"　","　",247,null,{"$f":"IF(E260<>\"\",VLOOKUP(E260,採点付!A:C,3,0),\"\")","v":""}]
[null,"　","　",248,null,{"$f":"IF(E261<>\"\",VLOOKUP(E261,採点付!A:C,3,0),\"\")","v":""}]
[null,"　","　",249,null,{"$f":"IF(E262<>\"\",VLOOKUP(E262,採点付!A:C,3,0),\"\")","v":""}]
[null,"　","　",250,null,{"$f":"IF(E263<>\"\",VLOOKUP(E263,採点付!A:C,3,0),\"\")","v":""}]
[null,"　","　",251,null,{"$f":"IF(E264<>\"\",VLOOKUP(E264,採点付!A:C,3,0),\"\")","v":""}]
[null,"　","　",252,null,{"$f":"IF(E265<>\"\",VLOOKUP(E265,採点付!A:C,3,0),\"\")","v":""}]
[null,"　","　",253,null,{"$f":"IF(E266<>\"\",VLOOKUP(E266,採点付!A:C,3,0),\"\")","v":""}]
[null,"　","　",254,null,{"$f":"IF(E267<>\"\",VLOOKUP(E267,採点付!A:C,3,0),\"\")","v":""}]
[null,"　","　",255,null,{"$f":"IF(E268<>\"\",VLOOKUP(E268,採点付!A:C,3,0),\"\")","v":""}]
[null,"　","　",256,null,{"$f":"IF(E269<>\"\",VLOOKUP(E269,採点付!A:C,3,0),\"\")","v":""}]
[null,{"$f":"G270&\"　\"&H270","v":"　"},{"$f":"I270&\"　\"&J270","v":"　"},257,null,{"$f":"IF(E270<>\"\",VLOOKUP(E270,採点付!A:C,3,0),\"\")","v":""}]
[null,"　","　",258,null,{"$f":"IF(E271<>\"\",VLOOKUP(E271,採点付!A:C,3,0),\"\")","v":""}]
[null,"　","　",259,null,{"$f":"IF(E272<>\"\",VLOOKUP(E272,採点付!A:C,3,0),\"\")","v":""}]
[null,"　","　",260,null,{"$f":"IF(E273<>\"\",VLOOKUP(E273,採点付!A:C,3,0),\"\")","v":""}]
[null,"　","　",261,null,{"$f":"IF(E274<>\"\",VLOOKUP(E274,採点付!A:C,3,0),\"\")","v":""}]
[null,"　","　",262,null,{"$f":"IF(E275<>\"\",VLOOKUP(E275,採点付!A:C,3,0),\"\")","v":""}]
[null,"　","　",263,null,{"$f":"IF(E276<>\"\",VLOOKUP(E276,採点付!A:C,3,0),\"\")","v":""}]
[null,"　","　",264,null,{"$f":"IF(E277<>\"\",VLOOKUP(E277,採点付!A:C,3,0),\"\")","v":""}]
[null,"　","　",265,null,{"$f":"IF(E278<>\"\",VLOOKUP(E278,採点付!A:C,3,0),\"\")","v":""}]
[null,"　","　",266,null,{"$f":"IF(E279<>\"\",VLOOKUP(E279,採点付!A:C,3,0),\"\")","v":""}]
[null,"　","　",267,null,{"$f":"IF(E280<>\"\",VLOOKUP(E280,採点付!A:C,3,0),\"\")","v":""}]
[null,"　","　",268,null,{"$f":"IF(E281<>\"\",VLOOKUP(E281,採点付!A:C,3,0),\"\")","v":""}]
[null,"　","　",269,null,{"$f":"IF(E282<>\"\",VLOOKUP(E282,採点付!A:C,3,0),\"\")","v":""}]
[null,"　","　",270,null,{"$f":"IF(E283<>\"\",VLOOKUP(E283,採点付!A:C,3,0),\"\")","v":""}]
[null,"　","　",271,null,{"$f":"IF(E284<>\"\",VLOOKUP(E284,採点付!A:C,3,0),\"\")","v":""}]
[null,"　","　",272,null,{"$f":"IF(E285<>\"\",VLOOKUP(E285,採点付!A:C,3,0),\"\")","v":""}]
[null,"　","　",273,null,{"$f":"IF(E286<>\"\",VLOOKUP(E286,採点付!A:C,3,0),\"\")","v":""}]
[null,"　","　",274,null,{"$f":"IF(E287<>\"\",VLOOKUP(E287,採点付!A:C,3,0),\"\")","v":""}]
[null,"　","　",275,null,{"$f":"IF(E288<>\"\",VLOOKUP(E288,採点付!A:C,3,0),\"\")","v":""}]
[null,"　","　",276,null,{"$f":"IF(E289<>\"\",VLOOKUP(E289,採点付!A:C,3,0),\"\")","v":""}]
[null,"　","　",277,null,{"$f":"IF(E290<>\"\",VLOOKUP(E290,採点付!A:C,3,0),\"\")","v":""}]
[null,"　","　",278,null,{"$f":"IF(E291<>\"\",VLOOKUP(E291,採点付!A:C,3,0),\"\")","v":""}]
[null,"　","　",279,null,{"$f":"IF(E292<>\"\",VLOOKUP(E292,採点付!A:C,3,0),\"\")","v":""}]
[null,"　","　",280,null,{"$f":"IF(E293<>\"\",VLOOKUP(E293,採点付!A:C,3,0),\"\")","v":""}]
[null,"　","　",281,null,{"$f":"IF(E294<>\"\",VLOOKUP(E294,採点付!A:C,3,0),\"\")","v":""}]
[null,"　","　",282,null,{"$f":"IF(E295<>\"\",VLOOKUP(E295,採点付!A:C,3,0),\"\")","v":""}]
[null,"　","　",283,null,{"$f":"IF(E296<>\"\",VLOOKUP(E296,採点付!A:C,3,0),\"\")","v":""}]
[null,"　","　",284,null,{"$f":"IF(E297<>\"\",VLOOKUP(E297,採点付!A:C,3,0),\"\")","v":""}]
[null,"　","　",285,null,{"$f":"IF(E298<>\"\",VLOOKUP(E298,採点付!A:C,3,0),\"\")","v":""}]
[null,"　","　",286,null,{"$f":"IF(E299<>\"\",VLOOKUP(E299,採点付!A:C,3,0),\"\")","v":""}]
[null,"　","　",287,null,{"$f":"IF(E300<>\"\",VLOOKUP(E300,採点付!A:C,3,0),\"\")","v":""}]
[null,"　","　",288,null,{"$f":"IF(E301<>\"\",VLOOKUP(E301,採点付!A:C,3,0),\"\")","v":""}]
[null,"　","　",289,null,{"$f":"IF(E302<>\"\",VLOOKUP(E302,採点付!A:C,3,0),\"\")","v":""}]
[null,"　","　",290,null,{"$f":"IF(E303<>\"\",VLOOKUP(E303,採点付!A:C,3,0),\"\")","v":""}]
[null,"　","　",291,null,{"$f":"IF(E304<>\"\",VLOOKUP(E304,採点付!A:C,3,0),\"\")","v":""}]
[null,"　","　",292,null,{"$f":"IF(E305<>\"\",VLOOKUP(E305,採点付!A:C,3,0),\"\")","v":""}]
[null,"　","　",293,null,{"$f":"IF(E306<>\"\",VLOOKUP(E306,採点付!A:C,3,0),\"\")","v":""}]
[null,"　","　",294,null,{"$f":"IF(E307<>\"\",VLOOKUP(E307,採点付!A:C,3,0),\"\")","v":""}]
[null,"　","　",295,null,{"$f":"IF(E308<>\"\",VLOOKUP(E308,採点付!A:C,3,0),\"\")","v":""}]
[null,"　","　",296,null,{"$f":"IF(E309<>\"\",VLOOKUP(E309,採点付!A:C,3,0),\"\")","v":""}]
[null,"　","　",297,null,{"$f":"IF(E310<>\"\",VLOOKUP(E310,採点付!A:C,3,0),\"\")","v":""}]
[null,"　","　",298,null,{"$f":"IF(E311<>\"\",VLOOKUP(E311,採点付!A:C,3,0),\"\")","v":""}]
[null,"　","　",299,null,{"$f":"IF(E312<>\"\",VLOOKUP(E312,採点付!A:C,3,0),\"\")","v":""}]
[null,"　","　",300,null,{"$f":"IF(E313<>\"\",VLOOKUP(E313,採点付!A:C,3,0),\"\")","v":""}]
[null,"　","　",301,null,{"$f":"IF(E314<>\"\",VLOOKUP(E314,採点付!A:C,3,0),\"\")","v":""}]
[null,"　","　",302,null,{"$f":"IF(E315<>\"\",VLOOKUP(E315,採点付!A:C,3,0),\"\")","v":""}]
[null,"　","　",303,null,{"$f":"IF(E316<>\"\",VLOOKUP(E316,採点付!A:C,3,0),\"\")","v":""}]
[null,"　","　",304,null,{"$f":"IF(E317<>\"\",VLOOKUP(E317,採点付!A:C,3,0),\"\")","v":""}]
[null,"　","　",305,null,{"$f":"IF(E318<>\"\",VLOOKUP(E318,採点付!A:C,3,0),\"\")","v":""}]
[null,"　","　",306,null,{"$f":"IF(E319<>\"\",VLOOKUP(E319,採点付!A:C,3,0),\"\")","v":""}]
[null,"　","　",307,null,{"$f":"IF(E320<>\"\",VLOOKUP(E320,採点付!A:C,3,0),\"\")","v":""}]
[null,"　","　",308,null,{"$f":"IF(E321<>\"\",VLOOKUP(E321,採点付!A:C,3,0),\"\")","v":""}]
[null,"　","　",309,null,{"$f":"IF(E322<>\"\",VLOOKUP(E322,採点付!A:C,3,0),\"\")","v":""}]
[null,"　","　",310,null,{"$f":"IF(E323<>\"\",VLOOKUP(E323,採点付!A:C,3,0),\"\")","v":""}]
[null,"　","　",311,null,{"$f":"IF(E324<>\"\",VLOOKUP(E324,採点付!A:C,3,0),\"\")","v":""}]
[null,"　","　",312,null,{"$f":"IF(E325<>\"\",VLOOKUP(E325,採点付!A:C,3,0),\"\")","v":""}]
[null,"　","　",313,null,{"$f":"IF(E326<>\"\",VLOOKUP(E326,採点付!A:C,3,0),\"\")","v":""}]
[null,"　","　",314,null,{"$f":"IF(E327<>\"\",VLOOKUP(E327,採点付!A:C,3,0),\"\")","v":""}]
[null,"　","　",315,null,{"$f":"IF(E328<>\"\",VLOOKUP(E328,採点付!A:C,3,0),\"\")","v":""}]
[null,"　","　",316,null,{"$f":"IF(E329<>\"\",VLOOKUP(E329,採点付!A:C,3,0),\"\")","v":""}]
[null,"　","　",317,null,{"$f":"IF(E330<>\"\",VLOOKUP(E330,採点付!A:C,3,0),\"\")","v":""}]
[null,"　","　",318,null,{"$f":"IF(E331<>\"\",VLOOKUP(E331,採点付!A:C,3,0),\"\")","v":""}]
[null,"　","　",319,null,{"$f":"IF(E332<>\"\",VLOOKUP(E332,採点付!A:C,3,0),\"\")","v":""}]
[null,"　","　",320,null,{"$f":"IF(E333<>\"\",VLOOKUP(E333,採点付!A:C,3,0),\"\")","v":""}]
[null,{"$f":"G334&\"　\"&H334","v":"　"},{"$f":"I334&\"　\"&J334","v":"　"},321,null,{"$f":"IF(E334<>\"\",VLOOKUP(E334,採点付!A:C,3,0),\"\")","v":""}]
[null,"　","　",322,null,{"$f":"IF(E335<>\"\",VLOOKUP(E335,採点付!A:C,3,0),\"\")","v":""}]
[null,"　","　",323,null,{"$f":"IF(E336<>\"\",VLOOKUP(E336,採点付!A:C,3,0),\"\")","v":""}]
[null,"　","　",324,null,{"$f":"IF(E337<>\"\",VLOOKUP(E337,採点付!A:C,3,0),\"\")","v":""}]
[null,"　","　",325,null,{"$f":"IF(E338<>\"\",VLOOKUP(E338,採点付!A:C,3,0),\"\")","v":""}]
[null,"　","　",326,null,{"$f":"IF(E339<>\"\",VLOOKUP(E339,採点付!A:C,3,0),\"\")","v":""}]
[null,"　","　",327,null,{"$f":"IF(E340<>\"\",VLOOKUP(E340,採点付!A:C,3,0),\"\")","v":""}]
[null,"　","　",328,null,{"$f":"IF(E341<>\"\",VLOOKUP(E341,採点付!A:C,3,0),\"\")","v":""}]
[null,"　","　",329,null,{"$f":"IF(E342<>\"\",VLOOKUP(E342,採点付!A:C,3,0),\"\")","v":""}]
[null,"　","　",330,null,{"$f":"IF(E343<>\"\",VLOOKUP(E343,採点付!A:C,3,0),\"\")","v":""}]
[null,"　","　",331,null,{"$f":"IF(E344<>\"\",VLOOKUP(E344,採点付!A:C,3,0),\"\")","v":""}]
[null,"　","　",332,null,{"$f":"IF(E345<>\"\",VLOOKUP(E345,採点付!A:C,3,0),\"\")","v":""}]
[null,"　","　",333,null,{"$f":"IF(E346<>\"\",VLOOKUP(E346,採点付!A:C,3,0),\"\")","v":""}]
[null,"　","　",334,null,{"$f":"IF(E347<>\"\",VLOOKUP(E347,採点付!A:C,3,0),\"\")","v":""}]
[null,"　","　",335,null,{"$f":"IF(E348<>\"\",VLOOKUP(E348,採点付!A:C,3,0),\"\")","v":""}]
[null,"　","　",336,null,{"$f":"IF(E349<>\"\",VLOOKUP(E349,採点付!A:C,3,0),\"\")","v":""}]
[null,"　","　",337,null,{"$f":"IF(E350<>\"\",VLOOKUP(E350,採点付!A:C,3,0),\"\")","v":""}]
[null,"　","　",338,null,{"$f":"IF(E351<>\"\",VLOOKUP(E351,採点付!A:C,3,0),\"\")","v":""}]
[null,"　","　",339,null,{"$f":"IF(E352<>\"\",VLOOKUP(E352,採点付!A:C,3,0),\"\")","v":""}]
[null,"　","　",340,null,{"$f":"IF(E353<>\"\",VLOOKUP(E353,採点付!A:C,3,0),\"\")","v":""}]
[null,"　","　",341,null,{"$f":"IF(E354<>\"\",VLOOKUP(E354,採点付!A:C,3,0),\"\")","v":""}]
[null,"　","　",342,null,{"$f":"IF(E355<>\"\",VLOOKUP(E355,採点付!A:C,3,0),\"\")","v":""}]
[null,"　","　",343,null,{"$f":"IF(E356<>\"\",VLOOKUP(E356,採点付!A:C,3,0),\"\")","v":""}]
[null,"　","　",344,null,{"$f":"IF(E357<>\"\",VLOOKUP(E357,採点付!A:C,3,0),\"\")","v":""}]
[null,"　","　",345,null,{"$f":"IF(E358<>\"\",VLOOKUP(E358,採点付!A:C,3,0),\"\")","v":""}]
[null,"　","　",346,null,{"$f":"IF(E359<>\"\",VLOOKUP(E359,採点付!A:C,3,0),\"\")","v":""}]
[null,"　","　",347,null,{"$f":"IF(E360<>\"\",VLOOKUP(E360,採点付!A:C,3,0),\"\")","v":""}]
[null,"　","　",348,null,{"$f":"IF(E361<>\"\",VLOOKUP(E361,採点付!A:C,3,0),\"\")","v":""}]
[null,"　","　",349,null,{"$f":"IF(E362<>\"\",VLOOKUP(E362,採点付!A:C,3,0),\"\")","v":""}]
[null,"　","　",350,null,{"$f":"IF(E363<>\"\",VLOOKUP(E363,採点付!A:C,3,0),\"\")","v":""}]
[null,"　","　",351,null,{"$f":"IF(E364<>\"\",VLOOKUP(E364,採点付!A:C,3,0),\"\")","v":""}]
[null,"　","　",352,null,{"$f":"IF(E365<>\"\",VLOOKUP(E365,採点付!A:C,3,0),\"\")","v":""}]
[null,"　","　",353,null,{"$f":"IF(E366<>\"\",VLOOKUP(E366,採点付!A:C,3,0),\"\")","v":""}]
[null,"　","　",354,null,{"$f":"IF(E367<>\"\",VLOOKUP(E367,採点付!A:C,3,0),\"\")","v":""}]
[null,"　","　",355,null,{"$f":"IF(E368<>\"\",VLOOKUP(E368,採点付!A:C,3,0),\"\")","v":""}]
[null,"　","　",356,null,{"$f":"IF(E369<>\"\",VLOOKUP(E369,採点付!A:C,3,0),\"\")","v":""}]
[null,"　","　",357,null,{"$f":"IF(E370<>\"\",VLOOKUP(E370,採点付!A:C,3,0),\"\")","v":""}]
[null,"　","　",358,null,{"$f":"IF(E371<>\"\",VLOOKUP(E371,採点付!A:C,3,0),\"\")","v":""}]
[null,"　","　",359,null,{"$f":"IF(E372<>\"\",VLOOKUP(E372,採点付!A:C,3,0),\"\")","v":""}]
[null,"　","　",360,null,{"$f":"IF(E373<>\"\",VLOOKUP(E373,採点付!A:C,3,0),\"\")","v":""}]
[null,"　","　",361,null,{"$f":"IF(E374<>\"\",VLOOKUP(E374,採点付!A:C,3,0),\"\")","v":""}]
[null,"　","　",362,null,{"$f":"IF(E375<>\"\",VLOOKUP(E375,採点付!A:C,3,0),\"\")","v":""}]
[null,"　","　",363,null,{"$f":"IF(E376<>\"\",VLOOKUP(E376,採点付!A:C,3,0),\"\")","v":""}]
[null,"　","　",364,null,{"$f":"IF(E377<>\"\",VLOOKUP(E377,採点付!A:C,3,0),\"\")","v":""}]
[null,"　","　",365,null,{"$f":"IF(E378<>\"\",VLOOKUP(E378,採点付!A:C,3,0),\"\")","v":""}]
[null,"　","　",366,null,{"$f":"IF(E379<>\"\",VLOOKUP(E379,採点付!A:C,3,0),\"\")","v":""}]
[null,"　","　",367,null,{"$f":"IF(E380<>\"\",VLOOKUP(E380,採点付!A:C,3,0),\"\")","v":""}]
[null,"　","　",368,null,{"$f":"IF(E381<>\"\",VLOOKUP(E381,採点付!A:C,3,0),\"\")","v":""}]
[null,"　","　",369,null,{"$f":"IF(E382<>\"\",VLOOKUP(E382,採点付!A:C,3,0),\"\")","v":""}]
[null,"　","　",370,null,{"$f":"IF(E383<>\"\",VLOOKUP(E383,採点付!A:C,3,0),\"\")","v":""}]
[null,"　","　",371,null,{"$f":"IF(E384<>\"\",VLOOKUP(E384,採点付!A:C,3,0),\"\")","v":""}]
[null,"　","　",372,null,{"$f":"IF(E385<>\"\",VLOOKUP(E385,採点付!A:C,3,0),\"\")","v":""}]
[null,"　","　",373,null,{"$f":"IF(E386<>\"\",VLOOKUP(E386,採点付!A:C,3,0),\"\")","v":""}]
[null,"　","　",374,null,{"$f":"IF(E387<>\"\",VLOOKUP(E387,採点付!A:C,3,0),\"\")","v":""}]
[null,"　","　",375,null,{"$f":"IF(E388<>\"\",VLOOKUP(E388,採点付!A:C,3,0),\"\")","v":""}]
[null,"　","　",376,null,{"$f":"IF(E389<>\"\",VLOOKUP(E389,採点付!A:C,3,0),\"\")","v":""}]
[null,"　","　",377,null,{"$f":"IF(E390<>\"\",VLOOKUP(E390,採点付!A:C,3,0),\"\")","v":""}]
[null,"　","　",378,null,{"$f":"IF(E391<>\"\",VLOOKUP(E391,採点付!A:C,3,0),\"\")","v":""}]
[null,"　","　",379,null,{"$f":"IF(E392<>\"\",VLOOKUP(E392,採点付!A:C,3,0),\"\")","v":""}]
[null,"　","　",380,null,{"$f":"IF(E393<>\"\",VLOOKUP(E393,採点付!A:C,3,0),\"\")","v":""}]
[null,"　","　",381,null,{"$f":"IF(E394<>\"\",VLOOKUP(E394,採点付!A:C,3,0),\"\")","v":""}]
[null,"　","　",382,null,{"$f":"IF(E395<>\"\",VLOOKUP(E395,採点付!A:C,3,0),\"\")","v":""}]
[null,"　","　",383,null,{"$f":"IF(E396<>\"\",VLOOKUP(E396,採点付!A:C,3,0),\"\")","v":""}]
[null,"　","　",384,null,{"$f":"IF(E397<>\"\",VLOOKUP(E397,採点付!A:C,3,0),\"\")","v":""}]
[null,{"$f":"G398&\"　\"&H398","v":"　"},{"$f":"I398&\"　\"&J398","v":"　"},385,null,{"$f":"IF(E398<>\"\",VLOOKUP(E398,採点付!A:C,3,0),\"\")","v":""}]
[null,"　","　",386,null,{"$f":"IF(E399<>\"\",VLOOKUP(E399,採点付!A:C,3,0),\"\")","v":""}]
[null,"　","　",387,null,{"$f":"IF(E400<>\"\",VLOOKUP(E400,採点付!A:C,3,0),\"\")","v":""}]
[null,"　","　",388,null,{"$f":"IF(E401<>\"\",VLOOKUP(E401,採点付!A:C,3,0),\"\")","v":""}]
[null,"　","　",389,null,{"$f":"IF(E402<>\"\",VLOOKUP(E402,採点付!A:C,3,0),\"\")","v":""}]
[null,"　","　",390,null,{"$f":"IF(E403<>\"\",VLOOKUP(E403,採点付!A:C,3,0),\"\")","v":""}]
[null,"　","　",391,null,{"$f":"IF(E404<>\"\",VLOOKUP(E404,採点付!A:C,3,0),\"\")","v":""}]
[null,"　","　",392,null,{"$f":"IF(E405<>\"\",VLOOKUP(E405,採点付!A:C,3,0),\"\")","v":""}]
[null,"　","　",393,null,{"$f":"IF(E406<>\"\",VLOOKUP(E406,採点付!A:C,3,0),\"\")","v":""}]
[null,"　","　",394,null,{"$f":"IF(E407<>\"\",VLOOKUP(E407,採点付!A:C,3,0),\"\")","v":""}]
[null,"　","　",395,null,{"$f":"IF(E408<>\"\",VLOOKUP(E408,採点付!A:C,3,0),\"\")","v":""}]
[null,"　","　",396,null,{"$f":"IF(E409<>\"\",VLOOKUP(E409,採点付!A:C,3,0),\"\")","v":""}]
[null,"　","　",397,null,{"$f":"IF(E410<>\"\",VLOOKUP(E410,採点付!A:C,3,0),\"\")","v":""}]
[null,"　","　",398,null,{"$f":"IF(E411<>\"\",VLOOKUP(E411,採点付!A:C,3,0),\"\")","v":""}]
[null,"　","　",399,null,{"$f":"IF(E412<>\"\",VLOOKUP(E412,採点付!A:C,3,0),\"\")","v":""}]
[null,"　","　",400,null,{"$f":"IF(E413<>\"\",VLOOKUP(E413,採点付!A:C,3,0),\"\")","v":""}]
[null,"　","　",401,null,{"$f":"IF(E414<>\"\",VLOOKUP(E414,採点付!A:C,3,0),\"\")","v":""}]
[null,"　","　",402,null,{"$f":"IF(E415<>\"\",VLOOKUP(E415,採点付!A:C,3,0),\"\")","v":""}]
[null,"　","　",403,null,{"$f":"IF(E416<>\"\",VLOOKUP(E416,採点付!A:C,3,0),\"\")","v":""}]
[null,"　","　",404,null,{"$f":"IF(E417<>\"\",VLOOKUP(E417,採点付!A:C,3,0),\"\")","v":""}]
[null,"　","　",405,null,{"$f":"IF(E418<>\"\",VLOOKUP(E418,採点付!A:C,3,0),\"\")","v":""}]
[null,"　","　",406,null,{"$f":"IF(E419<>\"\",VLOOKUP(E419,採点付!A:C,3,0),\"\")","v":""}]
[null,"　","　",407,null,{"$f":"IF(E420<>\"\",VLOOKUP(E420,採点付!A:C,3,0),\"\")","v":""}]
[null,"　","　",408,null,{"$f":"IF(E421<>\"\",VLOOKUP(E421,採点付!A:C,3,0),\"\")","v":""}]
[null,"　","　",409,null,{"$f":"IF(E422<>\"\",VLOOKUP(E422,採点付!A:C,3,0),\"\")","v":""}]
[null,"　","　",410,null,{"$f":"IF(E423<>\"\",VLOOKUP(E423,採点付!A:C,3,0),\"\")","v":""}]
[null,"　","　",411,null,{"$f":"IF(E424<>\"\",VLOOKUP(E424,採点付!A:C,3,0),\"\")","v":""}]
[null,"　","　",412,null,{"$f":"IF(E425<>\"\",VLOOKUP(E425,採点付!A:C,3,0),\"\")","v":""}]
[null,"　","　",413,null,{"$f":"IF(E426<>\"\",VLOOKUP(E426,採点付!A:C,3,0),\"\")","v":""}]
[null,"　","　",414,null,{"$f":"IF(E427<>\"\",VLOOKUP(E427,採点付!A:C,3,0),\"\")","v":""}]
[null,"　","　",415,null,{"$f":"IF(E428<>\"\",VLOOKUP(E428,採点付!A:C,3,0),\"\")","v":""}]
[null,"　","　",416,null,{"$f":"IF(E429<>\"\",VLOOKUP(E429,採点付!A:C,3,0),\"\")","v":""}]
[null,"　","　",417,null,{"$f":"IF(E430<>\"\",VLOOKUP(E430,採点付!A:C,3,0),\"\")","v":""}]
[null,"　","　",418,null,{"$f":"IF(E431<>\"\",VLOOKUP(E431,採点付!A:C,3,0),\"\")","v":""}]
[null,"　","　",419,null,{"$f":"IF(E432<>\"\",VLOOKUP(E432,採点付!A:C,3,0),\"\")","v":""}]
[null,"　","　",420,null,{"$f":"IF(E433<>\"\",VLOOKUP(E433,採点付!A:C,3,0),\"\")","v":""}]
[null,"　","　",421,null,{"$f":"IF(E434<>\"\",VLOOKUP(E434,採点付!A:C,3,0),\"\")","v":""}]
[null,"　","　",422,null,{"$f":"IF(E435<>\"\",VLOOKUP(E435,採点付!A:C,3,0),\"\")","v":""}]
[null,"　","　",423,null,{"$f":"IF(E436<>\"\",VLOOKUP(E436,採点付!A:C,3,0),\"\")","v":""}]
[null,"　","　",424,null,{"$f":"IF(E437<>\"\",VLOOKUP(E437,採点付!A:C,3,0),\"\")","v":""}]
[null,"　","　",425,null,{"$f":"IF(E438<>\"\",VLOOKUP(E438,採点付!A:C,3,0),\"\")","v":""}]
[null,"　","　",426,null,{"$f":"IF(E439<>\"\",VLOOKUP(E439,採点付!A:C,3,0),\"\")","v":""}]
[null,"　","　",427,null,{"$f":"IF(E440<>\"\",VLOOKUP(E440,採点付!A:C,3,0),\"\")","v":""}]
[null,"　","　",428,null,{"$f":"IF(E441<>\"\",VLOOKUP(E441,採点付!A:C,3,0),\"\")","v":""}]
[null,"　","　",429,null,{"$f":"IF(E442<>\"\",VLOOKUP(E442,採点付!A:C,3,0),\"\")","v":""}]
[null,"　","　",430,null,{"$f":"IF(E443<>\"\",VLOOKUP(E443,採点付!A:C,3,0),\"\")","v":""}]
[null,"　","　",431,null,{"$f":"IF(E444<>\"\",VLOOKUP(E444,採点付!A:C,3,0),\"\")","v":""}]
[null,"　","　",432,null,{"$f":"IF(E445<>\"\",VLOOKUP(E445,採点付!A:C,3,0),\"\")","v":""}]
[null,"　","　",433,null,{"$f":"IF(E446<>\"\",VLOOKUP(E446,採点付!A:C,3,0),\"\")","v":""}]
[null,"　","　",434,null,{"$f":"IF(E447<>\"\",VLOOKUP(E447,採点付!A:C,3,0),\"\")","v":""}]
[null,"　","　",435,null,{"$f":"IF(E448<>\"\",VLOOKUP(E448,採点付!A:C,3,0),\"\")","v":""}]
[null,"　","　",436,null,{"$f":"IF(E449<>\"\",VLOOKUP(E449,採点付!A:C,3,0),\"\")","v":""}]
[null,"　","　",437,null,{"$f":"IF(E450<>\"\",VLOOKUP(E450,採点付!A:C,3,0),\"\")","v":""}]
[null,"　","　",438,null,{"$f":"IF(E451<>\"\",VLOOKUP(E451,採点付!A:C,3,0),\"\")","v":""}]
[null,"　","　",439,null,{"$f":"IF(E452<>\"\",VLOOKUP(E452,採点付!A:C,3,0),\"\")","v":""}]
[null,"　","　",440,null,{"$f":"IF(E453<>\"\",VLOOKUP(E453,採点付!A:C,3,0),\"\")","v":""}]
[null,"　","　",441,null,{"$f":"IF(E454<>\"\",VLOOKUP(E454,採点付!A:C,3,0),\"\")","v":""}]
[null,"　","　",442,null,{"$f":"IF(E455<>\"\",VLOOKUP(E455,採点付!A:C,3,0),\"\")","v":""}]
[null,"　","　",443,null,{"$f":"IF(E456<>\"\",VLOOKUP(E456,採点付!A:C,3,0),\"\")","v":""}]
[null,"　","　",444,null,{"$f":"IF(E457<>\"\",VLOOKUP(E457,採点付!A:C,3,0),\"\")","v":""}]
[null,"　","　",445,null,{"$f":"IF(E458<>\"\",VLOOKUP(E458,採点付!A:C,3,0),\"\")","v":""}]
[null,"　","　",446,null,{"$f":"IF(E459<>\"\",VLOOKUP(E459,採点付!A:C,3,0),\"\")","v":""}]
[null,"　","　",447,null,{"$f":"IF(E460<>\"\",VLOOKUP(E460,採点付!A:C,3,0),\"\")","v":""}]
[null,"　","　",448,null,{"$f":"IF(E461<>\"\",VLOOKUP(E461,採点付!A:C,3,0),\"\")","v":""}]
[null,{"$f":"G462&\"　\"&H462","v":"　"},{"$f":"I462&\"　\"&J462","v":"　"},449,null,{"$f":"IF(E462<>\"\",VLOOKUP(E462,採点付!A:C,3,0),\"\")","v":""}]
[null,"　","　",450,null,{"$f":"IF(E463<>\"\",VLOOKUP(E463,採点付!A:C,3,0),\"\")","v":""}]
[null,"　","　",451,null,{"$f":"IF(E464<>\"\",VLOOKUP(E464,採点付!A:C,3,0),\"\")","v":""}]
[null,"　","　",452,null,{"$f":"IF(E465<>\"\",VLOOKUP(E465,採点付!A:C,3,0),\"\")","v":""}]
[null,"　","　",453,null,{"$f":"IF(E466<>\"\",VLOOKUP(E466,採点付!A:C,3,0),\"\")","v":""}]
[null,"　","　",454,null,{"$f":"IF(E467<>\"\",VLOOKUP(E467,採点付!A:C,3,0),\"\")","v":""}]
[null,"　","　",455,null,{"$f":"IF(E468<>\"\",VLOOKUP(E468,採点付!A:C,3,0),\"\")","v":""}]
[null,"　","　",456,null,{"$f":"IF(E469<>\"\",VLOOKUP(E469,採点付!A:C,3,0),\"\")","v":""}]
[null,"　","　",457,null,{"$f":"IF(E470<>\"\",VLOOKUP(E470,採点付!A:C,3,0),\"\")","v":""}]
[null,"　","　",458,null,{"$f":"IF(E471<>\"\",VLOOKUP(E471,採点付!A:C,3,0),\"\")","v":""}]
[null,"　","　",459,null,{"$f":"IF(E472<>\"\",VLOOKUP(E472,採点付!A:C,3,0),\"\")","v":""}]
[null,"　","　",460,null,{"$f":"IF(E473<>\"\",VLOOKUP(E473,採点付!A:C,3,0),\"\")","v":""}]
[null,"　","　",461,null,{"$f":"IF(E474<>\"\",VLOOKUP(E474,採点付!A:C,3,0),\"\")","v":""}]
[null,"　","　",462,null,{"$f":"IF(E475<>\"\",VLOOKUP(E475,採点付!A:C,3,0),\"\")","v":""}]
[null,"　","　",463,null,{"$f":"IF(E476<>\"\",VLOOKUP(E476,採点付!A:C,3,0),\"\")","v":""}]
[null,"　","　",464,null,{"$f":"IF(E477<>\"\",VLOOKUP(E477,採点付!A:C,3,0),\"\")","v":""}]
[null,"　","　",465,null,{"$f":"IF(E478<>\"\",VLOOKUP(E478,採点付!A:C,3,0),\"\")","v":""}]
[null,"　","　",466,null,{"$f":"IF(E479<>\"\",VLOOKUP(E479,採点付!A:C,3,0),\"\")","v":""}]
[null,"　","　",467,null,{"$f":"IF(E480<>\"\",VLOOKUP(E480,採点付!A:C,3,0),\"\")","v":""}]
[null,"　","　",468,null,{"$f":"IF(E481<>\"\",VLOOKUP(E481,採点付!A:C,3,0),\"\")","v":""}]
[null,"　","　",469,null,{"$f":"IF(E482<>\"\",VLOOKUP(E482,採点付!A:C,3,0),\"\")","v":""}]
[null,"　","　",470,null,{"$f":"IF(E483<>\"\",VLOOKUP(E483,採点付!A:C,3,0),\"\")","v":""}]
[null,"　","　",471,null,{"$f":"IF(E484<>\"\",VLOOKUP(E484,採点付!A:C,3,0),\"\")","v":""}]
[null,"　","　",472,null,{"$f":"IF(E485<>\"\",VLOOKUP(E485,採点付!A:C,3,0),\"\")","v":""}]
[null,"　","　",473,null,{"$f":"IF(E486<>\"\",VLOOKUP(E486,採点付!A:C,3,0),\"\")","v":""}]
[null,"　","　",474,null,{"$f":"IF(E487<>\"\",VLOOKUP(E487,採点付!A:C,3,0),\"\")","v":""}]
[null,"　","　",475,null,{"$f":"IF(E488<>\"\",VLOOKUP(E488,採点付!A:C,3,0),\"\")","v":""}]
[null,"　","　",476,null,{"$f":"IF(E489<>\"\",VLOOKUP(E489,採点付!A:C,3,0),\"\")","v":""}]
[null,"　","　",477,null,{"$f":"IF(E490<>\"\",VLOOKUP(E490,採点付!A:C,3,0),\"\")","v":""}]
[null,"　","　",478,null,{"$f":"IF(E491<>\"\",VLOOKUP(E491,採点付!A:C,3,0),\"\")","v":""}]
[null,"　","　",479,null,{"$f":"IF(E492<>\"\",VLOOKUP(E492,採点付!A:C,3,0),\"\")","v":""}]
[null,"　","　",480,null,{"$f":"IF(E493<>\"\",VLOOKUP(E493,採点付!A:C,3,0),\"\")","v":""}]
[null,"　","　",481,null,{"$f":"IF(E494<>\"\",VLOOKUP(E494,採点付!A:C,3,0),\"\")","v":""}]
[null,"　","　",482,null,{"$f":"IF(E495<>\"\",VLOOKUP(E495,採点付!A:C,3,0),\"\")","v":""}]
[null,"　","　",483,null,{"$f":"IF(E496<>\"\",VLOOKUP(E496,採点付!A:C,3,0),\"\")","v":""}]
[null,"　","　",484,null,{"$f":"IF(E497<>\"\",VLOOKUP(E497,採点付!A:C,3,0),\"\")","v":""}]
[null,"　","　",485,null,{"$f":"IF(E498<>\"\",VLOOKUP(E498,採点付!A:C,3,0),\"\")","v":""}]
[null,"　","　",486,null,{"$f":"IF(E499<>\"\",VLOOKUP(E499,採点付!A:C,3,0),\"\")","v":""}]
[null,"　","　",487,null,{"$f":"IF(E500<>\"\",VLOOKUP(E500,採点付!A:C,3,0),\"\")","v":""}]
[null,"　","　",488,null,{"$f":"IF(E501<>\"\",VLOOKUP(E501,採点付!A:C,3,0),\"\")","v":""}]
[null,"　","　",489,null,{"$f":"IF(E502<>\"\",VLOOKUP(E502,採点付!A:C,3,0),\"\")","v":""}]
[null,"　","　",490,null,{"$f":"IF(E503<>\"\",VLOOKUP(E503,採点付!A:C,3,0),\"\")","v":""}]
[null,"　","　",491,null,{"$f":"IF(E504<>\"\",VLOOKUP(E504,採点付!A:C,3,0),\"\")","v":""}]
[null,"　","　",492,null,{"$f":"IF(E505<>\"\",VLOOKUP(E505,採点付!A:C,3,0),\"\")","v":""}]
[null,"　","　",493,null,{"$f":"IF(E506<>\"\",VLOOKUP(E506,採点付!A:C,3,0),\"\")","v":""}]
[null,"　","　",494,null,{"$f":"IF(E507<>\"\",VLOOKUP(E507,採点付!A:C,3,0),\"\")","v":""}]
[null,"　","　",495,null,{"$f":"IF(E508<>\"\",VLOOKUP(E508,採点付!A:C,3,0),\"\")","v":""}]
[null,"　","　",496,null,{"$f":"IF(E509<>\"\",VLOOKUP(E509,採点付!A:C,3,0),\"\")","v":""}]
[null,"　","　",497,null,{"$f":"IF(E510<>\"\",VLOOKUP(E510,採点付!A:C,3,0),\"\")","v":""}]
[null,"　","　",498,null,{"$f":"IF(E511<>\"\",VLOOKUP(E511,採点付!A:C,3,0),\"\")","v":""}]
[null,"　","　",499,null,{"$f":"IF(E512<>\"\",VLOOKUP(E512,採点付!A:C,3,0),\"\")","v":""}]
[null,"　","　",500,null,{"$f":"IF(E513<>\"\",VLOOKUP(E513,採点付!A:C,3,0),\"\")","v":""}]

{"sheet":"商品一覧 (公開模試)","index":4,"n_rows":23,"n_cols":16,"rows_kept":23,"cut":false,"hidden":true,"merged":[[12,0,12,6]]}
["2023年春期　公開模試採点付　商品一覧",null,null,null,null,"割引率"]
[null,null,null,null,null,5,"％引き"]
["商品コード","商品名","種別・分類","標準価格\n（税抜）","標準価格\n（税込）","御社価格\n（税抜）","御社価格\n（税込）","宿題メール配信時期","ECサイトURL(貼り付け用）","ECサイトURL","ECサイト\n発売予定日\n(非表示）","ECサイト\n発売予定日","商品\nパターン","商品カテゴリ","送料\nフラグ","登録項目"]
[501097,"２０２３上期　基本情報技術者　全国統一模擬試験（オンライン）","FE",4000,{"$f":"ROUNDDOWN(D4*110%,0)","v":4400},{"$f":"ROUNDDOWN($D4*(100-$F$2)%,0)","v":3800},{"$f":"ROUNDDOWN($E4*(100-$F$2)%,0)","v":4180},null,"https://www.itec.co.jp/store/products/detail.php?product_id=3247",{"$f":"IF(L4=\"\",I4,IF(L4=\"発売中\",HYPERLINK(I4),\"発売開始までお待ちください\"))","v":"発売開始までお待ちください"},"12 月上旬","12月上旬",28,{"$f":"IFERROR(VLOOKUP($M4,商品パターン!$A:$E,3,FALSE),\"\")","v":"Web完結模擬試験"},{"$f":"IFERROR(VLOOKUP($M4,商品パターン!$A:$E,4,FALSE),\"\")","v":"ー"},{"$f":"IFERROR(VLOOKUP($M4,商品パターン!$A:$E,5,FALSE),\"\")","v":"受講者情報登録・成績管理者設定"}]
[501094,"２０２３　情報セキュリティマネジメント　全国統一模擬試験（オンライン）","SG",4000,4400,3800,4180,null,"https://www.itec.co.jp/store/products/detail.php?product_id=3250",{"$f":"IF(L5=\"\",I5,IF(L5=\"発売中\",HYPERLINK(I5),\"発売開始までお待ちください\"))","v":"発売開始までお待ちください"},"12 月上旬","12月上旬",28,{"$f":"IFERROR(VLOOKUP($M5,商品パターン!$A:$E,3,FALSE),\"\")","v":"Web完結模擬試験"},{"$f":"IFERROR(VLOOKUP($M5,商品パターン!$A:$E,4,FALSE),\"\")","v":"ー"},{"$f":"IFERROR(VLOOKUP($M5,商品パターン!$A:$E,5,FALSE),\"\")","v":"受講者情報登録・成績管理者設定"}]
[501103,"２０２３春　応用情報技術者　全国統一公開模試　（採点付）","AP",6400,7040,{"$f":"ROUNDDOWN($D6*(100-$F$2)%,0)","v":6080},{"$f":"ROUNDDOWN($E6*(100-$F$2)%,0)","v":6688},null,"https://www.itec.co.jp/store/products/detail.php?product_id=3248",{"$f":"IF(L6=\"\",I6,IF(L6=\"発売中\",HYPERLINK(I6),\"発売開始までお待ちください\"))","v":"発売開始までお待ちください"},"12 月上旬","12月上旬",13,{"$f":"IFERROR(VLOOKUP($M6,商品パターン!$A:$E,3,FALSE),\"\")","v":"採点付・受験地"},{"$f":"IFERROR(VLOOKUP($M6,商品パターン!$A:$E,4,FALSE),\"\")","v":"ー"},{"$f":"IFERROR(VLOOKUP($M6,商品パターン!$A:$E,5,FALSE),\"\")","v":"受験地・受講者情報登録・お届先指定（一括・個別→宛先登録)・評価採点票送付先・成績管理者設定（ECサイト申込は備考欄に記入）"}]
[501105,"２０２３春　情報処理安全確保支援士　全国統一公開模試　（採点付）","SC",8000,8800,7600,8360,null,"https://www.itec.co.jp/store/products/detail.php?product_id=3249","発売開始までお待ちください","12 月上旬","12月上旬",13,{"$f":"IFERROR(VLOOKUP($M7,商品パターン!$A:$E,3,FALSE),\"\")","v":"採点付・受験地"},{"$f":"IFERROR(VLOOKUP($M7,商品パターン!$A:$E,4,FALSE),\"\")","v":"ー"},{"$f":"IFERROR(VLOOKUP($M7,商品パターン!$A:$E,5,FALSE),\"\")","v":"受験地・受講者情報登録・お届先指定（一括・個別→宛先登録)・評価採点票送付先・成績管理者設定（ECサイト申込は備考欄に記入）"}]
[501107,"２０２３　ネットワークスペシャリスト　全国統一公開模試　（採点付）","NW",8000,8800,7600,8360,null,"https://www.itec.co.jp/store/products/detail.php?product_id=3347","発売開始までお待ちください","12 月上旬","12月上旬",13,{"$f":"IFERROR(VLOOKUP($M8,商品パターン!$A:$E,3,FALSE),\"\")","v":"採点付・受験地"},{"$f":"IFERROR(VLOOKUP($M8,商品パターン!$A:$E,4,FALSE),\"\")","v":"ー"},{"$f":"IFERROR(VLOOKUP($M8,商品パターン!$A:$E,5,FALSE),\"\")","v":"受験地・受講者情報登録・お届先指定（一括・個別→宛先登録)・評価採点票送付先・成績管理者設定（ECサイト申込は備考欄に記入）"}]
[501109,"２０２３　ＩＴストラテジスト　全国統一公開模試　（採点付）","ST",10000,11000,9500,10450,null,"https://www.itec.co.jp/store/products/detail.php?product_id=3393","発売開始までお待ちください","12 月上旬","12月上旬",13,{"$f":"IFERROR(VLOOKUP($M9,商品パターン!$A:$E,3,FALSE),\"\")","v":"採点付・受験地"},{"$f":"IFERROR(VLOOKUP($M9,商品パターン!$A:$E,4,FALSE),\"\")","v":"ー"},{"$f":"IFERROR(VLOOKUP($M9,商品パターン!$A:$E,5,FALSE),\"\")","v":"受験地・受講者情報登録・お届先指定（一括・個別→宛先登録)・評価採点票送付先・成績管理者設定（ECサイト申込は備考欄に記入）"}]
[501111,"２０２３　システムアーキテクト　全国統一公開模試　（採点付）","SA",10000,11000,9500,10450,null,"https://www.itec.co.jp/store/products/detail.php?product_id=3366","発売開始までお待ちください","12 月上旬","12月上旬",13,{"$f":"IFERROR(VLOOKUP($M10,商品パターン!$A:$E,3,FALSE),\"\")","v":"採点付・受験地"},{"$f":"IFERROR(VLOOKUP($M10,商品パターン!$A:$E,4,FALSE),\"\")","v":"ー"},{"$f":"IFERROR(VLOOKUP($M10,商品パターン!$A:$E,5,FALSE),\"\")","v":"受験地・受講者情報登録・お届先指定（一括・個別→宛先登録)・評価採点票送付先・成績管理者設定（ECサイト申込は備考欄に記入）"}]
[501113,"２０２３　ＩＴサービスマネージャ　全国統一公開模試　（採点付）","SM",10000,11000,9500,10450,null,"https://www.itec.co.jp/store/products/detail.php?product_id=3373","発売開始までお待ちください","12 月上旬","12月上旬",13,{"$f":"IFERROR(VLOOKUP($M11,商品パターン!$A:$E,3,FALSE),\"\")","v":"採点付・受験地"},{"$f":"IFERROR(VLOOKUP($M11,商品パターン!$A:$E,4,FALSE),\"\")","v":"ー"},{"$f":"IFERROR(VLOOKUP($M11,商品パターン!$A:$E,5,FALSE),\"\")","v":"受験地・受講者情報登録・お届先指定（一括・個別→宛先登録)・評価採点票送付先・成績管理者設定（ECサイト申込は備考欄に記入）"}]
[]
["「はじめにお読み下さい」の内容をご確認いただき承諾の上、購入申込みをお願いいたします。\n"]
[]
["【会場試験開催規定】"]
["弊社は、全国統一公開模試会場試験及び基本情報技術者午前免除制度の修了試験において、次号の一つにでも該当する場合は、"]
["申込者及び受講生様に何ら告知することなく、会場試験の全部または一部の開催を中止できるものとします。"]
["この場合、申込者及び受講生様に生じた損害について、弊社は一切の責任を負いません。"]
[]
["１．火災、停電、感染症リスク等により、会場試験の提供ができなくなった場合"]
["２．地震、噴火、洪水、津波等の天災により会場試験の提供ができなくなった場合"]
["３．戦争、暴動、騒乱、労働争議等により会場試験の提供ができなくなった場合"]
["４．会場試験の運営に支障が生じると弊社が判断した場合"]

{"sheet":"商品パターン","index":5,"n_rows":31,"n_cols":5,"rows_kept":31,"cut":false,"hidden":true,"merged":[]}
[]
[]
["項番","商品例","商品カテゴリ","送料フラグ","登録項目"]
[1,"IP模擬試験（WEB版）・FE　AP高度共通午前レベルチェックテスト","Web完結テスト","ー","受講者情報登録・成績管理者設定"]
[2,"IP・AP・高度　プラクティスコース\n初ＡＰ受験者向け　Ｌ３テクノロジ系基礎知識習得コース","情処対策（修了証無・模試無）","ー","受講者情報登録・成績管理者設定"]
[3,"AP高度　プラクティスコース　（模試付）","情処対策（修了証無・模試有）","ー","受験地・受講者情報登録・お届先指定（一括・個別→宛先登録)・評価採点票送付先・成績管理者設定"]
[4,"IP　スタンダードコース\n論文対策コース　（模試なし）","情処対策（修了証有・模試無）","ー","受講者情報登録・お届先指定（一括・個別→宛先登録)・成績管理者設定・修了証送付先・修了条件"]
[5,"APプレミアム　SGAP高度スタンダード　\nAP午後　高度午前Ⅰ免除　高度午後Ⅰ・Ⅱ　論文対策コース","情処対策（修了証有・模試有）","ー","受験地・受講者情報登録・お届先指定（一括・個別→宛先登録)・評価採点票送付先・成績管理者設定・修了証送付先・修了条件"]
[6,"FE　プラクティスコース","FE対策（修了証無・模試無）","ー","受講者情報登録・成績管理者設定・成績管理者設定"]
[7,"FE　プラクティスコース　（模試付）","FE対策（修了証無・模試有）","ー","受験地・受講者情報登録・お届先指定（一括・個別→宛先登録)・評価採点票送付先・成績管理者設定"]
[8,"FE　プレミアム・スタンダード・午後対策コース","FE対策（修了証有・模試有）","ー","受験地・言語選択・受講者情報登録・お届先指定（一括・個別→宛先登録)・評価採点票送付先・成績管理者設定・修了証送付先・修了条件"]
[9,"FE　午前免除突破","FE午前免除突破","ー","受講者情報登録・お届先指定（一括・個別→宛先登録)・成績管理者設定"]
[10,"FE　午前免除突破+午後試験対策コース","FE午前免除突破+午後対策","ー","受験地・言語選択・受講者情報登録・お届先指定（一括・個別→宛先登録)・評価採点票送付先・成績管理者設定・修了証送付先・修了条件"]
[11,"FE午前免除修了試験","午前免除修了試験","ー","受験地・受講者情報登録・宛先登録・評価採点票送付先・成績管理者設定"]
[12,"宿題メール","宿題メール","ー","受講者情報登録"]
[13,"公開模試　（採点付）自宅・会場","採点付・受験地","ー","受験地・受講者情報登録・お届先指定（一括・個別→宛先登録)・評価採点票送付先・成績管理者設定（ECサイト申込は備考欄に記入）"]
[14,"公開模試　（採点なし）","採点無","送料","お届先指定（一括・個別→宛先登録)"]
[15,"合格ゼミ・実践力強化ゼミ","オープンセミナー","ー","受講者情報登録"]
[16,"合格ゼミ（使用教材付）","オープンセミナー（使用教材付）","送料","受講者情報登録・お届先指定（一括・個別→宛先登録)"]
[17,"書籍","書籍","送料","お届先指定（一括・個別→宛先登録)"]
[18,"ＰＭＰ（R)試験対策コース（第6版対応）","PM向け　オンラインサービス","ー","受講者情報登録・お届先指定（一括・個別→宛先登録)・成績管理者設定・修了証送付先・修了条件"]
[19,"プロジェクトマネージャ養成コースなど","PM向け　オンラインサービス","ー","受講者情報登録・成績管理者設定・修了証送付先・修了条件"]
[20,"コンピュータシステムとアルゴリズムの基礎　 通信教育コース（確認テスト付）","IT基礎　通信教育","ー","受講者情報登録・お届先指定（一括・個別→宛先登録)・成績管理者設定・修了証送付先・修了条件"]
[21,"コンピュータシステムとアルゴリズムの基礎　 ＷＥＢコース　など","IT基礎　オンラインサービス","ー","受講者情報登録・お届先指定（一括・個別→宛先登録)・成績管理者設定・修了証送付先・修了条件"]
[22,"PCI DSS 3.2.1 教育トレーニング","その他オンラインサービス","ー","受講者情報登録・成績管理者設定"]
[23,"内定者コミュニティサイト","その他オンラインサービス","ー","受講者情報登録・成績管理者設定"]
[24,"受講者フォローメール","その他オンラインサービス","ー","受講者情報登録"]
[25,"i-workout","IT基礎　オンラインサービス","ー","受講者情報登録"]
[26,"送料（手数料込）","その他","送料"]
[27,"2017秋　徹底解説　基本情報技術者　本試験問題　PDF版","書籍（PDF版）","ー","受講者情報登録"]
[28,"2021下期　基本情報技術者　全国統一模擬試験（オンライン）","Web完結模擬試験","ー","受講者情報登録・成績管理者設定"]

{"sheet":"発売日関数用","index":6,"n_rows":70,"n_cols":4,"rows_kept":70,"cut":false,"hidden":true,"merged":[]}
["リストの値","日にち設定","表示する値"]
["8月初旬","2022-08-02",{"$f":"IF(B2>$B$43,A2,\"発売中\")","v":"発売中"},"第1週火曜日"]
["8月上旬","2022-08-05","発売中","第1週金曜日"]
["8月中旬","2022-08-15","発売中","第3週月曜日"]
["8月下旬","2022-08-22","発売中","第4週月曜日"]
["9月初旬","2022-09-02","発売中","第1週金曜日"]
["9月上旬","2022-09-05","発売中","第1週月曜日"]
["9月中旬","2022-09-12","発売中","第2週月曜日"]
["9月下旬","2022-09-20","発売中","第3週月曜日が祝日の為、翌火曜日"]
["10月上旬","2022-10-03","発売中","第1週月曜日"]
["10月中旬","2022-10-10","発売中","第2週月曜日"]
["10月下旬","2022-10-21","発売中","第3週月曜日"]
["11月上旬","2022-11-07","発売中","第2週月曜日"]
["11月中旬","2022-11-14","発売中","第3週月曜日"]
["11月下旬","2022-11-21","発売中","第4週月曜日"]
["12月上旬","2022-12-05","発売中","第1週月曜日"]
["12月中旬","2022-12-12","発売中","第2週月曜日"]
["12月下旬","2022-12-19","発売中","第3週月曜日"]
["1月上旬","2023-01-10","発売中","第1週月曜日が祝日の為、翌営業日"]
["1月中旬","2023-01-16","発売中","第3週月曜日"]
["1月下旬","2023-01-23","発売中","第4週月曜日"]
["2月上旬","2023-02-06","発売中","第1週月曜日"]
["2月中旬","2023-02-13","発売中","第2週月曜日"]
["2月下旬","2023-02-20","2月下旬","第3週月曜日"]
["3月初旬","2023-03-03","3月初旬","第1週金曜日"]
["3月上旬","2023-03-06","3月上旬","第1週月曜日"]
["3月中旬","2023-03-13","3月中旬","第2週月曜日"]
["3月下旬","2023-03-20","3月下旬","第3週月曜日"]
["4月上旬","2023-04-10","4月上旬","第2週月曜日"]
["4月中旬","2023-04-17","4月中旬","第3週月曜日"]
["4月下旬","2023-04-24","4月下旬","第4週月曜日"]
["5月上旬","2023-05-08","5月上旬","第2週月曜日"]
["5月中旬","2023-05-15","5月中旬","第3週月曜日"]
["5月下旬","2023-05-22","5月下旬","第4週月曜日"]
["6月上旬","2023-06-05","6月上旬","第1週月曜日"]
["6月中旬","2023-06-12","6月中旬","第2週月曜日"]
["6月下旬","2023-06-19","6月下旬","第3週月曜日"]
["6月末","2023-06-29","6月末","末日"]
["7月初旬","2023-07-03","7月初旬","第1週月曜日"]
["7月上旬","2023-07-10","7月上旬","第2週月曜日"]
["7月中旬","2023-07-17","7月中旬","第3週月曜日"]
["7月下旬","2023-07-24","7月下旬","第4週月曜日"]
["発売中",{"$f":"TODAY()","v":"2023-02-14"},"発売中"]
[]
[]
[]
[]
[]
[]
[]
[]
[]
[]
[]
[]
[]
[]
[]
[]
[]
[]
[]
[]
[]
[]
[]
[]
[]
[]
["発売中",{"$f":"TODAY()","v":"2023-02-14"},"発売中"]